Workbook
Name capex_belt: #REF!
Name capex_cent: #REF!
Name CAPEX_DAF: #REF!
Name CAPEX_Nstrip: #REF!
Name cost_ch_DAF: 'RR pre-treatment MF'!$Y$27:$Z$34
Name cost_ch_DAF: #REF!
Name cost_evap: #REF!
Name cost_FBD: #REF!
Name cost_IX: #REF!
Name cost_MF: #REF!
Name cost_Nstripgyps: #REF!
Name cost_nstripgypsPT: #REF!
Name cost_repeatdryer: #REF!
Name cost_RO: #REF!
Name cost_screw: #REF!
Name cost_sepADD: #REF!
Name costs_repeat: #REF!
Name mass_gyps: #REF!
Name mass_NH42SO4: #REF!
Name Pstrip_aciddilSF: #REF!
Name Pstrip_CaOH2: #REF!
Name Pstrip_CAP: #REF!
Name Pstrip_CaSsludge: #REF!
Name Pstrip_dil: #REF!
Name Pstrip_driedCAP: #REF!
Name Pstrip_H2SO4: #REF!
Name Pstrip_LF1: #REF!
Name Pstrip_LF2: #REF!
Name Pstrip_LF3: #REF!
Name Pstrip_PlowSI: #REF!
Name Pstrip_water: #REF!
Name RR_dry_dried: #REF!
Name RR_dry_water: #REF!
Name RR_evap_conc: #REF!
Name RR_evap_cond: #REF!
Name RR_gstripscrub_AS: #REF!
Name RR_gstripscrub_CC: #REF!
Name RR_gstripscrub_NC: #REF!
Name RR_gstripscrub_Ndig: #REF!
Name RR_IX_salts: #REF!
Name RR_IX_water: #REF!
Name RR_MF_perm: #REF!
Name RR_MF_sol: #REF!
Name RR_RO_conc: #REF!
Name RR_RO_perm: #REF!
Name RR_sep: #REF!
Name RR_stripscrub_ASS: #REF!
Name RR_stripscrub_Ndig: #REF!
Name sep_ADD: #REF!
Name sep_ADDcalc: #REF!
Name stripscrub_acid: #REF!
Name stripscrub_ASdil: #REF!

Sheet parameters
A2: water | B2: Total water content
A3: Total DM | B3: Total Dry matter or total solids
A4: DM (inorg) | B4: Total inorganic dry matter, inorganic salts, ash or non-volatile solids
A5: DM (inorg, susp) | B5: Insoluble/suspended inorganic dry matter, inorganic salts, ash or non-volatile solids
A6: DM (inorg, diss) | B6: Dissolved inorganic dry matter, inorganic salts, ash or non-volatile solids e.g. ions, minerals
A7: DM (org) | B7: Total organic dry matter, organic matter, total volatile solids
A8: DM (org, susp) | B8: Insoluble/suspended organic dry matter, organic material, volatile solids
A9: DM (org, diss) | B9: Dissolved organic dry matter, organic material, volatile solids organic compounds, e.g. BOD, COD
A10: N total | B10: Total nitrogen
A11: N (inorg) | B11: Total inorganic nitrogen, nitrogen salts
A12: N (inorg, susp) | B12: Insoluble/suspended N salts
A13: N (inorg, diss) | B13: Dissolved inorganic nitrogen, mineral nitrogen, e.g. NH4-N, NO3-N, NO2-N. In the NUTRICAS Tool, NH4-N is assumed to be N (inorg, diss). NO3-N and NO2-N are not taken into account here, because they are rarely measured in feedstocks and digestate.
... A27: K (inorg, diss) | B27: Dissolved inorganic potassium, e.g. soluble K salts, K-ions
A28: K (org) | B28: Organic potassium | C28: In the NUTRICAS Tool, these parameters are considered as negligible.
A29: K (org, susp) | B29: Suspended organic potassium, K complexed in or bound to organic matter
A30: K (org, diss) | B30: Dissolved organic potassium, k bound to organic compounds that are small enough to be regarded as soluble

Sheet Decanter centrifuge
B1: Fill in boxes | C1: Input | F1: Decanter centrifuge | H1: solid fraction | J1: liquid fraction
B2: Composition input (e.g. digestate) | C2: Mass | D2: Calculated concentration | E2: Additive/no additive | F2: Separation efficiency (%) to Solid Fraction | G2: Separation efficiency (%) to Liquid Fraction | H2: mass | I2: concentration | J2: mass | K2: concentration
D3: g/kg | I3: g/kg | K3: g/kg
A4: mass (kg/year) | B4: 40000 | C4: =B4 -> 40000 | E4: Without additive | F4: 0.3 | G4: =100%-F4 -> 0.7 | H4: =C4*F4 -> 12000 | J4: =C4*G4 -> 28000
A5: Water (g) | C5: =(C4*1000)-C6 -> 36000000 | D5: =C5/C4 -> 900 | F5: =(H5/C5) -> 0.25888889 | G5: =100%-F5 -> 0.74111111 | H5: =(H4*1000)-H6 -> 9320000 | I5: =H5/$H$4 -> 776.66667 | J5: =(J4*1000)-J6 -> 26680000 | K5: =J5/$J$4 -> 952.85714
A6: Total DM (g) | B6: 100 | C6: =C7+C10 -> 4000000 | D6: =C6/C4 -> 100 | F6: =(H6/C6) -> 0.67 | G6: =J6/C6 -> 0.33 | H6: =H7+H10 -> 2680000 | I6: =H6/$H$4 -> 223.33333 | J6: =J7+J10 -> 1320000 | K6: =J6/$J$4 -> 47.142857
A7: DM (inorg) (g) | B7: =B6-B10 -> 40 | C7: =C8+C9 -> 1600000 | D7: =C7/C4 -> 40 | F7: =(H7/C7) -> 0.5 | G7: =J7/C7 -> 0.5 | H7: =H8+H9 -> 800000 | I7: =H7/$H$4 -> 66.666667 | J7: =J8+J9 -> 800000 | K7: =J7/$J$4 -> 28.571429
A8: DM (inorg, susp) (g) | C8: =D8*C4 -> 800000 | D8: =1/2*B7 -> 20 | F8: 0.8 | G8: =100%-F8 -> 0.2 | H8: =C8*F8 -> 640000 | I8: =H8/$H$4 -> 53.333333 | J8: =C8*G8 -> 160000 | K8: =J8/$J$4 -> 5.7142857
A9: DM (inorg, diss) (g) | C9: =D9*C4 -> 800000 | D9: =1/2*B7 -> 20 | F9: 0.2 | G9: =100%-F9 -> 0.8 | H9: =C9*F9 -> 160000 | I9: =H9/$H$4 -> 13.333333 | J9: =C9*G9 -> 640000 | K9: =J9/$J$4 -> 22.857143
A10: DM (org) (g) | B10: =0.6*B6 -> 60 | C10: =C11+C12 -> 2400000 | D10: =C10/C4 -> 60 | F10: =(H10/C10) -> 0.78333333 | G10: =J10/C10 -> 0.21666667 | H10: =H11+H12 -> 1880000 | I10: =H10/$H$4 -> 156.66667 | J10: =J11+J12 -> 520000 | K10: =J10/$J$4 -> 18.571429
A11: DM (org, susp) (g) | C11: =D11*C4 -> 2000000 | D11: =5/6*B10 -> 50 | F11: 0.9 | G11: =100%-F11 -> 0.1 | H11: =C11*F11 -> 1800000 | I11: =H11/$H$4 -> 150 | J11: =C11*G11 -> 200000 | K11: =J11/$J$4 -> 7.1428571
A12: DM (org, diss) (g) | C12: =D12*C4 -> 400000 | D12: =1/6*B10 -> 10 | F12: 0.2 | G12: =100%-F12 -> 0.8 | H12: =C12*F12 -> 80000 | I12: =H12/$H$4 -> 6.6666667 | J12: =C12*G12 -> 320000 | K12: =J12/$J$4 -> 11.428571
A13: N total (g) | B13: 6.7 | C13: =C14+C17 -> 268000 | D13: =C13/C4 -> 6.7 | F13: =(H13/C13) -> 0.33630536 | G13: =J13/C13 -> 0.66369464 | H13: =H14+H17 -> 90129.836 | I13: =H13/$H$4 -> 7.5108197 | J13: =J14+J17 -> 177870.16 | K13: =J13/$J$4 -> 6.3525058
A14: N (inorg) (g) | B14: =D16/0.94 -> 3.9361702 | C14: =C15+C16 -> 157446.81 | D14: =C14/C4 -> 3.9361702 | F14: =(H14/C14) -> 0.28535556 | G14: =J14/C14 -> 0.71464444 | H14: =H15+H16 -> 44928.322 | I14: =H14/$H$4 -> 3.7440268 | J14: =J15+J16 -> 112518.49 | K14: =J14/$J$4 -> 4.0185174
A15: N (inorg, susp) (g) | C15: =D15*C4 -> 9446.8085 | D15: =B14-D16 -> 0.23617021 | F15: 0.7 | G15: =100%-F15 -> 0.3 | H15: =C15*F15 -> 6612.766 | I15: =H15/$H$4 -> 0.55106383 | J15: =C15*G15 -> 2834.0426 | K15: =J15/$J$4 -> 0.10121581
A16: N (inorg, diss) (g) | B16: 3.7 | C16: =D16*C4 -> 148000 | D16: =B16 -> 3.7 | F16: =$F$5 -> 0.25888889 | G16: =100%-F16 -> 0.74111111 | H16: =C16*F16 -> 38315.556 | I16: =H16/$H$4 -> 3.192963 | J16: =C16*G16 -> 109684.44 | K16: =J16/$J$4 -> 3.9173016
A17: N (org) (g) | B17: =B13-B14 -> 2.7638298 | C17: =C18+C19 -> 110553.19 | D17: =C17/C4 -> 2.7638298 | F17: =(H17/C17) -> 0.40886667 | G17: =J17/C17 -> 0.59113333 | H17: =H18+H19 -> 45201.515 | I17: =H17/$H$4 -> 3.7667929 | J17: =J18+J19 -> 65351.677 | K17: =J17/$J$4 -> 2.3339884
A18: N (org, susp) (g) | C18: =D18*C4 -> 37588.085 | D18: =0.34*B17 -> 0.93970213 | F18: 0.7 | G18: =100%-F18 -> 0.3 | H18: =C18*F18 -> 26311.66 | I18: =H18/$H$4 -> 2.1926383 | J18: =C18*G18 -> 11276.426 | K18: =J18/$J$4 -> 0.40272948
A19: N (org, diss) (g) | C19: =D19*C4 -> 72965.106 | D19: =0.66*B17 -> 1.8241277 | F19: =$F$5 -> 0.25888889 | G19: =100%-F19 -> 0.74111111 | H19: =C19*F19 -> 18889.855 | I19: =H19/$H$4 -> 1.5741546 | J19: =C19*G19 -> 54075.251 | K19: =J19/$J$4 -> 1.931259
A20: Ptotal (g) | B20: 1.8 | C20: =C21+C24 -> 72000 | D20: =C20/C4 -> 1.8 | F20: =(H20/C20) -> 0.58972222 | G20: =J20/C20 -> 0.41027778 | H20: =H21+H24 -> 42460 | I20: =H20/$H$4 -> 3.5383333 | J20: =J21+J24 -> 29540 | K20: =J20/$J$4 -> 1.055
A21: P (inorg) (g) | C21: =C22+C23 -> 3600 | D21: =C21/C4 -> 0.09 | F21: =(H21/C21) -> 0.61177778 | G21: =J21/C21 -> 0.38822222 | H21: =H22+H23 -> 2202.4 | I21: =H21/$H$4 -> 0.18353333 | J21: =J22+J23 -> 1397.6 | K21: =J21/$J$4 -> 0.049914286
A22: P (inorg, susp) (g) | C22: =D22*C4 -> 2880 | D22: =0.04*B20 -> 0.072 | F22: 0.7 | G22: =100%-F22 -> 0.3 | H22: =C22*F22 -> 2016 | I22: =H22/$H$4 -> 0.168 | J22: =C22*G22 -> 864 | K22: =J22/$J$4 -> 0.030857143
A23: P (inorg, diss) (g) | B23: 0.059 | C23: =D23*C4 -> 720 | D23: =0.01*B20 -> 0.018 | F23: =$F$5 -> 0.25888889 | G23: =100%-F23 -> 0.74111111 | H23: =C23*F23 -> 186.4 | I23: =H23/$H$4 -> 0.015533333 | J23: =C23*G23 -> 533.6 | K23: =J23/$J$4 -> 0.019057143
A24: P (org) (g) | C24: =C25+C26 -> 68400 | D24: =C24/C4 -> 1.71 | F24: =(H24/C24) -> 0.5885614 | G24: =J24/C24 -> 0.4114386 | H24: =H25+H26 -> 40257.6 | I24: =H24/$H$4 -> 3.3548 | J24: =J25+J26 -> 28142.4 | K24: =J24/$J$4 -> 1.0050857
A25: P (org, susp) (g) | C25: =D25*C4 -> 51120 | D25: =0.71*B20 -> 1.278 | F25: 0.7 | G25: =100%-F25 -> 0.3 | H25: =C25*F25 -> 35784 | I25: =H25/$H$4 -> 2.982 | J25: =C25*G25 -> 15336 | K25: =J25/$J$4 -> 0.54771429
A26: P (org, diss) (g) | C26: =D26*C4 -> 17280 | D26: =0.24*B20 -> 0.432 | F26: =$F$5 -> 0.25888889 | G26: =100%-F26 -> 0.74111111 | H26: =C26*F26 -> 4473.6 | I26: =H26/$H$4 -> 0.3728 | J26: =C26*G26 -> 12806.4 | K26: =J26/$J$4 -> 0.45737143
A27: K total (g) | B27: =6.2*0.83 -> 5.146 | C27: =C28 -> 205840 | D27: =C27/C4 -> 5.146 | F27: =(H27/C27) -> 0.26464444 | G27: =J27/C27 -> 0.73535556 | H27: =H28+H31 -> 54474.412 | I27: =H27/$H$4 -> 4.5395344 | J27: =J28+J31 -> 151365.59 | K27: =J27/$J$4 -> 5.4059138
A28: K (inorg) (g) | C28: =C29+C30 -> 205840 | D28: =C28/C4 -> 5.146 | F28: =(H28/C28) -> 0.26464444 | G28: =J28/C28 -> 0.73535556 | H28: =H29+H30 -> 54474.412 | I28: =H28/$H$4 -> 4.5395344 | J28: =J29+J30 -> 151365.59 | K28: =J28/$J$4 -> 5.4059138
A29: K (inorg, susp) (g) | C29: =D29*C4 -> 28817.6 | D29: =0.14*B27 -> 0.72044 | F29: 0.3 | G29: =100%-F29 -> 0.7 | H29: =C29*F29 -> 8645.28 | I29: =H29/$H$4 -> 0.72044 | J29: =C29*G29 -> 20172.32 | K29: =J29/$J$4 -> 0.72044
A30: K (inorg, diss) (g) | C30: =D30*C4 -> 177022.4 | D30: =0.86*B27 -> 4.42556 | F30: =$F$5 -> 0.25888889 | G30: =100%-F30 -> 0.74111111 | H30: =C30*F30 -> 45829.132 | I30: =H30/$H$4 -> 3.8190944 | J30: =C30*G30 -> 131193.27 | K30: =J30/$J$4 -> 4.6854738
E34: =CONCATENATE(E35,"% polymer solution") -> 0,5% polymer solution
E35: 0.5 | F35: %
E36: =E35*10 -> 5 | F36: g powder polymer/L water
E37: 1 | F37: kg/l
E38: 100 | F38: =CONCATENATE("L ",E34,"/ton input") -> L 0,5% polymer solution/ton input
A39: mass (kg/year) | B39: 40000 | C39: =B39 -> 40000 | E39: =(E38*E37/1000)*C39 -> 4000 | F39: 0.28 | G39: =100%-F39 -> 0.72 | H39: =($C39+$E39)*F39 -> 12320 | J39: =($C39+$E39)*G39 -> 31680
A40: Water (g) | C40: =(C39*1000)-C41 -> 34400000 | D40: =C40/C39 -> 860 | E40: =(E39*1000)-E41 -> 3980000 | F40: =(H40/C40) -> 0.2452907 | G40: =100%-F40 -> 0.7547093 | H40: =(H39*1000)-H41 -> 8438000 | I40: =H39/$H$39 -> 1 | J40: =(J39*1000)-J41 -> 29942000 | K40: =J40/$J$39 -> 945.13889
A41: Total DM (g) | B41: 140 | C41: =C42+C45 -> 5600000 | D41: =C41/C39 -> 140 | E41: =E42+E45 -> 20000 | F41: =(H41/C41) -> 0.69321429 | G41: =J41/C41 -> 0.31035714 | H41: =H42+H45 -> 3882000 | I41: =H41/$H$39 -> 315.0974 | J41: =J42+J45 -> 1738000 | K41: =J41/$J$39 -> 54.861111
A42: DM (inorg) (g) | B42: =B41-B45 -> 56 | C42: =C43+C44 -> 2240000 | D42: =C42/C39 -> 56 | E42: =E43+E44 -> 0 | F42: =(H42/C42) -> 0.525 | G42: =J42/C42 -> 0.475 | H42: =H43+H44 -> 1176000 | I42: =H42/$H$39 -> 95.454545 | J42: =J43+J44 -> 1064000 | K42: =J42/$J$39 -> 33.585859
A43: DM (inorg, susp) (g) | C43: =D43*C39 -> 1120000 | D43: =1/2*B42 -> 28 | E43: 0 | F43: 0.8 | G43: =100%-F43 -> 0.2 | H43: =($C43+$E43)*F43 -> 896000 | I43: =H43/$H$39 -> 72.727273 | J43: =($C43+$E43)*G43 -> 224000 | K43: =J43/$J$39 -> 7.0707071
...

Sheet Screw press
B1: Fill in boxes | C1: Input | F1: Screw press | H1: solid fraction | J1: liquid fraction
B2: Composition input (e.g. digestate) | C2: Mass | D2: Calculated concentration | E2: Additive/no additive | F2: Separation efficiency (%) to Solid Fraction | G2: Separation efficiency (%) to Liquid Fraction | H2: mass | I2: concentration | J2: mass | K2: concentration
D3: g/kg | I3: g/kg | K3: g/kg
A4: mass (kg/year) | B4: 40000 | C4: =B4 -> 40000 | E4: Without additive | F4: 0.3 | G4: =100%-F4 -> 0.7 | H4: =C4*F4 -> 12000 | J4: =C4*G4 -> 28000
A5: Water (g) | C5: =(C4*1000)-C6 -> 36000000 | D5: =C5/C4 -> 900 | F5: =(H5/C5) -> 0.27 | G5: =100%-F5 -> 0.73 | H5: =(H4*1000)-H6 -> 9720000 | I5: =H5/$H$4 -> 810 | J5: =(J4*1000)-J6 -> 26280000 | K5: =J5/$J$4 -> 938.57143
A6: Total DM (g) | B6: 100 | C6: =C7+C10 -> 4000000 | D6: =C6/C4 -> 100 | F6: =(H6/C6) -> 0.57 | G6: =J6/C6 -> 0.43 | H6: =H7+H10 -> 2280000 | I6: =H6/$H$4 -> 190 | J6: =J7+J10 -> 1720000 | K6: =J6/$J$4 -> 61.428571
A7: DM (inorg) (g) | B7: =B6-B10 -> 40 | C7: =C8+C9 -> 1600000 | D7: =C7/C4 -> 40 | F7: =(H7/C7) -> 0.4 | G7: =J7/C7 -> 0.6 | H7: =H8+H9 -> 640000 | I7: =H7/$H$4 -> 53.333333 | J7: =J8+J9 -> 960000 | K7: =J7/$J$4 -> 34.285714
A8: DM (inorg, susp) (g) | C8: =D8*C4 -> 800000 | D8: =1/2*B7 -> 20 | F8: 0.7 | G8: =100%-F8 -> 0.3 | H8: =C8*F8 -> 560000 | I8: =H8/$H$4 -> 46.666667 | J8: =C8*G8 -> 240000 | K8: =J8/$J$4 -> 8.5714286
A9: DM (inorg, diss) (g) | C9: =D9*C4 -> 800000 | D9: =1/2*B7 -> 20 | F9: 0.1 | G9: =100%-F9 -> 0.9 | H9: =C9*F9 -> 80000 | I9: =H9/$H$4 -> 6.6666667 | J9: =C9*G9 -> 720000 | K9: =J9/$J$4 -> 25.714286
A10: DM (org) (g) | B10: =0.6*B6 -> 60 | C10: =C11+C12 -> 2400000 | D10: =C10/C4 -> 60 | F10: =(H10/C10) -> 0.68333333 | G10: =J10/C10 -> 0.31666667 | H10: =H11+H12 -> 1640000 | I10: =H10/$H$4 -> 136.66667 | J10: =J11+J12 -> 760000 | K10: =J10/$J$4 -> 27.142857
A11: DM (org, susp) (g) | C11: =D11*C4 -> 2000000 | D11: =5/6*B10 -> 50 | F11: 0.8 | G11: =100%-F11 -> 0.2 | H11: =C11*F11 -> 1600000 | I11: =H11/$H$4 -> 133.33333 | J11: =C11*G11 -> 400000 | K11: =J11/$J$4 -> 14.285714
A12: DM (org, diss) (g) | C12: =D12*C4 -> 400000 | D12: =1/6*B10 -> 10 | F12: 0.1 | G12: =100%-F12 -> 0.9 | H12: =C12*F12 -> 40000 | I12: =H12/$H$4 -> 3.3333333 | J12: =C12*G12 -> 360000 | K12: =J12/$J$4 -> 12.857143
A13: N total (g) | B13: 6.7 | C13: =C14+C17 -> 268000 | D13: =C13/C4 -> 6.7 | F13: =(H13/C13) -> 0.34546643 | G13: =J13/C13 -> 0.65453357 | H13: =H14+H17 -> 92585.004 | I13: =H13/$H$4 -> 7.715417 | J13: =J14+J17 -> 175415 | K13: =J13/$J$4 -> 6.2648213
A14: N (inorg) (g) | B14: =D16/0.94 -> 3.9361702 | C14: =C15+C16 -> 157446.81 | D14: =C14/C4 -> 3.9361702 | F14: =(H14/C14) -> 0.2958 | G14: =J14/C14 -> 0.7042 | H14: =H15+H16 -> 46572.766 | I14: =H14/$H$4 -> 3.8810638 | J14: =J15+J16 -> 110874.04 | K14: =J14/$J$4 -> 3.9597872
A15: N (inorg, susp) (g) | C15: =D15*C4 -> 9446.8085 | D15: =B14-D16 -> 0.23617021 | F15: 0.7 | G15: =100%-F15 -> 0.3 | H15: =C15*F15 -> 6612.766 | I15: =H15/$H$4 -> 0.55106383 | J15: =C15*G15 -> 2834.0426 | K15: =J15/$J$4 -> 0.10121581
A16: N (inorg, diss) (g) | B16: 3.7 | C16: =D16*C4 -> 148000 | D16: =B16 -> 3.7 | F16: =$F$5 -> 0.27 | G16: =100%-F16 -> 0.73 | H16: =C16*F16 -> 39960 | I16: =H16/$H$4 -> 3.33 | J16: =C16*G16 -> 108040 | K16: =J16/$J$4 -> 3.8585714
A17: N (org) (g) | B17: =B13-B14 -> 2.7638298 | C17: =C18+C19 -> 110553.19 | D17: =C17/C4 -> 2.7638298 | F17: =(H17/C17) -> 0.4162 | G17: =J17/C17 -> 0.5838 | H17: =H18+H19 -> 46012.238 | I17: =H17/$H$4 -> 3.8343532 | J17: =J18+J19 -> 64540.953 | K17: =J17/$J$4 -> 2.305034
A18: N (org, susp) (g) | C18: =D18*C4 -> 37588.085 | D18: =0.34*B17 -> 0.93970213 | F18: 0.7 | G18: =100%-F18 -> 0.3 | H18: =C18*F18 -> 26311.66 | I18: =H18/$H$4 -> 2.1926383 | J18: =C18*G18 -> 11276.426 | K18: =J18/$J$4 -> 0.40272948
A19: N (org, diss) (g) | C19: =D19*C4 -> 72965.106 | D19: =0.66*B17 -> 1.8241277 | F19: =$F$5 -> 0.27 | G19: =100%-F19 -> 0.73 | H19: =C19*F19 -> 19700.579 | I19: =H19/$H$4 -> 1.6417149 | J19: =C19*G19 -> 53264.528 | K19: =J19/$J$4 -> 1.9023046
A20: Ptotal (g) | B20: 1.8 | C20: =C21+C24 -> 72000 | D20: =C20/C4 -> 1.8 | F20: =(H20/C20) -> 0.5135 | G20: =J20/C20 -> 0.4865 | H20: =H21+H24 -> 36972 | I20: =H20/$H$4 -> 3.081 | J20: =J21+J24 -> 35028 | K20: =J20/$J$4 -> 1.251
A21: P (inorg) (g) | C21: =C22+C23 -> 3600 | D21: =C21/C4 -> 0.09 | F21: =(H21/C21) -> 0.454 | G21: =J21/C21 -> 0.546 | H21: =H22+H23 -> 1634.4 | I21: =H21/$H$4 -> 0.1362 | J21: =J22+J23 -> 1965.6 | K21: =J21/$J$4 -> 0.0702
A22: P (inorg, susp) (g) | C22: =D22*C4 -> 2880 | D22: =0.04*B20 -> 0.072 | F22: 0.5 | G22: =100%-F22 -> 0.5 | H22: =C22*F22 -> 1440 | I22: =H22/$H$4 -> 0.12 | J22: =C22*G22 -> 1440 | K22: =J22/$J$4 -> 0.051428571
A23: P (inorg, diss) (g) | B23: 0.059 | C23: =D23*C4 -> 720 | D23: =0.01*B20 -> 0.018 | F23: =$F$5 -> 0.27 | G23: =100%-F23 -> 0.73 | H23: =C23*F23 -> 194.4 | I23: =H23/$H$4 -> 0.0162 | J23: =C23*G23 -> 525.6 | K23: =J23/$J$4 -> 0.018771429
A24: P (org) (g) | C24: =C25+C26 -> 68400 | D24: =C24/C4 -> 1.71 | F24: =(H24/C24) -> 0.51663158 | G24: =J24/C24 -> 0.48336842 | H24: =H25+H26 -> 35337.6 | I24: =H24/$H$4 -> 2.9448 | J24: =J25+J26 -> 33062.4 | K24: =J24/$J$4 -> 1.1808
A25: P (org, susp) (g) | C25: =D25*C4 -> 51120 | D25: =0.71*B20 -> 1.278 | F25: 0.6 | G25: =100%-F25 -> 0.4 | H25: =C25*F25 -> 30672 | I25: =H25/$H$4 -> 2.556 | J25: =C25*G25 -> 20448 | K25: =J25/$J$4 -> 0.73028571
A26: P (org, diss) (g) | C26: =D26*C4 -> 17280 | D26: =0.24*B20 -> 0.432 | F26: =$F$5 -> 0.27 | G26: =100%-F26 -> 0.73 | H26: =C26*F26 -> 4665.6 | I26: =H26/$H$4 -> 0.3888 | J26: =C26*G26 -> 12614.4 | K26: =J26/$J$4 -> 0.45051429
A27: K total (g) | B27: =6.2*0.83 -> 5.146 | C27: =C28 -> 205840 | D27: =C27/C4 -> 5.146 | F27: =(H27/C27) -> 0.2672 | G27: =J27/C27 -> 0.7328 | H27: =H28+H31 -> 55000.448 | I27: =H27/$H$4 -> 4.5833707 | J27: =J28+J31 -> 150839.55 | K27: =J27/$J$4 -> 5.3871269
A28: K (inorg) (g) | C28: =C29+C30 -> 205840 | D28: =C28/C4 -> 5.146 | F28: =(H28/C28) -> 0.2672 | G28: =J28/C28 -> 0.7328 | H28: =H29+H30 -> 55000.448 | I28: =H28/$H$4 -> 4.5833707 | J28: =J29+J30 -> 150839.55 | K28: =J28/$J$4 -> 5.3871269
A29: K (inorg, susp) (g) | C29: =D29*C4 -> 28817.6 | D29: =0.14*B27 -> 0.72044 | F29: 0.25 | G29: =100%-F29 -> 0.75 | H29: =C29*F29 -> 7204.4 | I29: =H29/$H$4 -> 0.60036667 | J29: =C29*G29 -> 21613.2 | K29: =J29/$J$4 -> 0.7719
A30: K (inorg, diss) (g) | C30: =D30*C4 -> 177022.4 | D30: =0.86*B27 -> 4.42556 | F30: =$F$5 -> 0.27 | G30: =100%-F30 -> 0.73 | H30: =C30*F30 -> 47796.048 | I30: =H30/$H$4 -> 3.983004 | J30: =C30*G30 -> 129226.35 | K30: =J30/$J$4 -> 4.6152269
E34: =CONCATENATE(E35,"% polymer solution") -> 0,5% polymer solution
E35: 0.5 | F35: %
E36: =E35*10 -> 5 | F36: g powder polymer/L water
E37: 1 | F37: kg/l
E38: 100 | F38: =CONCATENATE("L ",E34,"/ton input") -> L 0,5% polymer solution/ton input
A39: mass (kg/year) | C39: 40000 | E39: =(E38*E37/1000)*C39 -> 4000 | F39: 0.28 | G39: =100%-F39 -> 0.72 | H39: =($C39+$E39)*F39 -> 12320 | J39: =($C39+$E39)*G39 -> 31680
A40: Water (g) | C40: =(C39*1000)-C41 -> 36000000 | D40: =C40/C39 -> 900 | E40: =(E39*1000)-E41 -> 3980000 | F40: =(H40/C40) -> 0.27288889 | G40: =100%-F40 -> 0.72711111 | H40: =(H39*1000)-H41 -> 9824000 | I40: =H39/$H$39 -> 1 | J40: =(J39*1000)-J41 -> 30156000 | K40: =J40/$J$39 -> 951.89394
A41: Total DM (g) | B41: 100 | C41: =C42+C45 -> 4000000 | D41: =C41/C39 -> 100 | E41: =E42+E45 -> 20000 | F41: =(H41/C41) -> 0.624 | G41: =J41/C41 -> 0.381 | H41: =H42+H45 -> 2496000 | I41: =H41/$H$39 -> 202.5974 | J41: =J42+J45 -> 1524000 | K41: =J41/$J$39 -> 48.106061
A42: DM (inorg) (g) | B42: =B41-B45 -> 40 | C42: =C43+C44 -> 1600000 | D42: =C42/C39 -> 40 | E42: =E43+E44 -> 0 | F42: =(H42/C42) -> 0.5 | G42: =J42/C42 -> 0.5 | H42: =H43+H44 -> 800000 | I42: =H42/$H$39 -> 64.935065 | J42: =J43+J44 -> 800000 | K42: =J42/$J$39 -> 25.252525
A43: DM (inorg, susp) (g) | C43: =D43*C39 -> 800000 | D43: =1/2*B42 -> 20 | E43: 0 | F43: 0.8 | G43: =100%-F43 -> 0.2 | H43: =($C43+$E43)*F43 -> 640000 | I43: =H43/$H$39 -> 51.948052 | J43: =($C43+$E43)*G43 -> 160000 | K43: =J43/$J$39 -> 5.0505051
...

Sheet Belt press
B1: Fill in boxes | C1: Input | F1: Belt press | H1: solid fraction | J1: liquid fraction
B2: Composition input (e.g. digestate) | C2: Mass | D2: Calculated concentration | E2: Additive/no additive | F2: Separation efficiency (%) to Solid Fraction | G2: Separation efficiency (%) to Liquid Fraction | H2: mass | I2: concentration | J2: mass | K2: concentration
D3: g/kg | I3: g/kg | K3: g/kg
E4: =CONCATENATE(E5,"% polymer solution") -> 0,5% polymer solution
E5: 0.5 | F5: %
E6: =E5*10 -> 5 | F6: g powder polymer/L water
E7: 1 | F7: kg/l
E8: 100 | F8: =CONCATENATE("L ",E4,"/ton input") -> L 0,5% polymer solution/ton input
A9: mass (kg/year) | B9: 40000 | C9: =B9 -> 40000 | E9: =(E8*E7/1000)*C9 -> 4000 | F9: 0.29 | G9: =100%-F9 -> 0.71 | H9: =($C9+$E9)*F9 -> 12760 | J9: =($C9+$E9)*G9 -> 31240
A10: Water (g) | C10: =(C9*1000)-C11 -> 36000000 | D10: =C10/C9 -> 900 | E10: =(E9*1000)-E11 -> 3980000 | F10: =(H10/C10) -> 0.28286111 | G10: =100%-F10 -> 0.71713889 | H10: =(H9*1000)-H11 -> 10183000 | I10: =H10/$H$9 -> 798.04075 | J10: =(J9*1000)-J11 -> 29797000 | K10: =J10/$J$9 -> 953.80922
A11: Total DM (g) | B11: 100 | C11: =C12+C15 -> 4000000 | D11: =C11/C9 -> 100 | E11: =E12+E15 -> 20000 | F11: =(H11/C11) -> 0.64425 | G11: =J11/C11 -> 0.36075 | H11: =H12+H15 -> 2577000 | I11: =H11/$H$9 -> 201.95925 | J11: =J12+J15 -> 1443000 | K11: =J11/$J$9 -> 46.190781
A12: DM (inorg) (g) | B12: =B11-B15 -> 40 | C12: =C13+C14 -> 1600000 | D12: =C12/C9 -> 40 | E12: =E13+E14 -> 0 | F12: =(H12/C12) -> 0.475 | G12: =J12/C12 -> 0.525 | H12: =H13+H14 -> 760000 | I12: =H12/$H$9 -> 59.561129 | J12: =J13+J14 -> 840000 | K12: =J12/$J$9 -> 26.888604
A13: DM (inorg, susp) (g) | C13: =D13*C9 -> 800000 | D13: =1/2*B12 -> 20 | E13: 0 | F13: 0.75 | G13: =100%-F13 -> 0.25 | H13: =($C13+$E13)*F13 -> 600000 | I13: =H13/$H$9 -> 47.021944 | J13: =($C13+$E13)*G13 -> 200000 | K13: =J13/$J$9 -> 6.4020487
A14: DM (inorg, diss) (g) | C14: =D14*C9 -> 800000 | D14: =1/2*B12 -> 20 | E14: 0 | F14: 0.2 | G14: =100%-F14 -> 0.8 | H14: =($C14+$E14)*F14 -> 160000 | I14: =H14/$H$9 -> 12.539185 | J14: =($C14+$E14)*G14 -> 640000 | K14: =J14/$J$9 -> 20.486556
A15: DM (org) (g) | B15: =0.6*B11 -> 60 | C15: =C16+C17 -> 2400000 | D15: =C15/C9 -> 60 | E15: =E16+E17 -> 20000 | F15: =(H15/C15) -> 0.75708333 | G15: =J15/C15 -> 0.25125 | H15: =H16+H17 -> 1817000 | I15: =H15/$H$9 -> 142.39812 | J15: =J16+J17 -> 603000 | K15: =J15/$J$9 -> 19.302177
A16: DM (org, susp) (g) | C16: =D16*C9 -> 2000000 | D16: =5/6*B15 -> 50 | E16: =E6*E9 -> 20000 | F16: 0.85 | G16: =100%-F16 -> 0.15 | H16: =($C16+$E16)*F16 -> 1717000 | I16: =H16/$H$9 -> 134.56113 | J16: =($C16+$E16)*G16 -> 303000 | K16: =J16/$J$9 -> 9.6991037
A17: DM (org, diss) (g) | C17: =D17*C9 -> 400000 | D17: =1/6*B15 -> 10 | E17: 0 | F17: 0.25 | G17: =100%-F17 -> 0.75 | H17: =($C17+$E17)*F17 -> 100000 | I17: =H17/$H$9 -> 7.8369906 | J17: =($C17+$E17)*G17 -> 300000 | K17: =J17/$J$9 -> 9.603073
A18: N total (g) | B18: 6.7 | C18: =C19+C22 -> 268000 | D18: =C18/C9 -> 6.7 | E18: 0 | F18: =(H18/C18) -> 0.36308308 | G18: =J18/C18 -> 0.63691692 | H18: =H19+H22 -> 97306.265 | I18: =H18/$H$9 -> 7.6258829 | J18: =J19+J22 -> 170693.73 | K18: =J18/$J$9 -> 5.463948
A19: N (inorg) (g) | B19: =D21/0.94 -> 3.9361702 | C19: =C20+C21 -> 157446.81 | D19: =C19/C9 -> 3.9361702 | E19: 0 | F19: =(H19/C19) -> 0.30788944 | G19: =J19/C19 -> 0.69211056 | H19: =H20+H21 -> 48476.21 | I19: =H19/$H$9 -> 3.7990761 | J19: =J20+J21 -> 108970.6 | K19: =J19/$J$9 -> 3.4881754
A20: N (inorg, susp) (g) | C20: =D20*C9 -> 9446.8085 | D20: =B19-D21 -> 0.23617021 | E20: 0 | F20: 0.7 | G20: =100%-F20 -> 0.3 | H20: =C20*F20 -> 6612.766 | I20: =H20/$H$9 -> 0.51824185 | J20: =C20*G20 -> 2834.0426 | K20: =J20/$J$9 -> 0.090718392
A21: N (inorg, diss) (g) | B21: 3.7 | C21: =D21*C9 -> 148000 | D21: =B21 -> 3.7 | E21: 0 | F21: =$F$10 -> 0.28286111 | G21: =100%-F21 -> 0.71713889 | H21: =C21*F21 -> 41863.444 | I21: =H21/$H$9 -> 3.2808342 | J21: =C21*G21 -> 106136.56 | K21: =J21/$J$9 -> 3.397457
A22: N (org) (g) | B22: =B18-B19 -> 2.7638298 | C22: =C23+C24 -> 110553.19 | D22: =C22/C9 -> 2.7638298 | E22: 0 | F22: =(H22/C22) -> 0.44168833 | G22: =J22/C22 -> 0.55831167 | H22: =H23+H24 -> 48830.055 | I22: =H22/$H$9 -> 3.8268068 | J22: =J23+J24 -> 61723.137 | K22: =J22/$J$9 -> 1.9757726
A23: N (org, susp) (g) | C23: =D23*C9 -> 37588.085 | D23: =0.34*B22 -> 0.93970213 | E23: 0 | F23: 0.75 | G23: =100%-F23 -> 0.25 | H23: =C23*F23 -> 28191.064 | I23: =H23/$H$9 -> 2.209331 | J23: =C23*G23 -> 9397.0213 | K23: =J23/$J$9 -> 0.30080094
A24: N (org, diss) (g) | C24: =D24*C9 -> 72965.106 | D24: =0.66*B22 -> 1.8241277 | E24: 0 | F24: =$F$10 -> 0.28286111 | G24: =100%-F24 -> 0.71713889 | H24: =C24*F24 -> 20638.991 | I24: =H24/$H$9 -> 1.6174758 | J24: =C24*G24 -> 52326.115 | K24: =J24/$J$9 -> 1.6749717
A25: Ptotal (g) | B25: 1.8 | C25: =C26+C29 -> 72000 | D25: =C25/C9 -> 1.8 | E25: 0 | F25: =(H25/C25) -> 0.76271528 | G25: =J25/C25 -> 0.23728472 | H25: =H26+H29 -> 54915.5 | I25: =H25/$H$9 -> 4.3037226 | J25: =J26+J29 -> 17084.5 | K25: =J25/$J$9 -> 0.546879
A26: P (inorg) (g) | C26: =C27+C28 -> 3600 | D26: =C26/C9 -> 0.09 | E26: 0 | F26: =(H26/C26) -> 0.62657222 | G26: =J26/C26 -> 0.37342778 | H26: =H27+H28 -> 2255.66 | I26: =H26/$H$9 -> 0.17677586 | J26: =J27+J28 -> 1344.34 | K26: =J26/$J$9 -> 0.04303265
A27: P (inorg, susp) (g) | C27: =D27*C9 -> 2880 | D27: =0.04*B25 -> 0.072 | E27: 0 | F27: 0.7 | G27: =100%-F27 -> 0.3 | H27: =C27*F27 -> 2016 | I27: =H27/$H$9 -> 0.15799373 | J27: =C27*G27 -> 864 | K27: =J27/$J$9 -> 0.02765685
A28: P (inorg, diss) (g) | B28: 0.059 | C28: =D28*C9 -> 720 | D28: =0.01*B25 -> 0.018 | E28: 0 | F28: =$F$10+5% -> 0.33286111 | G28: =100%-F28 -> 0.66713889 | H28: =C28*F28 -> 239.66 | I28: =H28/$H$9 -> 0.018782132 | J28: =C28*G28 -> 480.34 | K28: =J28/$J$9 -> 0.0153758
A29: P (org) (g) | C29: =C30+C31 -> 68400 | D29: =C29/C9 -> 1.71 | E29: 0 | F29: =(H29/C29) -> 0.7698807 | G29: =J29/C29 -> 0.2301193 | H29: =H30+H31 -> 52659.84 | I29: =H29/$H$9 -> 4.1269467 | J29: =J30+J31 -> 15740.16 | K29: =J29/$J$9 -> 0.50384635
A30: P (org, susp) (g) | C30: =D30*C9 -> 51120 | D30: =0.71*B25 -> 1.278 | E30: 0 | F30: 0.85 | G30: =100%-F30 -> 0.15 | H30: =C30*F30 -> 43452 | I30: =H30/$H$9 -> 3.4053292 | J30: =C30*G30 -> 7668 | K30: =J30/$J$9 -> 0.24545455
A31: P (org, diss) (g) | C31: =D31*C9 -> 17280 | D31: =0.24*B25 -> 0.432 | E31: 0 | F31: =$F$10+25% -> 0.53286111 | G31: =100%-F31 -> 0.46713889 | H31: =C31*F31 -> 9207.84 | I31: =H31/$H$9 -> 0.72161755 | J31: =C31*G31 -> 8072.16 | K31: =J31/$J$9 -> 0.25839181
A32: K total (g) | B32: =6.2*0.83 -> 5.146 | C32: =C33 -> 205840 | D32: =C32/C9 -> 5.146 | E32: 0 | F32: =(H32/C32) -> 0.28526056 | G32: =J32/C32 -> 0.71473944 | H32: =H33 -> 58718.033 | I32: =H32/$H$9 -> 4.6017267 | J32: =J33 -> 147121.97 | K32: =J32/$J$9 -> 4.70941
A33: K (inorg) (g) | C33: =C34+C35 -> 205840 | D33: =C33/C9 -> 5.146 | E33: 0 | F33: =(H33/C33) -> 0.28526056 | G33: =J33/C33 -> 0.71473944 | H33: =H34+H35 -> 58718.033 | I33: =H33/$H$9 -> 4.6017267 | J33: =J34+J35 -> 147121.97 | K33: =J33/$J$9 -> 4.70941
A34: K (inorg, susp) (g) | C34: =D34*C9 -> 28817.6 | D34: =0.14*B32 -> 0.72044 | E34: 0 | F34: 0.3 | G34: =100%-F34 -> 0.7 | H34: =C34*F34 -> 8645.28 | I34: =H34/$H$9 -> 0.67752978 | J34: =C34*G34 -> 20172.32 | K34: =J34/$J$9 -> 0.64572087
A35: K (inorg, diss) (g) | C35: =D35*C9 -> 177022.4 | D35: =0.86*B32 -> 4.42556 | E35: 0 | F35: =$F$10 -> 0.28286111 | G35: =100%-F35 -> 0.71713889 | H35: =C35*F35 -> 50072.753 | I35: =H35/$H$9 -> 3.9241969 | J35: =C35*G35 -> 126949.65 | K35: =J35/$J$9 -> 4.0636891

Sheet DAF
B1: Fill in boxes | C1: Input | F1: Dissolved Air Flotation (DAF) | H1: solid fraction | J1: liquid fraction
B2: Composition input (e.g. liquid fraction after separation) | C2: Mass | D2: Calculated concentration | E2: Additive/no additive | F2: Separation efficiency (%) to Solid Fraction | G2: Separation efficiency (%) to Liquid Fraction | H2: mass | I2: concentration | J2: mass | K2: concentration
D3: g/kg | I3: g/kg | K3: g/kg
E4: =CONCATENATE(E5,"% polymer solution") -> 0,5% polymer solution
E5: 0.5 | F5: %
E6: =E5*10 -> 5 | F6: g powder polymer/L water
E7: 1 | F7: kg/l
E8: 20 | F8: =CONCATENATE("L ",E4,"/ton input") -> L 0,5% polymer solution/ton input
A9: mass (kg/year) | B9: 934 | C9: =B9 -> 934 | E9: =(E8*E7/1000)*C9 -> 18.68 | F9: 0.2 | G9: =100%-F9 -> 0.8 | H9: =(C9+E9)*F9 -> 190.536 | J9: =(C9+E9)*G9 -> 762.144
A10: Water (g) | C10: =(C9*1000)-C11 -> 872356 | D10: =C10/C9 -> 934 | E10: =(E9*1000)-E11 -> 18586.6 | F10: =(H10/C10) -> 0.17553533 | G10: =100%-F10 -> 0.82446467 | H10: =(H9*1000)-H11 -> 153129.3 | I10: =H10/H9 -> 803.67647 | J10: =(J9*1000)-J11 -> 737813.3 | K10: =J10/J9 -> 968.07598
A11: Total DM (g) | B11: 66 | C11: =C12+C15 -> 61644 | D11: =C11/C9 -> 66 | E11: =E12+E15 -> 93.4 | F11: =(H11/C11) -> 0.60681818 | G11: =J11/C11 -> 0.39469697 | H11: =H12+H15 -> 37406.7 | I11: =H11/H9 -> 196.32353 | J11: =J12+J15 -> 24330.7 | K11: =J11/J9 -> 31.92402
A12: DM (inorg) (g) | B12: =B11-B15 -> 40 | C12: =C13+C14 -> 37360 | D12: =C12/C9 -> 40 | E12: =E13+E14 -> 0 | F12: =(H12/C12) -> 0.57 | G12: =J12/C12 -> 0.43 | H12: =H13+H14 -> 21295.2 | I12: =H12/H9 -> 111.76471 | J12: =J13+J14 -> 16064.8 | K12: =J12/J9 -> 21.078431
A13: DM (inorg, susp) (g) | C13: =D13*C9 -> 7472 | D13: =0.2*B12 -> 8 | E13: 0 | F13: 0.85 | G13: =100%-F13 -> 0.15 | H13: =(C13+E13)*F13 -> 6351.2 | I13: =H13/H9 -> 33.333333 | J13: =(C13+E13)*G13 -> 1120.8 | K13: =J13/J9 -> 1.4705882
A14: DM (inorg, diss) (g) | C14: =D14*C9 -> 29888 | D14: =0.8*B12 -> 32 | E14: 0 | F14: 0.5 | G14: =100%-F14 -> 0.5 | H14: =(C14+E14)*F14 -> 14944 | I14: =H14/H9 -> 78.431373 | J14: =(C14+E14)*G14 -> 14944 | K14: =J14/J9 -> 19.607843
A15: DM (org) (g) | B15: 26 | C15: =C16+C17 -> 24284 | D15: =C15/C9 -> 26 | E15: =E16+E17 -> 93.4 | F15: =(H15/C15) -> 0.66346154 | G15: =J15/C15 -> 0.34038462 | H15: =H16+H17 -> 16111.5 | I15: =H15/H9 -> 84.558824 | J15: =J16+J17 -> 8265.9 | K15: =J15/J9 -> 10.845588
A16: DM (org, susp) (g) | C16: =D16*C9 -> 9713.6 | D16: =0.4*B15 -> 10.4 | E16: =E6*E9 -> 93.4 | F16: 0.9 | G16: =100%-F16 -> 0.1 | H16: =(C16+E16)*F16 -> 8826.3 | I16: =H16/H9 -> 46.323529 | J16: =(C16+E16)*G16 -> 980.7 | K16: =J16/J9 -> 1.2867647
A17: DM (org, diss) (g) | C17: =D17*C9 -> 14570.4 | D17: =0.6*B15 -> 15.6 | E17: 0 | F17: 0.5 | G17: =100%-F17 -> 0.5 | H17: =(C17+E17)*F17 -> 7285.2 | I17: =H17/H9 -> 38.235294 | J17: =(C17+E17)*G17 -> 7285.2 | K17: =J17/J9 -> 9.5588235
A18: N total (g) | B18: 6.5 | C18: =C19+C22 -> 6071 | D18: =C18/C9 -> 6.5 | E18: 0 | F18: =(H18/C18) -> 0.24522365 | G18: =J18/C18 -> 0.75477635 | H18: =H19+H22 -> 1488.7528 | I18: =H18/H9 -> 7.8134986 | J18: =J19+J22 -> 4582.2472 | K18: =J18/J9 -> 6.0123116
A19: N (inorg) (g) | B19: =D21/0.94 -> 4.2553191 | C19: =C20+C21 -> 3974.4681 | D19: =C19/C9 -> 4.2553191 | E19: 0 | F19: =(H19/C19) -> 0.19500321 | G19: =J19/C19 -> 0.80499679 | H19: =H20+H21 -> 775.03404 | I19: =H19/H9 -> 4.0676515 | J19: =J20+J21 -> 3199.434 | K19: =J19/J9 -> 4.197939
A20: N (inorg, susp) (g) | C20: =D20*C9 -> 238.46809 | D20: =B19-D21 -> 0.25531915 | E20: 0 | F20: 0.5 | G20: =100%-F20 -> 0.5 | H20: =(C20+E20)*F20 -> 119.23404 | I20: =H20/H9 -> 0.62578223 | J20: =(C20+E20)*G20 -> 119.23404 | K20: =J20/J9 -> 0.15644556
A21: N (inorg, diss) (g) | B21: 4 | C21: =D21*C9 -> 3736 | D21: =B21 -> 4 | E21: 0 | F21: =$F$10 -> 0.17553533 | G21: =100%-F21 -> 0.82446467 | H21: =(C21+E21)*F21 -> 655.8 | I21: =H21/H9 -> 3.4418693 | J21: =(C21+E21)*G21 -> 3080.2 | K21: =J21/J9 -> 4.0414935
A22: N (org) (g) | B22: =B18-B19 -> 2.2446809 | C22: =C23+C24 -> 2096.5319 | D22: =C22/C9 -> 2.2446809 | E22: 0 | F22: =(H22/C22) -> 0.34042827 | G22: =J22/C22 -> 0.65957173 | H22: =H23+H24 -> 713.71872 | I22: =H22/H9 -> 3.7458471 | J22: =J23+J24 -> 1382.8132 | K22: =J22/J9 -> 1.8143726
A23: N (org, susp) (g) | C23: =D23*C9 -> 419.30638 | D23: =0.2*B22 -> 0.44893617 | E23: 0 | F23: 0.8 | G23: =100%-F23 -> 0.2 | H23: =(C23+E23)*F23 -> 335.44511 | I23: =H23/H9 -> 1.760534 | J23: =(C23+E23)*G23 -> 83.861277 | K23: =J23/J9 -> 0.11003338
A24: N (org, diss) (g) | C24: =D24*C9 -> 1677.2255 | D24: =0.8*B22 -> 1.7957447 | E24: 0 | F24: =$F$10+5% -> 0.22553533 | G24: =100%-F24 -> 0.77446467 | H24: =(C24+E24)*F24 -> 378.27362 | I24: =H24/H9 -> 1.9853131 | J24: =(C24+E24)*G24 -> 1298.9519 | K24: =J24/J9 -> 1.7043392
A25: Ptotal (g) | B25: 1.1 | C25: =C26+C29 -> 1006.852 | D25: =C25/C9 -> 1.078 | E25: 0 | F25: =(H25/C25) -> 0.49131724 | G25: =J25/C25 -> 0.50868276 | H25: =H26+H29 -> 494.68375 | I25: =H25/H9 -> 2.5962745 | J25: =J26+J29 -> 512.16825 | K25: =J25/J9 -> 0.67200982
A26: P (inorg) (g) | C26: =C27+C28 -> 51.37 | D26: =C26/C9 -> 0.055 | E26: 0 | F26: =(H26/C26) -> 0.19021413 | G26: =J26/C26 -> 0.80978587 | H26: =H27+H28 -> 9.7713 | I26: =H26/H9 -> 0.051283222 | J26: =J27+J28 -> 41.5987 | K26: =J26/J9 -> 0.054581155
A27: P (inorg, susp) (g) | C27: =D27*C9 -> 30.822 | D27: =0.03*B25 -> 0.033 | E27: 0 | F27: 0.2 | G27: =100%-F27 -> 0.8 | H27: =(C27+E27)*F27 -> 6.1644 | I27: =H27/H9 -> 0.032352941 | J27: =(C27+E27)*G27 -> 24.6576 | K27: =J27/J9 -> 0.032352941
A28: P (inorg, diss) (g) | C28: =D28*C9 -> 20.548 | D28: =0.02*B25 -> 0.022 | E28: 0 | F28: =$F$10 -> 0.17553533 | G28: =100%-F28 -> 0.82446467 | H28: =(C28+E28)*F28 -> 3.6069 | I28: =H28/H9 -> 0.018930281 | J28: =(C28+E28)*G28 -> 16.9411 | K28: =J28/J9 -> 0.022228214
A29: P (org) (g) | C29: =C30+C31 -> 955.482 | D29: =C29/C9 -> 1.023 | E29: 0 | F29: =(H29/C29) -> 0.50750558 | G29: =J29/C29 -> 0.49249442 | H29: =H30+H31 -> 484.91245 | I29: =H29/H9 -> 2.5449912 | J29: =J30+J31 -> 470.56955 | K29: =J29/J9 -> 0.61742866
A30: P (org, susp) (g) | C30: =D30*C9 -> 513.7 | D30: =0.5*B25 -> 0.55 | E30: 0 | F30: 0.75 | G30: =100%-F30 -> 0.25 | H30: =(C30+E30)*F30 -> 385.275 | I30: =H30/H9 -> 2.0220588 | J30: =(C30+E30)*G30 -> 128.425 | K30: =J30/J9 -> 0.1685049
A31: P (org, diss) (g) | C31: =D31*C9 -> 441.782 | D31: =0.43*B25 -> 0.473 | E31: 0 | F31: =$F$10+5% -> 0.22553533 | G31: =100%-F31 -> 0.77446467 | H31: =(C31+E31)*F31 -> 99.63745 | I31: =H31/H9 -> 0.52293241 | J31: =(C31+E31)*G31 -> 342.14455 | K31: =J31/J9 -> 0.44892376
A32: K total (g) | B32: 5.5 | C32: =C33 -> 5137 | D32: =C32/C9 -> 5.5 | E32: 0 | F32: =(H32/C32) -> 0.19296039 | G32: =J32/C32 -> 0.80703961 | H32: =H33 -> 991.2375 | I32: =H32/H9 -> 5.2023633 | J32: =J33 -> 4145.7625 | K32: =J32/J9 -> 5.4396052
A33: K (inorg) (g) | C33: =C34+C35 -> 5137 | D33: =C33/C9 -> 5.5 | E33: 0 | F33: =(H33/C33) -> 0.19296039 | G33: =J33/C33 -> 0.80703961 | H33: =H34+H35 -> 991.2375 | I33: =H33/H9 -> 5.2023633 | J33: =J34+J35 -> 4145.7625 | K33: =J33/J9 -> 5.4396052
A34: K (inorg, susp) (g) | C34: =D34*C9 -> 719.18 | D34: =0.14*B32 -> 0.77 | E34: 0 | F34: 0.3 | G34: =100%-F34 -> 0.7 | H34: =(C34+E34)*F34 -> 215.754 | I34: =H34/H9 -> 1.1323529 | J34: =(C34+E34)*G34 -> 503.426 | K34: =J34/J9 -> 0.66053922
A35: K (inorg, diss) (g) | C35: =D35*C9 -> 4417.82 | D35: =0.86*B32 -> 4.73 | E35: 0 | F35: =$F$10 -> 0.17553533 | G35: =100%-F35 -> 0.82446467 | H35: =(C35+E35)*F35 -> 775.4835 | I35: =H35/H9 -> 4.0700104 | J35: =(C35+E35)*G35 -> 3642.3365 | K35: =J35/J9 -> 4.779066

Sheet N-stripping scrubbing
B1: Fill in boxes | C1: Input | F1: N stripping-scrubbing | H1: initital Ammonium sulphate solution | K1: Diluted ammonium salt solution | M1: N stripped input
B2: Composition input (e.g. digestate) | C2: Mass | D2: Calculated concentration | E2: Additive/no additive | F2: Recovery rate (%) to initital Ammonium sulphate solution | G2: Recovery rate (%) to initital N stripped input | H2: mass | I2: concentration | J2: Additive/no additive | K2: mass | L2: concentration | M2: mass | N2: concentration
A3: 0.8 | B3: NH4-N scrubbing | D3: g/kg | I3: g/kg | L3: g/kg | N3: g/kg
E4: =CONCATENATE(E5,"% H2SO4 solution") -> 96% H2SO4 solution | J4: water for dilution needed | L4: (NH4)2SO4 concentration initial Ammonium sulphate solution | P4: Molar mass (g/mol)
E5: 96 | F5: % | J5: when concentration (NH4)2SO4 >380g / kg | L5: =(((H21/$Q$5)/2)*$Q$10)/H9 -> 242.53813 | M5: g (NH4)2SO4 / kg | P5: N | Q5: 14.01
E6: =E5*10 -> 960 | F6: g H2SO4/L solution | L6: Maximum value for (NH4)2SO4 concentration in Ammonium sulphate solution | P6: H2O | Q6: 18.02
E7: 1.84 | F7: kg/l | J7: 1 | K7: kg/l | M7: 380 | N7: g/kg | P7: NH4 | Q7: 18.04
E8: 100 | F8: =CONCATENATE("L ",E4,"/ton input") -> L 96% H2SO4 solution/ton input | J8: =J9/(H9/1000) -> 0 | K8: =CONCATENATE("L ",J4,"/ton initial AmmS solution") -> L water for dilution needed/ton initial AmmS solution | P8: H2SO4 | Q8: 98.08
A9: mass (kg/year) | B9: 9000 | C9: =B9 -> 9000 | E9: =(((($H$21/$Q$5)/2)*$Q$8)/$E$5%)/1000 -> 97.134904 | F9: =(H9/C9) -> 0.057554311 | G9: =100%-F9 -> 0.94244569 | H9: =(H10+H11)/1000 -> 517.9888 | J9: =(J10+J11)/1000 -> 0 | K9: =H9+J9 -> 517.9888 | M9: =(M10+M11)/1000 -> 8704.7781 | P9: SO4 | Q9: 96.08
A10: Water (g) | C10: =(C9*1000)-C11 -> 7560000 | E10: =(E9*1000)-E11 -> 3885.3961 | F10: 0.05 | G10: =100%-F10 -> 0.95 | H10: =($C10+$E10)*F10 -> 378194.27 | I10: =H10/$H$9 -> 730.12056 | J10: =(IF(((H9*(L5/M7))-H9)<0,0,((H9*(L5/M7))-H9)))*1000 -> 0 | K10: =H10+J10 -> 378194.27 | L10: =K10/$K$9 -> 730.12056 | M10: =($C10+$E10)*G10 -> 7185691.1 | N10: =M10/$M$9 -> 825.48814 | P10: (NH4)2SO4 | Q10: =Q7*2+96.06 -> 132.14
A11: Total DM (g) | B11: 160 | C11: =C12+C15 -> 1440000 | D11: =C11/C9 -> 160 | E11: =E12+E15 -> 93249.507 | F11: =(H11/C11) -> 0.097079534 | G11: =100%-F11 -> 0.90292047 | H11: =H12+H15 -> 139794.53 | I11: =H11/$H$9 -> 269.87944 | J11: 0 | K11: =H11+J11 -> 139794.53 | L11: =K11/$K$9 -> 269.87944 | M11: =M12+M15 -> 1519087 | N11: =M11/$M$9 -> 174.51186
A12: DM (inorg) (g) | B12: =B11-B15 -> 134 | C12: =C13+C14 -> 1206000 | D12: =C12/C9 -> 134 | E12: =((($H$21/$Q$5)/2)*$Q$8) -> 93249.507 | F12: =(H12/C12) -> 0.11494571 | G12: =100%-F12 -> 0.88505429 | H12: =H13+H14 -> 138624.53 | I12: =H12/$H$9 -> 267.62071 | J12: 0 | K12: =H12+J12 -> 138624.53 | L12: =K12/$K$9 -> 267.62071 | M12: =M13+M14 -> 1286257 | N12: =M12/$M$9 -> 147.76448
A13: DM (inorg, susp) (g) | C13: =D13*C9 -> 603000 | D13: =1/2*B12 -> 67 | E13: 0 | F13: 0.01 | G13: =100%-F13 -> 0.99 | H13: =($C13+$E13)*F13 -> 6030 | I13: =H13/$H$9 -> 11.641178 | J13: 0 | K13: =H13+J13 -> 6030 | L13: =K13/$K$9 -> 11.641178 | M13: =($C13+$E13)*G13 -> 596970 | N13: =M13/$M$9 -> 68.579577
A14: DM (inorg, diss) (g) | C14: =D14*C9 -> 603000 | D14: =1/2*B12 -> 67 | E14: =E12 -> 93249.507 | F14: 0.01 | G14: =100%-F14 -> 0.99 | H14: =(($C14+$E14)*F14)+(((H21/$Q$5)/2)*$Q$10) -> 132594.53 | I14: =H14/$H$9 -> 255.97953 | J14: 0 | K14: =H14+J14 -> 132594.53 | L14: =K14/$K$9 -> 255.97953 | M14: =($C14+$E14)*G14 -> 689287.01 | N14: =M14/$M$9 -> 79.184903
A15: DM (org) (g) | B15: 26 | C15: =C16+C17 -> 234000 | D15: =C15/C9 -> 26 | E15: 0 | F15: =(H15/C15) -> 0.005 | G15: =100%-F15 -> 0.995 | H15: =H16+H17 -> 1170 | I15: =H15/$H$9 -> 2.2587361 | J15: 0 | K15: =H15+J15 -> 1170 | L15: =K15/$K$9 -> 2.2587361 | M15: =M16+M17 -> 232830 | N15: =M15/$M$9 -> 26.747379
A16: DM (org, susp) (g) | C16: =D16*C9 -> 195000 | D16: =5/6*B15 -> 21.666667 | E16: 0 | F16: 0 | G16: =100%-F16 -> 1 | H16: =($C16+$E16)*F16 -> 0 | I16: =H16/$H$9 -> 0 | J16: 0 | K16: =H16+J16 -> 0 | L16: =K16/$K$9 -> 0 | M16: =($C16+$E16)*G16 -> 195000 | N16: =M16/$M$9 -> 22.40149
A17: DM (org, diss) (g) | C17: =D17*C9 -> 39000 | D17: =1/6*B15 -> 4.3333333 | E17: 0 | F17: 0.03 | G17: =100%-F17 -> 0.97 | H17: =($C17+$E17)*F17 -> 1170 | I17: =H17/$H$9 -> 2.2587361 | J17: 0 | K17: =H17+J17 -> 1170 | L17: =K17/$K$9 -> 2.2587361 | M17: =($C17+$E17)*G17 -> 37830 | N17: =M17/$M$9 -> 4.3458891
A18: N total (g) | B18: 6.7 | C18: =C19+C22 -> 60300 | D18: =C18/C9 -> 6.7 | E18: 0 | F18: =(H18/C18) -> 0.44214354 | G18: =100%-F18 -> 0.55785646 | H18: =H19+H22 -> 26661.255 | I18: =H18/$H$9 -> 51.470718 | J18: 0 | K18: =H18+J18 -> 26661.255 | L18: =K18/$K$9 -> 51.470718 | M18: =M19+M22 -> 33638.745 | N18: =M18/$M$9 -> 3.8644
A19: N (inorg) (g) | B19: =D21/0.94 -> 3.9361702 | C19: =C20+C21 -> 35425.532 | D19: =C19/C9 -> 3.9361702 | E19: 0 | F19: =(H19/C19) -> 0.7526 | G19: =100%-F19 -> 0.2474 | H19: =H20+H21 -> 26661.255 | I19: =H19/$H$9 -> 51.470718 | J19: 0 | K19: =H19+J19 -> 26661.255 | L19: =K19/$K$9 -> 51.470718 | M19: =M20+M21 -> 8764.2766 | N19: =M19/$M$9 -> 1.0068351
A20: N (inorg, susp) (g) | C20: =D20*C9 -> 2125.5319 | D20: =B19-D21 -> 0.23617021 | E20: 0 | F20: 0.01 | G20: =100%-F20 -> 0.99 | H20: =C20*F20 -> 21.255319 | I20: =H20/$H$9 -> 0.041034322 | J20: 0 | K20: =H20+J20 -> 21.255319 | L20: =K20/$K$9 -> 0.041034322 | M20: =($C20+$E20)*G20 -> 2104.2766 | N20: =M20/$M$9 -> 0.24173811
A21: N (inorg, diss) (g) | B21: 3.7 | C21: =D21*C9 -> 33300 | D21: =B21 -> 3.7 | E21: 0 | F21: =A3 -> 0.8 | G21: =100%-F21 -> 0.2 | H21: =C21*F21 -> 26640 | I21: =H21/$H$9 -> 51.429684 | J21: 0 | K21: =H21+J21 -> 26640 | L21: =K21/$K$9 -> 51.429684 | M21: =($C21+$E21)*G21 -> 6660 | N21: =M21/$M$9 -> 0.76509704
A22: N (org) (g) | B22: =B18-B19 -> 2.7638298 | C22: =C23+C24 -> 24874.468 | D22: =C22/C9 -> 2.7638298 | E22: 0 | F22: =(H22/C22) -> 0 | G22: =100%-F22 -> 1 | H22: =H23+H24 -> 0 | I22: =H22/$H$9 -> 0 | J22: 0 | K22: =H22+J22 -> 0 | L22: =K22/$K$9 -> 0 | M22: =M23+M24 -> 24874.468 | N22: =M22/$M$9 -> 2.8575649
A23: N (org, susp) (g) | C23: =D23*C9 -> 8457.3191 | D23: =0.34*B22 -> 0.93970213 | E23: 0 | F23: 0 | G23: =100%-F23 -> 1 | H23: =C23*F23 -> 0 | I23: =H23/$H$9 -> 0 | J23: 0 | K23: =H23+J23 -> 0 | L23: =K23/$K$9 -> 0 | M23: =($C23+$E23)*G23 -> 8457.3191 | N23: =M23/$M$9 -> 0.97157205
A24: N (org, diss) (g) | C24: =D24*C9 -> 16417.149 | D24: =0.66*B22 -> 1.8241277 | E24: 0 | F24: 0 | G24: =100%-F24 -> 1 | H24: =C24*F24 -> 0 | I24: =H24/$H$9 -> 0 | J24: 0 | K24: =H24+J24 -> 0 | L24: =K24/$K$9 -> 0 | M24: =($C24+$E24)*G24 -> 16417.149 | N24: =M24/$M$9 -> 1.8859928
A25: Ptotal (g) | B25: 1.8 | C25: =C26+C29 -> 16200 | D25: =C25/C9 -> 1.8 | E25: 0 | F25: =(H25/C25) -> 7.4e-05 | G25: =100%-F25 -> 0.999926 | H25: =H26+H29 -> 1.1988 | I25: =H25/$H$9 -> 0.0023143358 | J25: 0 | K25: =H25+J25 -> 1.1988 | L25: =K25/$K$9 -> 0.0023143358 | M25: =M26+M29 -> 16198.801 | N25: =M25/$M$9 -> 1.8609091
A26: P (inorg) (g) | C26: =C27+C28 -> 810 | D26: =C26/C9 -> 0.09 | E26: 0 | F26: =(H26/C26) -> 0.001 | G26: =100%-F26 -> 0.999 | H26: =H27+H28 -> 0.81 | I26: =H26/$H$9 -> 0.0015637404 | J26: 0 | K26: =H26+J26 -> 0.81 | L26: =K26/$K$9 -> 0.0015637404 | M26: =M27+M28 -> 809.19 | N26: =M26/$M$9 -> 0.092959291
A27: P (inorg, susp) (g) | C27: =D27*C9 -> 648 | D27: =0.04*B25 -> 0.072 | E27: 0 | F27: 0 | G27: =100%-F27 -> 1 | H27: =C27*F27 -> 0 | I27: =H27/$H$9 -> 0 | J27: 0 | K27: =H27+J27 -> 0 | L27: =K27/$K$9 -> 0 | M27: =($C27+$E27)*G27 -> 648 | N27: =M27/$M$9 -> 0.074441874
A28: P (inorg, diss) (g) | B28: 0.059 | C28: =D28*C9 -> 162 | D28: =0.01*B25 -> 0.018 | E28: 0 | F28: 0.005 | G28: =100%-F28 -> 0.995 | H28: =C28*F28 -> 0.81 | I28: =H28/$H$9 -> 0.0015637404 | J28: 0 | K28: =H28+J28 -> 0.81 | L28: =K28/$K$9 -> 0.0015637404 | M28: =($C28+$E28)*G28 -> 161.19 | N28: =M28/$M$9 -> 0.018517416
A29: P (org) (g) | C29: =C30+C31 -> 15390 | D29: =C29/C9 -> 1.71 | E29: 0 | F29: =(H29/C29) -> 2.5263158e-05 | G29: =100%-F29 -> 0.99997474 | H29: =H30+H31 -> 0.3888 | I29: =H29/$H$9 -> 0.00075059538 | J29: 0 | K29: =H29+J29 -> 0.3888 | L29: =K29/$K$9 -> 0.00075059538 | M29: =M30+M31 -> 15389.611 | N29: =M29/$M$9 -> 1.7679498
A30: P (org, susp) (g) | C30: =D30*C9 -> 11502 | D30: =0.71*B25 -> 1.278 | E30: 0 | F30: 0 | G30: =100%-F30 -> 1 | H30: =C30*F30 -> 0 | I30: =H30/$H$9 -> 0 | J30: 0 | K30: =H30+J30 -> 0 | L30: =K30/$K$9 -> 0 | M30: =($C30+$E30)*G30 -> 11502 | N30: =M30/$M$9 -> 1.3213433
A31: P (org, diss) (g) | C31: =D31*C9 -> 3888 | D31: =0.24*B25 -> 0.432 | E31: 0 | F31: 0.0001 | G31: =100%-F31 -> 0.9999 | H31: =C31*F31 -> 0.3888 | I31: =H31/$H$9 -> 0.00075059538 | J31: 0 | K31: =H31+J31 -> 0.3888 | L31: =K31/$K$9 -> 0.00075059538 | M31: =($C31+$E31)*G31 -> 3887.6112 | N31: =M31/$M$9 -> 0.44660658
A32: K total (g) | B32: =6.2*0.83 -> 5.146 | C32: =C33 -> 46314 | D32: =C32/C9 -> 5.146 | E32: 0 | F32: =(H32/C32) -> 8.6e-05 | G32: =100%-F32 -> 0.999914 | H32: =H33 -> 3.983004 | I32: =H32/$H$9 -> 0.0076893632 | J32: 0 | K32: =H32+J32 -> 3.983004 | L32: =K32/$K$9 -> 0.0076893632 | M32: =M33 -> 46310.017 | N32: =M32/$M$9 -> 5.3200686
A33: K (inorg) (g) | C33: =C34+C35 -> 46314 | D33: =C33/C9 -> 5.146 | E33: 0 | F33: =(H33/C33) -> 8.6e-05 | G33: =100%-F33 -> 0.999914 | H33: =H34+H35 -> 3.983004 | I33: =H33/$H$9 -> 0.0076893632 | J33: 0 | K33: =H33+J33 -> 3.983004 | L33: =K33/$K$9 -> 0.0076893632 | M33: =M34+M35 -> 46310.017 | N33: =M33/$M$9 -> 5.3200686
A34: K (inorg, susp) (g) | C34: =D34*C9 -> 6483.96 | D34: =0.14*B32 -> 0.72044 | E34: 0 | F34: 0 | G34: =100%-F34 -> 1 | H34: =C34*F34 -> 0 | I34: =H34/$H$9 -> 0 | J34: 0 | K34: =H34+J34 -> 0 | L34: =K34/$K$9 -> 0 | M34: =($C34+$E34)*G34 -> 6483.96 | N34: =M34/$M$9 -> 0.74487367
A35: K (inorg, diss) (g) | C35: =D35*C9 -> 39830.04 | D35: =0.86*B32 -> 4.42556 | E35: 0 | F35: 0.0001 | G35: =100%-F35 -> 0.9999 | H35: =C35*F35 -> 3.983004 | I35: =H35/$H$9 -> 0.0076893632 | J35: 0 | K35: =H35+J35 -> 3.983004 | L35: =K35/$K$9 -> 0.0076893632 | M35: =($C35+$E35)*G35 -> 39826.057 | N35: =M35/$M$9 -> 4.575195

Sheet Fiberplus
B1: Fill in boxes | C1: Input | F1: N stripping-scrubbing | H1: N stripped input | J1: N/Ca solution | L1: Filter press | N1: Ammonium sulphate solution | P1: Calciumcarbonate | S1: Diluted ammonium salt solution
A2: 80°C, pH 7,8 | B2: Composition input (e.g. digestate) | C2: Mass | D2: Calculated concentration | E2: Additive/no additive | F2: Recovery rate (%) to N/Ca solution | G2: Recovery rate (%) to initital N stripped input | H2: mass | I2: concentration | J2: mass | K2: concentration | L2: Recovery rate (%) to Ammonium sulphate solution | M2: Recovery rate (%) to Calciumcarbonate | N2: mass | O2: concentration | P2: mass | Q2: concentration | R2: Additive/no additive | S2: mass | T2: concentration
A3: 0.8 | B3: NH4-N scrubbing | D3: g/kg | I3: g/kg | K3: g/kg | O3: g/kg | Q3: g/kg | T3: g/kg
E4: Wet FGD Gypsum (CaSO4.2H2O) | G4: DM (g/kg) | H4: 750 | I4: S total (g/kg) | J4: 176
E5: =J9/1000 -> 0.72600848 | G5: OM (g/kg) | H5: 36 | I5: Ca total (g/kg) | J5: 169 | R5: water for dilution needed | T5: (NH4)2SO4 concentration initial Ammonium sulphate solution | X5: Molar mass (g/mol)
E6: =E5*1000 -> 726.00848 | F6: g/L | G6: N total (g/kg) | H6: 0.26 | I6: Mg total (g/kg) | J6: 0.29 | R6: when concentration (NH4)2SO4 >380g / kg | T6: =(((N22/Y6)/2)*Y11)/N10 -> 140.13523 | U6: g (NH4)2SO4 / kg | X6: N | Y6: 14.01
E7: =E6/E8 -> 355.88651 | F7: g/kg | G7: NH4-N (g/kg) | H7: 0.11 | T7: Maximum value for (NH4)2SO4 concentration in Ammonium sulphate solution | X7: H2O | Y7: 18.02
E8: 2.04 | F8: kg/l | G8: P total (g/kg) | H8: 0.14 | I8: CaSO4(g/kg) | J8: =(J5/Y13)*Y14 -> 574.04341 | R8: 1 | S8: kg/l | U8: 380 | V8: g/kg | X8: NH4 | Y8: 18.04
E9: =(E10/E8)/(C10/1000) -> 6.6383889 | F9: L/ton input | G9: K total (g/kg) | H9: 0.19 | I9: CaSO4.2H2O(g/kg) | J9: =(J5/Y13)*Y12 -> 726.00848 | R9: =R10/(N10/1000) -> 0 | S9: =CONCATENATE("L ",R5,"/ton initial AmmS solution") -> L water for dilution needed/ton initial AmmS solution | X9: H2SO4 | Y9: 98.08
A10: mass (kg/year) | B10: 222000 | C10: =B10 -> 222000 | E10: =((($J$22/$Y$6)/2)*$Y$12/$E$5)/1000 -> 3006.3936 | F10: =(J10/(C10+E10)) -> 0.079170492 | G10: =100%-F10 -> 0.92082951 | H10: =(H11+H12)/1000 -> 207192.53 | J10: =(J11+J12)/1000 -> 17813.867 | L10: =(N10/J10) -> 0.53681368 | M10: =100%-L10 -> 0.46318632 | N10: =(N11+N12)/1000 -> 9562.7274 | P10: =(P11+P12)/1000 -> 8251.1394 | R10: =(R11+R12)/1000 -> 0 | S10: =N10+R10 -> 9562.7274 | X10: SO4 | Y10: 96.08
A11: Water (g) | B11: =H19/1000 -> 1057.6625 | C11: =(C10*1000)-C12 -> 195360000 | E11: =(E10*1000)-E12 -> 751598.39 | F11: 0.05 | G11: =100%-F11 -> 0.95 | H11: =($C11+$E11)*G11 -> 1.8630602e+08 | I11: =H11/$H$10 -> 899.19275 | J11: =($C11+$E11)*F11 -> 9805579.9 | K11: =J11/$J$10 -> 550.44646 | L11: 0.8 | M11: =100%-L11 -> 0.2 | N11: =($J11)*L11 -> 7844463.9 | O11: =N11/$N$10 -> 820.31659 | P11: =($J11)*M11 -> 1961116 | Q11: =P11/$P$10 -> 237.6782 | R11: =(IF(((N10*(T6/U8))-N10)<0,0,((N10*(T6/W18))-N10)))*1000 -> 0 | S11: =N11+R11 -> 7844463.9 | T11: =S11/$S$10 -> 820.31659 | X11: (NH4)2SO4 | Y11: =Y8*2+96.06 -> 132.14
A12: Total DM (g) | B12: 120 | C12: =C13+C16 -> 26640000 | D12: =C12/C10 -> 120 | E12: =H4*$E$10 -> 2254795.2 | F12: =(J12/(C12+E12)) -> 0.27715327 | G12: =100%-F12 -> 0.72284673 | H12: =H13+H16 -> 20886508 | I12: =H12/$H$10 -> 100.80725 | J12: =J13+J16 -> 8008286.9 | K12: =J12/$J$10 -> 449.55354 | L12: =(N12/J12) -> 0.21456068 | M12: =100%-L12 -> 0.78543932 | N12: =N13+N16 -> 1718263.4 | O12: =N12/$N$10 -> 179.68341 | P12: =P13+P16 -> 6290023.4 | Q12: =P12/$P$10 -> 762.3218 | R12: 0 | S12: =N12+R12 -> 1718263.4 | T12: =S12/$S$10 -> 179.68341 | X12: CaSO4.2H2O | Y12: =Y14+2*Y7 -> 172.18
A13: DM (inorg) (g) | B13: =B12-B16 -> 50 | C13: =C14+C15 -> 11100000 | D13: =C13/C10 -> 50 | E13: =E12-E16 -> 2146565 | F13: =(J13/(C13+E13)) -> 0.58092964 | G13: =100%-F13 -> 0.41907036 | H13: =H14+H15 -> 5551242.8 | I13: =H13/$H$10 -> 26.792679 | J13: =J14+J15 -> 7695322.3 | K13: =J13/$J$10 -> 431.98494 | L13: =(N13/J13) -> 0.22247335 | M13: =100%-L13 -> 0.77752665 | N13: =N14+N15 -> 1712004.1 | O13: =N13/$N$10 -> 179.02886 | P13: =P14+P15 -> 5983318.1 | Q13: =P13/$P$10 -> 725.15053 | R13: 0 | S13: =N13+R13 -> 1712004.1 | T13: =S13/$S$10 -> 179.02886 | X13: Ca | Y13: 40.08
A14: DM (inorg, susp) (g) | B14: =B21+B28+B31+0.156+0.095+0.72+1.6+0.11 -> 3.6283684 | C14: =D14*C10 -> 5550000 | D14: =1/2*B13 -> 25 | E14: =E13*90% -> 1931908.5 | F14: 0.99 | G14: =100%-F14 -> 0.01 | H14: =($C14+$E14)*G14 -> 74819.085 | I14: =H14/$H$10 -> 0.36110899 | J14: =($C14+$E14)*F14 -> 7407089.4 | K14: =J14/$J$10 -> 415.80469 | L14: 0.2 | M14: =100%-L14 -> 0.8 | N14: =($J14)*L14 -> 1481417.9 | O14: =N14/$N$10 -> 154.91583 | P14: =($J14)*M14 -> 5925671.5 | Q14: =P14/$P$10 -> 718.16403 | R14: 0 | S14: =N14+R14 -> 1481417.9 | T14: =S14/$S$10 -> 154.91583 | X14: CaSO4 | Y14: 136.14
A15: DM (inorg, diss) (g) | B15: =B13-B14 -> 46.371632 | C15: =D15*C10 -> 5550000 | D15: =1/2*B13 -> 25 | E15: =E13*10% -> 214656.5 | F15: 0.05 | G15: =100%-F15 -> 0.95 | H15: =($C15+$E15)*G15 -> 5476423.7 | I15: =H15/$H$10 -> 26.43157 | J15: =($C15+$E15)*F15 -> 288232.83 | K15: =J15/$J$10 -> 16.18025 | L15: 0.8 | M15: =100%-L15 -> 0.2 | N15: =($J15)*L15 -> 230586.26 | O15: =N15/$N$10 -> 24.113022 | P15: =($J15)*M15 -> 57646.565 | Q15: =P15/$P$10 -> 6.9864975 | R15: 0 | S15: =N15+R15 -> 230586.26 | T15: =S15/$S$10 -> 24.113022
A16: DM (org) (g) | B16: 70 | C16: =C17+C18 -> 15540000 | D16: =C16/C10 -> 70 | E16: =H5*$E$10 -> 108230.17 | F16: =(J16/(C16+E16)) -> 0.02 | G16: =100%-F16 -> 0.98 | H16: =H17+H18 -> 15335266 | I16: =H16/$H$10 -> 74.014569 | J16: =J17+J18 -> 312964.6 | K16: =J16/$J$10 -> 17.568595 | L16: =(N16/J16) -> 0.02 | M16: =100%-L16 -> 0.98 | N16: =N17+N18 -> 6259.2921 | O16: =N16/$N$10 -> 0.65455093 | P16: =P17+P18 -> 306705.31 | Q16: =P16/$P$10 -> 37.171268 | R16: 0 | S16: =N16+R16 -> 6259.2921 | T16: =S16/$S$10 -> 0.65455093
A17: DM (org, susp) (g) | C17: =D17*C10 -> 11033400 | D17: =71%*B16 -> 49.7 | E17: =E16*90% -> 97407.152 | F17: 0.02 | G17: =100%-F17 -> 0.98 | H17: =($C17+$E17)*G17 -> 10908191 | I17: =H17/$H$10 -> 52.647608 | J17: =($C17+$E17)*F17 -> 222616.14 | K17: =J17/$J$10 -> 12.496789 | L17: 0.02 | M17: =100%-L17 -> 0.98 | N17: =($J17)*L17 -> 4452.3229 | O17: =N17/$N$10 -> 0.46559132 | P17: =($J17)*M17 -> 218163.82 | Q17: =P17/$P$10 -> 26.440448 | R17: 0 | S17: =N17+R17 -> 4452.3229 | T17: =S17/$S$10 -> 0.46559132
A18: DM (org, diss) (g) | C18: =D18*C10 -> 4506600 | D18: =29%*B16 -> 20.3 | E18: =E16*10% -> 10823.017 | F18: 0.02 | G18: =100%-F18 -> 0.98 | H18: =($C18+$E18)*G18 -> 4427074.6 | I18: =H18/$H$10 -> 21.366961 | J18: =($C18+$E18)*F18 -> 90348.46 | K18: =J18/$J$10 -> 5.0718051 | L18: 0.02 | M18: =100%-L18 -> 0.98 | N18: =($J18)*L18 -> 1806.9692 | O18: =N18/$N$10 -> 0.18895961 | P18: =($J18)*M18 -> 88541.491 | Q18: =P18/$P$10 -> 10.73082 | R18: 0 | S18: =N18+R18 -> 1806.9692 | T18: =S18/$S$10 -> 0.18895961
A19: N total (g) | B19: 6.5 | C19: =C20+C23 -> 1443000 | D19: =C19/C10 -> 6.5 | E19: =H6*$E$10 -> 781.66233 | F19: =(J19/(C19+E19)) -> 0.26723743 | G19: =100%-F19 -> 0.73276257 | H19: =H20+H23 -> 1057662.5 | I19: =H19/$H$10 -> 5.104733 | J19: =J20+J23 -> 385832.49 | K19: =J19/$J$10 -> 21.65911 | L19: =(N19/J19) -> 0.73945372 | M19: =100%-L19 -> 0.26054628 | N19: =N20+N23 -> 285305.27 | O19: =N19/$N$10 -> 29.835136 | P19: =P20+P23 -> 100527.22 | Q19: =P19/$P$10 -> 12.183435 | R19: 0 | S19: =N19+R19 -> 285305.27 | T19: =S19/$S$10 -> 29.835136
A20: N (inorg) (g) | B20: =D22/0.95 -> 2.1052632 | C20: =C21+C22 -> 467368.42 | D20: =C20/C10 -> 2.1052632 | E20: =E19*80% -> 625.32986 | F20: =(J20/(C20+E20)) -> 0.76148115 | G20: =100%-F20 -> 0.23851885 | H20: =H21+H22 -> 111346.04 | I20: =H20/$H$10 -> 0.53740373 | J20: =J21+J22 -> 356368.42 | K20: =J20/$J$10 -> 20.005113 | L20: =(N20/J20) -> 0.79754098 | M20: =100%-L20 -> 0.20245902 | N20: =N21+N22 -> 284218.42 | O20: =N20/$N$10 -> 29.721481 | P20: =P21+P22 -> 72150 | Q20: =P20/$P$10 -> 8.7442469 | R20: 0 | S20: =N20+R20 -> 284218.42 | T20: =S20/$S$10 -> 29.721481
A21: N (inorg, susp) (g) | C21: =D21*C10 -> 23368.421 | D21: =B20-D22 -> 0.10526316 | E21: =E20-E22 -> 294.62657 | F21: 0.05 | G21: =100%-F21 -> 0.95 | H21: =($C21+$E21)*G21 -> 22479.895 | I21: =H21/$H$10 -> 0.10849762 | J21: =C21*F21 -> 1168.4211 | K21: =J21/$J$10 -> 0.065590535 | L21: 0.05 | M21: =100%-L21 -> 0.95 | N21: =($J21)*L21 -> 58.421053 | O21: =N21/$N$10 -> 0.0061092459 | P21: =($J21)*M21 -> 1110 | Q21: =P21/$P$10 -> 0.13452688 | R21: 0 | S21: =N21+R21 -> 58.421053 | T21: =S21/$S$10 -> 0.0061092459
A22: N (inorg, diss) (g) | B22: 2 | C22: =D22*C10 -> 444000 | D22: =B22 -> 2 | E22: =H7*$E$10 -> 330.70329 | F22: 0.8 | G22: =100%-F22 -> 0.2 | H22: =($C22+$E22)*G22 -> 88866.141 | I22: =H22/$H$10 -> 0.42890611 | J22: =C22*F22 -> 355200 | K22: =J22/$J$10 -> 19.939523 | L22: 0.8 | M22: =100%-L22 -> 0.2 | N22: =($J22)*L22 -> 284160 | O22: =N22/$N$10 -> 29.715372 | P22: =($J22)*M22 -> 71040 | Q22: =P22/$P$10 -> 8.60972 | R22: 0 | S22: =N22+R22 -> 284160 | T22: =S22/$S$10 -> 29.715372
A23: N (org) (g) | B23: =B19-B20 -> 4.3947368 | C23: =C24+C25 -> 975631.58 | D23: =C23/C10 -> 4.3947368 | E23: =E19-E20 -> 156.33247 | F23: =(J23/(C23+E23)) -> 0.030195162 | G23: =100%-F23 -> 0.96980484 | H23: =H24+H25 -> 946316.49 | I23: =H23/$H$10 -> 4.5673293 | J23: =J24+J25 -> 29464.074 | K23: =J23/$J$10 -> 1.6539965 | L23: =(N23/J23) -> 0.036887417 | M23: =100%-L23 -> 0.96311258 | N23: =N24+N25 -> 1086.8536 | O23: =N23/$N$10 -> 0.11365519 | P23: =P24+P25 -> 28377.22 | Q23: =P23/$P$10 -> 3.4391881 | R23: 0 | S23: =N23+R23 -> 1086.8536 | T23: =S23/$S$10 -> 0.11365519
A24: N (org, susp) (g) | C24: =D24*C10 -> 331714.74 | D24: =0.34*B23 -> 1.4942105 | E24: =E23*90% -> 140.69922 | F24: 0.05 | G24: =100%-F24 -> 0.95 | H24: =($C24+$E24)*G24 -> 315262.66 | I24: =H24/$H$10 -> 1.5215928 | J24: =C24*F24 -> 16585.737 | K24: =J24/$J$10 -> 0.93105764 | L24: 0.05 | M24: =100%-L24 -> 0.95 | N24: =($J24)*L24 -> 829.28684 | O24: =N24/$N$10 -> 0.086720745 | P24: =($J24)*M24 -> 15756.45 | Q24: =P24/$P$10 -> 1.909609 | R24: 0 | S24: =N24+R24 -> 829.28684 | T24: =S24/$S$10 -> 0.086720745
A25: N (org, diss) (g) | C25: =D25*C10 -> 643916.84 | D25: =0.66*B23 -> 2.9005263 | E25: =E23*10% -> 15.633247 | F25: 0.02 | G25: =100%-F25 -> 0.98 | H25: =($C25+$E25)*G25 -> 631053.83 | I25: =H25/$H$10 -> 3.0457364 | J25: =C25*F25 -> 12878.337 | K25: =J25/$J$10 -> 0.72293888 | L25: 0.02 | M25: =100%-L25 -> 0.98 | N25: =($J25)*L25 -> 257.56674 | O25: =N25/$N$10 -> 0.026934443 | P25: =($J25)*M25 -> 12620.77 | Q25: =P25/$P$10 -> 1.5295791 | R25: 0 | S25: =N25+R25 -> 257.56674 | T25: =S25/$S$10 -> 0.026934443
A26: Ptotal (g) | B26: 1.2 | C26: =C27+C30 -> 266400 | D26: =C26/C10 -> 1.2 | E26: =H8*$E$10 -> 420.8951 | F26: =(J26/(C26+E26)) -> 0.0042038844 | G26: =100%-F26 -> 0.99579612 | H26: =H27+H30 -> 265698.37 | I26: =H26/$H$10 -> 1.2823743 | J26: =J27+J30 -> 1121.6842 | K26: =J26/$J$10 -> 0.062966914 | L26: =(N26/J26) -> 0.02 | M26: =100%-L26 -> 0.98 | N26: =N27+N30 -> 22.433684 | O26: =N26/$N$10 -> 0.0023459504 | P26: =P27+P30 -> 1099.2505 | Q26: =P26/$P$10 -> 0.13322409 | R26: 0 | S26: =N26+R26 -> 22.433684 | T26: =S26/$S$10 -> 0.0023459504
A27: P (inorg) (g) | B27: =B29/0.19 -> 0.78947368 | C27: =C28+C29 -> 175263.16 | D27: =C27/C10 -> 0.78947368 | E27: =E26*80% -> 336.71608 | F27: =(J27/(C27+E27)) -> 0.0037927134 | G27: =100%-F27 -> 0.99620729 | H27: =H28+H29 -> 174933.2 | I27: =H27/$H$10 -> 0.84430266 | J27: =J28+J29 -> 666 | K27: =J27/$J$10 -> 0.037386605 | L27: =(N27/J27) -> 0.02 | M27: =100%-L27 -> 0.98 | N27: =N28+N29 -> 13.32 | O27: =N27/$N$10 -> 0.0013929081 | P27: =P28+P29 -> 652.68 | Q27: =P27/$P$10 -> 0.079101803 | R27: 0 | S27: =N27+R27 -> 13.32 | T27: =S27/$S$10 -> 0.0013929081
A28: P (inorg, susp) (g) | B28: =B27-B29 -> 0.63947368 | C28: =D28*C10 -> 141963.16 | D28: =B28 -> 0.63947368 | E28: =E27*90% -> 303.04447 | F28: 0 | G28: =100%-F28 -> 1 | H28: =($C28+$E28)*G28 -> 142266.2 | I28: =H28/$H$10 -> 0.68663771 | J28: =C28*F28 -> 0 | K28: =J28/$J$10 -> 0 | L28: 0 | M28: =100%-L28 -> 1 | N28: =($J28)*L28 -> 0 | O28: =N28/$N$10 -> 0 | P28: =($J28)*M28 -> 0 | Q28: =P28/$P$10 -> 0 | R28: 0 | S28: =N28+R28 -> 0 | T28: =S28/$S$10 -> 0
A29: P (inorg, diss) (g) | B29: 0.15 | C29: =D29*C10 -> 33300 | D29: =B29 -> 0.15 | E29: =E27*10% -> 33.671608 | F29: 0.02 | G29: =100%-F29 -> 0.98 | H29: =($C29+$E29)*G29 -> 32666.998 | I29: =H29/$H$10 -> 0.15766494 | J29: =C29*F29 -> 666 | K29: =J29/$J$10 -> 0.037386605 | L29: 0.02 | M29: =100%-L29 -> 0.98 | N29: =($J29)*L29 -> 13.32 | O29: =N29/$N$10 -> 0.0013929081 | P29: =($J29)*M29 -> 652.68 | Q29: =P29/$P$10 -> 0.079101803 | R29: 0 | S29: =N29+R29 -> 13.32 | T29: =S29/$S$10 -> 0.0013929081
A30: P (org) (g) | B30: =B26-B27 -> 0.41052632 | C30: =C31+C32 -> 91136.842 | D30: =C30/C10 -> 0.41052632 | E30: =E26-E27 -> 84.17902 | F30: =(J30/(C30+E30)) -> 0.004995386 | G30: =100%-F30 -> 0.99500461 | H30: =H31+H32 -> 90765.169 | I30: =H30/$H$10 -> 0.43807163 | J30: =J31+J32 -> 455.68421 | K30: =J30/$J$10 -> 0.025580309 | L30: =(N30/J30) -> 0.02 | M30: =100%-L30 -> 0.98 | N30: =N31+N32 -> 9.1136842 | O30: =N30/$N$10 -> 0.00095304235 | P30: =P31+P32 -> 446.57053 | Q30: =P30/$P$10 -> 0.054122286 | R30: 0 | S30: =N30+R30 -> 9.1136842 | T30: =S30/$S$10 -> 0.00095304235
A31: P (org, susp) (g) | B31: =B30*0.75 -> 0.30789474 | C31: =D31*C10 -> 68352.632 | D31: =B31 -> 0.30789474 | E31: =E30*90% -> 75.761118 | F31: 0 | G31: =100%-F31 -> 1 | H31: =($C31+$E31)*G31 -> 68428.393 | I31: =H31/$H$10 -> 0.33026477 | J31: =C31*F31 -> 0 | K31: =J31/$J$10 -> 0 | L31: 0 | M31: =100%-L31 -> 1 | N31: =($J31)*L31 -> 0 | O31: =N31/$N$10 -> 0 | P31: =($J31)*M31 -> 0 | Q31: =P31/$P$10 -> 0 | R31: 0 | S31: =N31+R31 -> 0 | T31: =S31/$S$10 -> 0
A32: P (org, diss) (g) | B32: =B30*0.25 -> 0.10263158 | C32: =D32*C10 -> 22784.211 | D32: =B32 -> 0.10263158 | E32: =E30*10% -> 8.417902 | F32: 0.02 | G32: =100%-F32 -> 0.98 | H32: =($C32+$E32)*G32 -> 22336.776 | I32: =H32/$H$10 -> 0.10780686 | J32: =C32*F32 -> 455.68421 | K32: =J32/$J$10 -> 0.025580309 | L32: 0.02 | M32: =100%-L32 -> 0.98 | N32: =($J32)*L32 -> 9.1136842 | O32: =N32/$N$10 -> 0.00095304235 | P32: =($J32)*M32 -> 446.57053 | Q32: =P32/$P$10 -> 0.054122286 | R32: 0 | S32: =N32+R32 -> 9.1136842 | T32: =S32/$S$10 -> 0.00095304235
A33: K total (g) | B33: 5.5 | C33: =C34 -> 1221000 | D33: =C33/C10 -> 5.5 | E33: =H9*$E$10 -> 571.21478 | F33: =(J33/(C33+E33)) -> 0.0042979893 | G33: =100%-F33 -> 0.99570201 | H33: =H34 -> 1216320.6 | I33: =H33/$H$10 -> 5.870485 | J33: =J34 -> 5250.3 | K33: =J33/$J$10 -> 0.29473107 | L33: =(N33/J33) -> 0.005 | M33: =100%-L33 -> 0.995 | N33: =N34 -> 26.2515 | O33: =N33/$N$10 -> 0.0027451896 | P33: =P34 -> 5224.0485 | Q33: =P33/$P$10 -> 0.63313056 | R33: 0 | S33: =N33+R33 -> 26.2515 | T33: =S33/$S$10 -> 0.0027451896
