Workbook
Name capex_belt: #REF!
Name capex_cent: #REF!
Name CAPEX_DAF: #REF!
Name CAPEX_Nstrip: #REF!
Name cost_ch_DAF: 'RR pre-treatment MF'!$Y$27:$Z$34
Name cost_ch_DAF: #REF!
Name cost_evap: #REF!
Name cost_FBD: #REF!
Name cost_IX: #REF!
Name cost_MF: #REF!
Name cost_Nstripgyps: #REF!
Name cost_nstripgypsPT: #REF!
Name cost_repeatdryer: #REF!
Name cost_RO: #REF!
Name cost_screw: #REF!
Name cost_sepADD: #REF!
Name costs_repeat: #REF!
Name mass_gyps: #REF!
Name mass_NH42SO4: #REF!
Name Pstrip_aciddilSF: #REF!
Name Pstrip_CaOH2: #REF!
Name Pstrip_CAP: #REF!
Name Pstrip_CaSsludge: #REF!
Name Pstrip_dil: #REF!
Name Pstrip_driedCAP: #REF!
Name Pstrip_H2SO4: #REF!
Name Pstrip_LF1: #REF!
Name Pstrip_LF2: #REF!
Name Pstrip_LF3: #REF!
Name Pstrip_PlowSI: #REF!
Name Pstrip_water: #REF!
Name RR_dry_dried: #REF!
Name RR_dry_water: #REF!
Name RR_evap_conc: #REF!
Name RR_evap_cond: #REF!
Name RR_gstripscrub_AS: #REF!
Name RR_gstripscrub_CC: #REF!
Name RR_gstripscrub_NC: #REF!
Name RR_gstripscrub_Ndig: #REF!
Name RR_IX_salts: #REF!
Name RR_IX_water: #REF!
Name RR_MF_perm: #REF!
Name RR_MF_sol: #REF!
Name RR_RO_conc: #REF!
Name RR_RO_perm: #REF!
Name RR_sep: #REF!
Name RR_stripscrub_ASS: #REF!
Name RR_stripscrub_Ndig: #REF!
Name sep_ADD: #REF!
Name sep_ADDcalc: #REF!
Name stripscrub_acid: #REF!
Name stripscrub_ASdil: #REF!

Sheet parameters
A2: water | B2: Total water content
A3: Total DM | B3: Total Dry matter or total solids
A4: DM (inorg) | B4: Total inorganic dry matter, inorganic salts, ash or non-volatile solids
A5: DM (inorg, susp) | B5: Insoluble/suspended inorganic dry matter, inorganic salts, ash or non-volatile solids
A6: DM (inorg, diss) | B6: Dissolved inorganic dry matter, inorganic salts, ash or non-volatile solids e.g. ions, minerals
A7: DM (org) | B7: Total organic dry matter, organic matter, total volatile solids
A8: DM (org, susp) | B8: Insoluble/suspended organic dry matter, organic material, volatile solids
A9: DM (org, diss) | B9: Dissolved organic dry matter, organic material, volatile solids organic compounds, e.g. BOD, COD
A10: N total | B10: Total nitrogen
A11: N (inorg) | B11: Total inorganic nitrogen, nitrogen salts
A12: N (inorg, susp) | B12: Insoluble/suspended N salts
A13: N (inorg, diss) | B13: Dissolved inorganic nitrogen, mineral nitrogen, e.g. NH4-N, NO3-N, NO2-N. In the NUTRICAS Tool, NH4-N is assumed to be N (inorg, diss). NO3-N and NO2-N are not taken into account here, because they are rarely measured in feedstocks and digestate.
... A27: K (inorg, diss) | B27: Dissolved inorganic potassium, e.g. soluble K salts, K-ions
A28: K (org) | B28: Organic potassium | C28: In the NUTRICAS Tool, these parameters are considered as negligible.
A29: K (org, susp) | B29: Suspended organic potassium, K complexed in or bound to organic matter
A30: K (org, diss) | B30: Dissolved organic potassium, k bound to organic compounds that are small enough to be regarded as soluble

Sheet Decanter centrifuge
B1: Fill in boxes | C1: Input | F1: Decanter centrifuge | H1: solid fraction | J1: liquid fraction
B2: Composition input (e.g. digestate) | C2: Mass | D2: Calculated concentration | E2: Additive/no additive | F2: Separation efficiency (%) to Solid Fraction | G2: Separation efficiency (%) to Liquid Fraction | H2: mass | I2: concentration | J2: mass | K2: concentration
D3: g/kg | I3: g/kg | K3: g/kg
A4: mass (kg/year) | B4: 40000 | C4: =B4 -> 40000 | E4: Without additive | F4: 0.3 | G4: =100%-F4 -> 0.7 | H4: =C4*F4 -> 12000 | J4: =C4*G4 -> 28000
A5: Water (g) | C5: =(C4*1000)-C6 -> 36000000 | D5: =C5/C4 -> 900 | F5: =(H5/C5) -> 0.25888889 | G5: =100%-F5 -> 0.74111111 | H5: =(H4*1000)-H6 -> 9320000 | I5: =H5/$H$4 -> 776.66667 | J5: =(J4*1000)-J6 -> 26680000 | K5: =J5/$J$4 -> 952.85714
A6: Total DM (g) | B6: 100 | C6: =C7+C10 -> 4000000 | D6: =C6/C4 -> 100 | F6: =(H6/C6) -> 0.67 | G6: =J6/C6 -> 0.33 | H6: =H7+H10 -> 2680000 | I6: =H6/$H$4 -> 223.33333 | J6: =J7+J10 -> 1320000 | K6: =J6/$J$4 -> 47.142857
A7: DM (inorg) (g) | B7: =B6-B10 -> 40 | C7: =C8+C9 -> 1600000 | D7: =C7/C4 -> 40 | F7: =(H7/C7) -> 0.5 | G7: =J7/C7 -> 0.5 | H7: =H8+H9 -> 800000 | I7: =H7/$H$4 -> 66.666667 | J7: =J8+J9 -> 800000 | K7: =J7/$J$4 -> 28.571429
A8: DM (inorg, susp) (g) | C8: =D8*C4 -> 800000 | D8: =1/2*B7 -> 20 | F8: 0.8 | G8: =100%-F8 -> 0.2 | H8: =C8*F8 -> 640000 | I8: =H8/$H$4 -> 53.333333 | J8: =C8*G8 -> 160000 | K8: =J8/$J$4 -> 5.7142857
A9: DM (inorg, diss) (g) | C9: =D9*C4 -> 800000 | D9: =1/2*B7 -> 20 | F9: 0.2 | G9: =100%-F9 -> 0.8 | H9: =C9*F9 -> 160000 | I9: =H9/$H$4 -> 13.333333 | J9: =C9*G9 -> 640000 | K9: =J9/$J$4 -> 22.857143
A10: DM (org) (g) | B10: =0.6*B6 -> 60 | C10: =C11+C12 -> 2400000 | D10: =C10/C4 -> 60 | F10: =(H10/C10) -> 0.78333333 | G10: =J10/C10 -> 0.21666667 | H10: =H11+H12 -> 1880000 | I10: =H10/$H$4 -> 156.66667 | J10: =J11+J12 -> 520000 | K10: =J10/$J$4 -> 18.571429
A11: DM (org, susp) (g) | C11: =D11*C4 -> 2000000 | D11: =5/6*B10 -> 50 | F11: 0.9 | G11: =100%-F11 -> 0.1 | H11: =C11*F11 -> 1800000 | I11: =H11/$H$4 -> 150 | J11: =C11*G11 -> 200000 | K11: =J11/$J$4 -> 7.1428571
A12: DM (org, diss) (g) | C12: =D12*C4 -> 400000 | D12: =1/6*B10 -> 10 | F12: 0.2 | G12: =100%-F12 -> 0.8 | H12: =C12*F12 -> 80000 | I12: =H12/$H$4 -> 6.6666667 | J12: =C12*G12 -> 320000 | K12: =J12/$J$4 -> 11.428571
A13: N total (g) | B13: 6.7 | C13: =C14+C17 -> 268000 | D13: =C13/C4 -> 6.7 | F13: =(H13/C13) -> 0.33630536 | G13: =J13/C13 -> 0.66369464 | H13: =H14+H17 -> 90129.836 | I13: =H13/$H$4 -> 7.5108197 | J13: =J14+J17 -> 177870.16 | K13: =J13/$J$4 -> 6.3525058
A14: N (inorg) (g) | B14: =D16/0.94 -> 3.9361702 | C14: =C15+C16 -> 157446.81 | D14: =C14/C4 -> 3.9361702 | F14: =(H14/C14) -> 0.28535556 | G14: =J14/C14 -> 0.71464444 | H14: =H15+H16 -> 44928.322 | I14: =H14/$H$4 -> 3.7440268 | J14: =J15+J16 -> 112518.49 | K14: =J14/$J$4 -> 4.0185174
A15: N (inorg, susp) (g) | C15: =D15*C4 -> 9446.8085 | D15: =B14-D16 -> 0.23617021 | F15: 0.7 | G15: =100%-F15 -> 0.3 | H15: =C15*F15 -> 6612.766 | I15: =H15/$H$4 -> 0.55106383 | J15: =C15*G15 -> 2834.0426 | K15: =J15/$J$4 -> 0.10121581
A16: N (inorg, diss) (g) | B16: 3.7 | C16: =D16*C4 -> 148000 | D16: =B16 -> 3.7 | F16: =$F$5 -> 0.25888889 | G16: =100%-F16 -> 0.74111111 | H16: =C16*F16 -> 38315.556 | I16: =H16/$H$4 -> 3.192963 | J16: =C16*G16 -> 109684.44 | K16: =J16/$J$4 -> 3.9173016
A17: N (org) (g) | B17: =B13-B14 -> 2.7638298 | C17: =C18+C19 -> 110553.19 | D17: =C17/C4 -> 2.7638298 | F17: =(H17/C17) -> 0.40886667 | G17: =J17/C17 -> 0.59113333 | H17: =H18+H19 -> 45201.515 | I17: =H17/$H$4 -> 3.7667929 | J17: =J18+J19 -> 65351.677 | K17: =J17/$J$4 -> 2.3339884
A18: N (org, susp) (g) | C18: =D18*C4 -> 37588.085 | D18: =0.34*B17 -> 0.93970213 | F18: 0.7 | G18: =100%-F18 -> 0.3 | H18: =C18*F18 -> 26311.66 | I18: =H18/$H$4 -> 2.1926383 | J18: =C18*G18 -> 11276.426 | K18: =J18/$J$4 -> 0.40272948
A19: N (org, diss) (g) | C19: =D19*C4 -> 72965.106 | D19: =0.66*B17 -> 1.8241277 | F19: =$F$5 -> 0.25888889 | G19: =100%-F19 -> 0.74111111 | H19: =C19*F19 -> 18889.855 | I19: =H19/$H$4 -> 1.5741546 | J19: =C19*G19 -> 54075.251 | K19: =J19/$J$4 -> 1.931259
A20: Ptotal (g) | B20: 1.8 | C20: =C21+C24 -> 72000 | D20: =C20/C4 -> 1.8 | F20: =(H20/C20) -> 0.58972222 | G20: =J20/C20 -> 0.41027778 | H20: =H21+H24 -> 42460 | I20: =H20/$H$4 -> 3.5383333 | J20: =J21+J24 -> 29540 | K20: =J20/$J$4 -> 1.055
A21: P (inorg) (g) | C21: =C22+C23 -> 3600 | D21: =C21/C4 -> 0.09 | F21: =(H21/C21) -> 0.61177778 | G21: =J21/C21 -> 0.38822222 | H21: =H22+H23 -> 2202.4 | I21: =H21/$H$4 -> 0.18353333 | J21: =J22+J23 -> 1397.6 | K21: =J21/$J$4 -> 0.049914286
A22: P (inorg, susp) (g) | C22: =D22*C4 -> 2880 | D22: =0.04*B20 -> 0.072 | F22: 0.7 | G22: =100%-F22 -> 0.3 | H22: =C22*F22 -> 2016 | I22: =H22/$H$4 -> 0.168 | J22: =C22*G22 -> 864 | K22: =J22/$J$4 -> 0.030857143
A23: P (inorg, diss) (g) | B23: 0.059 | C23: =D23*C4 -> 720 | D23: =0.01*B20 -> 0.018 | F23: =$F$5 -> 0.25888889 | G23: =100%-F23 -> 0.74111111 | H23: =C23*F23 -> 186.4 | I23: =H23/$H$4 -> 0.015533333 | J23: =C23*G23 -> 533.6 | K23: =J23/$J$4 -> 0.019057143
A24: P (org) (g) | C24: =C25+C26 -> 68400 | D24: =C24/C4 -> 1.71 | F24: =(H24/C24) -> 0.5885614 | G24: =J24/C24 -> 0.4114386 | H24: =H25+H26 -> 40257.6 | I24: =H24/$H$4 -> 3.3548 | J24: =J25+J26 -> 28142.4 | K24: =J24/$J$4 -> 1.0050857
A25: P (org, susp) (g) | C25: =D25*C4 -> 51120 | D25: =0.71*B20 -> 1.278 | F25: 0.7 | G25: =100%-F25 -> 0.3 | H25: =C25*F25 -> 35784 | I25: =H25/$H$4 -> 2.982 | J25: =C25*G25 -> 15336 | K25: =J25/$J$4 -> 0.54771429
A26: P (org, diss) (g) | C26: =D26*C4 -> 17280 | D26: =0.24*B20 -> 0.432 | F26: =$F$5 -> 0.25888889 | G26: =100%-F26 -> 0.74111111 | H26: =C26*F26 -> 4473.6 | I26: =H26/$H$4 -> 0.3728 | J26: =C26*G26 -> 12806.4 | K26: =J26/$J$4 -> 0.45737143
A27: K total (g) | B27: =6.2*0.83 -> 5.146 | C27: =C28 -> 205840 | D27: =C27/C4 -> 5.146 | F27: =(H27/C27) -> 0.26464444 | G27: =J27/C27 -> 0.73535556 | H27: =H28+H31 -> 54474.412 | I27: =H27/$H$4 -> 4.5395344 | J27: =J28+J31 -> 151365.59 | K27: =J27/$J$4 -> 5.4059138
A28: K (inorg) (g) | C28: =C29+C30 -> 205840 | D28: =C28/C4 -> 5.146 | F28: =(H28/C28) -> 0.26464444 | G28: =J28/C28 -> 0.73535556 | H28: =H29+H30 -> 54474.412 | I28: =H28/$H$4 -> 4.5395344 | J28: =J29+J30 -> 151365.59 | K28: =J28/$J$4 -> 5.4059138
A29: K (inorg, susp) (g) | C29: =D29*C4 -> 28817.6 | D29: =0.14*B27 -> 0.72044 | F29: 0.3 | G29: =100%-F29 -> 0.7 | H29: =C29*F29 -> 8645.28 | I29: =H29/$H$4 -> 0.72044 | J29: =C29*G29 -> 20172.32 | K29: =J29/$J$4 -> 0.72044
A30: K (inorg, diss) (g) | C30: =D30*C4 -> 177022.4 | D30: =0.86*B27 -> 4.42556 | F30: =$F$5 -> 0.25888889 | G30: =100%-F30 -> 0.74111111 | H30: =C30*F30 -> 45829.132 | I30: =H30/$H$4 -> 3.8190944 | J30: =C30*G30 -> 131193.27 | K30: =J30/$J$4 -> 4.6854738
E34: =CONCATENATE(E35,"% polymer solution") -> 0,5% polymer solution
E35: 0.5 | F35: %
E36: =E35*10 -> 5 | F36: g powder polymer/L water
E37: 1 | F37: kg/l
E38: 100 | F38: =CONCATENATE("L ",E34,"/ton input") -> L 0,5% polymer solution/ton input
A39: mass (kg/year) | B39: 40000 | C39: =B39 -> 40000 | E39: =(E38*E37/1000)*C39 -> 4000 | F39: 0.28 | G39: =100%-F39 -> 0.72 | H39: =($C39+$E39)*F39 -> 12320 | J39: =($C39+$E39)*G39 -> 31680
A40: Water (g) | C40: =(C39*1000)-C41 -> 34400000 | D40: =C40/C39 -> 860 | E40: =(E39*1000)-E41 -> 3980000 | F40: =(H40/C40) -> 0.2452907 | G40: =100%-F40 -> 0.7547093 | H40: =(H39*1000)-H41 -> 8438000 | I40: =H39/$H$39 -> 1 | J40: =(J39*1000)-J41 -> 29942000 | K40: =J40/$J$39 -> 945.13889
A41: Total DM (g) | B41: 140 | C41: =C42+C45 -> 5600000 | D41: =C41/C39 -> 140 | E41: =E42+E45 -> 20000 | F41: =(H41/C41) -> 0.69321429 | G41: =J41/C41 -> 0.31035714 | H41: =H42+H45 -> 3882000 | I41: =H41/$H$39 -> 315.0974 | J41: =J42+J45 -> 1738000 | K41: =J41/$J$39 -> 54.861111
A42: DM (inorg) (g) | B42: =B41-B45 -> 56 | C42: =C43+C44 -> 2240000 | D42: =C42/C39 -> 56 | E42: =E43+E44 -> 0 | F42: =(H42/C42) -> 0.525 | G42: =J42/C42 -> 0.475 | H42: =H43+H44 -> 1176000 | I42: =H42/$H$39 -> 95.454545 | J42: =J43+J44 -> 1064000 | K42: =J42/$J$39 -> 33.585859
A43: DM (inorg, susp) (g) | C43: =D43*C39 -> 1120000 | D43: =1/2*B42 -> 28 | E43: 0 | F43: 0.8 | G43: =100%-F43 -> 0.2 | H43: =($C43+$E43)*F43 -> 896000 | I43: =H43/$H$39 -> 72.727273 | J43: =($C43+$E43)*G43 -> 224000 | K43: =J43/$J$39 -> 7.0707071
A44: DM (inorg, diss) (g) | C44: =D44*C39 -> 1120000 | D44: =1/2*B42 -> 28 | E44: 0 | F44: 0.25 | G44: =100%-F44 -> 0.75 | H44: =($C44+$E44)*F44 -> 280000 | I44: =H44/$H$39 -> 22.727273 | J44: =($C44+$E44)*G44 -> 840000 | K44: =J44/$J$39 -> 26.515152
A45: DM (org) (g) | B45: =0.6*B41 -> 84 | C45: =C46+C47 -> 3360000 | D45: =C45/C39 -> 84 | E45: =E46+E47 -> 20000 | F45: =(H45/C45) -> 0.80535714 | G45: =J45/C45 -> 0.20059524 | H45: =H46+H47 -> 2706000 | I45: =H45/$H$39 -> 219.64286 | J45: =J46+J47 -> 674000 | K45: =J45/$J$39 -> 21.275253
A46: DM (org, susp) (g) | C46: =D46*C39 -> 2800000 | D46: =5/6*B45 -> 70 | E46: =E36*E39 -> 20000 | F46: 0.9 | G46: =100%-F46 -> 0.1 | H46: =($C46+$E46)*F46 -> 2538000 | I46: =H46/$H$39 -> 206.00649 | J46: =($C46+$E46)*G46 -> 282000 | K46: =J46/$J$39 -> 8.9015152
A47: DM (org, diss) (g) | C47: =D47*C39 -> 560000 | D47: =1/6*B45 -> 14 | E47: 0 | F47: 0.3 | G47: =100%-F47 -> 0.7 | H47: =($C47+$E47)*F47 -> 168000 | I47: =H47/$H$39 -> 13.636364 | J47: =($C47+$E47)*G47 -> 392000 | K47: =J47/$J$39 -> 12.373737
A48: N total (g) | B48: 6.7 | C48: =C49+C52 -> 268000 | D48: =C48/C39 -> 6.7 | E48: 0 | F48: =(H48/C48) -> 0.40894603 | G48: =J48/C48 -> 0.59105397 | H48: =H49+H52 -> 109597.54 | I48: =H48/$H$39 -> 8.8959039 | J48: =J49+J52 -> 158402.46 | K48: =J48/$J$39 -> 5.0000778
A49: N (inorg) (g) | B49: =D51/0.94 -> 3.9361702 | C49: =C50+C51 -> 157446.81 | D49: =C49/C39 -> 3.9361702 | E49: 0 | F49: =(H49/C49) -> 0.27557326 | G49: =J49/C49 -> 0.72442674 | H49: =H50+H51 -> 43388.13 | I49: =H49/$H$39 -> 3.5217638 | J49: =J50+J51 -> 114058.68 | K49: =J49/$J$39 -> 3.6003371
A50: N (inorg, susp) (g) | C50: =D50*C39 -> 9446.8085 | D50: =B49-D51 -> 0.23617021 | E50: 0 | F50: 0.75 | G50: =100%-F50 -> 0.25 | H50: =C50*F50 -> 7085.1064 | I50: =H50/$H$39 -> 0.5750898 | J50: =C50*G50 -> 2361.7021 | K50: =J50/$J$39 -> 0.074548678
A51: N (inorg, diss) (g) | B51: 3.7 | C51: =D51*C39 -> 148000 | D51: =B51 -> 3.7 | E51: 0 | F51: =$F$40 -> 0.2452907 | G51: =100%-F51 -> 0.7547093 | H51: =C51*F51 -> 36303.023 | I51: =H51/$H$39 -> 2.946674 | J51: =C51*G51 -> 111696.98 | K51: =J51/$J$39 -> 3.5257884
A52: N (org) (g) | B52: =B48-B49 -> 2.7638298 | C52: =C53+C54 -> 110553.19 | D52: =C52/C39 -> 2.7638298 | E52: 0 | F52: =(H52/C52) -> 0.59889186 | G52: =J52/C52 -> 0.40110814 | H52: =H53+H54 -> 66209.407 | I52: =H52/$H$39 -> 5.3741401 | J52: =J53+J54 -> 44343.785 | K52: =J52/$J$39 -> 1.3997407
A53: N (org, susp) (g) | C53: =D53*C39 -> 37588.085 | D53: =0.34*B52 -> 0.93970213 | E53: 0 | F53: 0.8 | G53: =100%-F53 -> 0.2 | H53: =C53*F53 -> 30070.468 | I53: =H53/$H$39 -> 2.4407847 | J53: =C53*G53 -> 7517.617 | K53: =J53/$J$39 -> 0.23729852
A54: N (org, diss) (g) | C54: =D54*C39 -> 72965.106 | D54: =0.66*B52 -> 1.8241277 | E54: 0 | F54: =$F$40+25% -> 0.4952907 | G54: =100%-F54 -> 0.5047093 | H54: =C54*F54 -> 36138.938 | I54: =H54/$H$39 -> 2.9333554 | J54: =C54*G54 -> 36826.168 | K54: =J54/$J$39 -> 1.1624422
A55: Ptotal (g) | B55: 1.8 | C55: =C56+C59 -> 72000 | D55: =C55/C39 -> 1.8 | E55: 0 | F55: =(H55/C55) -> 0.79408624 | G55: =J55/C55 -> 0.20591376 | H55: =H56+H59 -> 57174.209 | I55: =H55/$H$39 -> 4.6407637 | J55: =J56+J59 -> 14825.791 | K55: =J55/$J$39 -> 0.46798582
A56: P (inorg) (g) | C56: =C57+C58 -> 3600 | D56: =C56/C39 -> 0.09 | E56: 0 | F56: =(H56/C56) -> 0.65905814 | G56: =J56/C56 -> 0.34094186 | H56: =H57+H58 -> 2372.6093 | I56: =H56/$H$39 -> 0.19258192 | J56: =J57+J58 -> 1227.3907 | K56: =J56/$J$39 -> 0.038743393
A57: P (inorg, susp) (g) | C57: =D57*C39 -> 2880 | D57: =0.04*B55 -> 0.072 | E57: 0 | F57: 0.75 | G57: =100%-F57 -> 0.25 | H57: =C57*F57 -> 2160 | I57: =H57/$H$39 -> 0.17532468 | J57: =C57*G57 -> 720 | K57: =J57/$J$39 -> 0.022727273
A58: P (inorg, diss) (g) | B58: 0.059 | C58: =D58*C39 -> 720 | D58: =0.01*B55 -> 0.018 | E58: 0 | F58: =$F$40+5% -> 0.2952907 | G58: =100%-F58 -> 0.7047093 | H58: =C58*F58 -> 212.6093 | I58: =H58/$H$39 -> 0.017257249 | J58: =C58*G58 -> 507.3907 | K58: =J58/$J$39 -> 0.016016121
A59: P (org) (g) | C59: =C60+C61 -> 68400 | D59: =C59/C39 -> 1.71 | E59: 0 | F59: =(H59/C59) -> 0.80119298 | G59: =J59/C59 -> 0.19880702 | H59: =H60+H61 -> 54801.6 | I59: =H59/$H$39 -> 4.4481818 | J59: =J60+J61 -> 13598.4 | K59: =J59/$J$39 -> 0.42924242
A60: P (org, susp) (g) | C60: =D60*C39 -> 51120 | D60: =0.71*B55 -> 1.278 | E60: 0 | F60: 0.9 | G60: =100%-F60 -> 0.1 | H60: =C60*F60 -> 46008 | I60: =H60/$H$39 -> 3.7344156 | J60: =C60*G60 -> 5112 | K60: =J60/$J$39 -> 0.16136364
A61: P (org, diss) (g) | C61: =D61*C39 -> 17280 | D61: =0.24*B55 -> 0.432 | E61: 0 | F61: =$F$5+25% -> 0.50888889 | G61: =100%-F61 -> 0.49111111 | H61: =C61*F61 -> 8793.6 | I61: =H61/$H$39 -> 0.71376623 | J61: =C61*G61 -> 8486.4 | K61: =J61/$J$39 -> 0.26787879
A62: K total (g) | B62: =6.2*0.83 -> 5.146 | C62: =C63 -> 205840 | D62: =C62/C39 -> 5.146 | E62: 0 | F62: =(H62/C62) -> 0.25995 | G62: =J62/C62 -> 0.74005 | H62: =H63 -> 53508.108 | I62: =H62/$H$39 -> 4.3431906 | J62: =J63 -> 152331.89 | K62: =J62/$J$39 -> 4.8084562
A63: K (inorg) (g) | C63: =C64+C65 -> 205840 | D63: =C63/C39 -> 5.146 | E63: 0 | F63: =(H63/C63) -> 0.25995 | G63: =J63/C63 -> 0.74005 | H63: =H64+H65 -> 53508.108 | I63: =H63/$H$39 -> 4.3431906 | J63: =J64+J65 -> 152331.89 | K63: =J63/$J$39 -> 4.8084562
A64: K (inorg, susp) (g) | C64: =D64*C39 -> 28817.6 | D64: =0.14*B62 -> 0.72044 | E64: 0 | F64: 0.35 | G64: =100%-F64 -> 0.65 | H64: =C64*F64 -> 10086.16 | I64: =H64/$H$39 -> 0.81868182 | J64: =C64*G64 -> 18731.44 | K64: =J64/$J$39 -> 0.5912702
A65: K (inorg, diss) (g) | C65: =D65*C39 -> 177022.4 | D65: =0.86*B62 -> 4.42556 | E65: 0 | F65: =$F$40 -> 0.2452907 | G65: =100%-F65 -> 0.7547093 | H65: =C65*F65 -> 43421.948 | I65: =H65/$H$39 -> 3.5245088 | J65: =C65*G65 -> 133600.45 | K65: =J65/$J$39 -> 4.217186
E70: =CONCATENATE(E71,"% FeCl3 solution") -> 40% FeCl3 solution
E71: 40 | F71: %
E72: =E71*10 -> 400 | F72: g FeCl3/L solution
E73: 1.438 | F73: kg/l
E74: 11 | F74: =CONCATENATE("L ",E70,"/ton input") -> L 40% FeCl3 solution/ton input
A75: mass (kg/year) | B75: 40000 | C75: =B75 -> 40000 | E75: =(E74*E73/1000)*C75 -> 632.72 | F75: 0.3 | G75: =100%-F75 -> 0.7 | H75: =($C75+$E75)*F75 -> 12189.816 | J75: =($C75+$E75)*G75 -> 28442.904
A76: Water (g) | C76: =(C75*1000)-C77 -> 36000000 | D76: =C76/C75 -> 900 | E76: =(E75*1000)-E77 -> 456720 | F76: =(H76/C76) -> 0.26318378 | G76: =100%-F76 -> 0.73681622 | H76: =(H75*1000)-H77 -> 9474616 | I76: =H76/$H$75 -> 777.25669 | J76: =(J75*1000)-J77 -> 26982104 | K76: =J76/$J$75 -> 948.64097
A77: Total DM (g) | B77: 100 | C77: =C78+C81 -> 4000000 | D77: =C77/C75 -> 100 | E77: =E78+E81 -> 176000 | F77: =(H77/C77) -> 0.6788 | G77: =J77/C77 -> 0.3652 | H77: =H78+H81 -> 2715200 | I77: =H77/$H$75 -> 222.74331 | J77: =J78+J81 -> 1460800 | K77: =J77/$J$75 -> 51.359031
A78: DM (inorg) (g) | B78: =B77-B81 -> 40 | C78: =C79+C80 -> 1600000 | D78: =C78/C75 -> 40 | E78: =E79+E80 -> 176000 | F78: =(H78/C78) -> 0.522 | G78: =J78/C78 -> 0.588 | H78: =H79+H80 -> 835200 | I78: =H78/$H$75 -> 68.516211 | J78: =J79+J80 -> 940800 | K78: =J78/$J$75 -> 33.076791
A79: DM (inorg, susp) (g) | C79: =D79*C75 -> 800000 | D79: =1/2*B78 -> 20 | E79: 0 | F79: 0.8 | G79: =100%-F79 -> 0.2 | H79: =($C79+$E79)*F79 -> 640000 | I79: =H79/$H$75 -> 52.502843 | J79: =($C79+$E79)*G79 -> 160000 | K79: =J79/$J$75 -> 5.6253046
A80: DM (inorg, diss) (g) | C80: =D80*C75 -> 800000 | D80: =1/2*B78 -> 20 | E80: =E72*(E75/E73) -> 176000 | F80: 0.2 | G80: =100%-F80 -> 0.8 | H80: =($C80+$E80)*F80 -> 195200 | I80: =H80/$H$75 -> 16.013367 | J80: =($C80+$E80)*G80 -> 780800 | K80: =J80/$J$75 -> 27.451487
A81: DM (org) (g) | B81: =0.6*B77 -> 60 | C81: =C82+C83 -> 2400000 | D81: =C81/C75 -> 60 | E81: =E82+E83 -> 0 | F81: =(H81/C81) -> 0.78333333 | G81: =J81/C81 -> 0.21666667 | H81: =H82+H83 -> 1880000 | I81: =H81/$H$75 -> 154.2271 | J81: =J82+J83 -> 520000 | K81: =J81/$J$75 -> 18.28224
A82: DM (org, susp) (g) | C82: =D82*C75 -> 2000000 | D82: =5/6*B81 -> 50 | E82: 0 | F82: 0.9 | G82: =100%-F82 -> 0.1 | H82: =($C82+$E82)*F82 -> 1800000 | I82: =H82/$H$75 -> 147.66425 | J82: =($C82+$E82)*G82 -> 200000 | K82: =J82/$J$75 -> 7.0316308
A83: DM (org, diss) (g) | C83: =D83*C75 -> 400000 | D83: =1/6*B81 -> 10 | E83: 0 | F83: 0.2 | G83: =100%-F83 -> 0.8 | H83: =($C83+$E83)*F83 -> 80000 | I83: =H83/$H$75 -> 6.5628554 | J83: =($C83+$E83)*G83 -> 320000 | K83: =J83/$J$75 -> 11.250609
A84: N total (g) | B84: 6.7 | C84: =C85+C88 -> 268000 | D84: =C84/C75 -> 6.7 | E84: 0 | F84: =(H84/C84) -> 0.33984648 | G84: =J84/C84 -> 0.66015352 | H84: =H85+H88 -> 91078.857 | I84: =H84/$H$75 -> 7.4717171 | J84: =J85+J88 -> 176921.14 | K84: =J84/$J$75 -> 6.2202208
A85: N (inorg) (g) | B85: =D87/0.94 -> 3.9361702 | C85: =C86+C87 -> 157446.81 | D85: =C85/C75 -> 3.9361702 | E85: 0 | F85: =(H85/C85) -> 0.28939275 | G85: =J85/C85 -> 0.71060725 | H85: =H86+H87 -> 45563.965 | I85: =H85/$H$75 -> 3.7378714 | J85: =J86+J87 -> 111882.84 | K85: =J85/$J$75 -> 3.9335942
A86: N (inorg, susp) (g) | C86: =D86*C75 -> 9446.8085 | D86: =B85-D87 -> 0.23617021 | E86: 0 | F86: 0.7 | G86: =100%-F86 -> 0.3 | H86: =C86*F86 -> 6612.766 | I86: =H86/$H$75 -> 0.54248284 | J86: =C86*G86 -> 2834.0426 | K86: =J86/$J$75 -> 0.099639705
A87: N (inorg, diss) (g) | B87: 3.7 | C87: =D87*C75 -> 148000 | D87: =B87 -> 3.7 | E87: 0 | F87: =$F$76 -> 0.26318378 | G87: =100%-F87 -> 0.73681622 | H87: =C87*F87 -> 38951.199 | I87: =H87/$H$75 -> 3.1953886 | J87: =C87*G87 -> 109048.8 | K87: =J87/$J$75 -> 3.8339545
A88: N (org) (g) | B88: =B84-B85 -> 2.7638298 | C88: =C89+C90 -> 110553.19 | D88: =C88/C75 -> 2.7638298 | E88: 0 | F88: =(H88/C88) -> 0.41170129 | G88: =J88/C88 -> 0.58829871 | H88: =H89+H90 -> 45514.892 | I88: =H88/$H$75 -> 3.7338457 | J88: =J89+J90 -> 65038.3 | K88: =J88/$J$75 -> 2.2866266
A89: N (org, susp) (g) | C89: =D89*C75 -> 37588.085 | D89: =0.34*B88 -> 0.93970213 | E89: 0 | F89: 0.7 | G89: =100%-F89 -> 0.3 | H89: =C89*F89 -> 26311.66 | I89: =H89/$H$75 -> 2.1584952 | J89: =C89*G89 -> 11276.426 | K89: =J89/$J$75 -> 0.39645831
A90: N (org, diss) (g) | C90: =D90*C75 -> 72965.106 | D90: =0.66*B88 -> 1.8241277 | E90: 0 | F90: =$F$76 -> 0.26318378 | G90: =100%-F90 -> 0.73681622 | H90: =C90*F90 -> 19203.232 | I90: =H90/$H$75 -> 1.5753505 | J90: =C90*G90 -> 53761.874 | K90: =J90/$J$75 -> 1.8901682
A91: Ptotal (g) | B91: 1.8 | C91: =C92+C95 -> 72000 | D91: =C91/C75 -> 1.8 | E91: 0 | F91: =(H91/C91) -> 0.63179594 | G91: =J91/C91 -> 0.36820406 | H91: =H92+H95 -> 45489.308 | I91: =H91/$H$75 -> 3.7317469 | J91: =J92+J95 -> 26510.692 | K91: =J91/$J$75 -> 0.93206699
A92: P (inorg) (g) | C92: =C93+C94 -> 3600 | D92: =C92/C75 -> 0.09 | E92: 0 | F92: =(H92/C92) -> 0.71263676 | G92: =J92/C92 -> 0.28736324 | H92: =H93+H94 -> 2565.4923 | I92: =H92/$H$75 -> 0.21046194 | J92: =J93+J94 -> 1034.5077 | K92: =J92/$J$75 -> 0.03637138
A93: P (inorg, susp) (g) | C93: =D93*C75 -> 2880 | D93: =0.04*B91 -> 0.072 | E93: 0 | F93: 0.7 | G93: =100%-F93 -> 0.3 | H93: =C93*F93 -> 2016 | I93: =H93/$H$75 -> 0.16538396 | J93: =C93*G93 -> 864 | K93: =J93/$J$75 -> 0.030376645
A94: P (inorg, diss) (g) | B94: 0.059 | C94: =D94*C75 -> 720 | D94: =0.01*B91 -> 0.018 | E94: 0 | F94: =$F$76+50% -> 0.76318378 | G94: =100%-F94 -> 0.23681622 | H94: =C94*F94 -> 549.49232 | I94: =H94/$H$75 -> 0.045077983 | J94: =C94*G94 -> 170.50768 | K94: =J94/$J$75 -> 0.0059947353
A95: P (org) (g) | C95: =C96+C97 -> 68400 | D95: =C95/C75 -> 1.71 | E95: 0 | F95: =(H95/C95) -> 0.62754116 | G95: =J95/C95 -> 0.37245884 | H95: =H96+H97 -> 42923.816 | I95: =H95/$H$75 -> 3.521285 | J95: =J96+J97 -> 25476.184 | K95: =J95/$J$75 -> 0.89569561
A96: P (org, susp) (g) | C96: =D96*C75 -> 51120 | D96: =0.71*B91 -> 1.278 | E96: 0 | F96: 0.7 | G96: =100%-F96 -> 0.3 | H96: =C96*F96 -> 35784 | I96: =H96/$H$75 -> 2.9355652 | J96: =C96*G96 -> 15336 | K96: =J96/$J$75 -> 0.53918545
A97: P (org, diss) (g) | C97: =D97*C75 -> 17280 | D97: =0.24*B91 -> 0.432 | E97: 0 | F97: =$F$76+15% -> 0.41318378 | G97: =100%-F97 -> 0.58681622 | H97: =C97*F97 -> 7139.8157 | I97: =H97/$H$75 -> 0.58571973 | J97: =C97*G97 -> 10140.184 | K97: =J97/$J$75 -> 0.35651016
A98: K total (g) | B98: =6.2*0.83 -> 5.146 | C98: =C99 -> 205840 | D98: =C98/C75 -> 5.146 | E98: 0 | F98: =(H98/C98) -> 0.26833805 | G98: =J98/C98 -> 0.73166195 | H98: =H99 -> 55234.704 | I98: =H98/$H$75 -> 4.5312172 | J98: =J99 -> 150605.3 | K98: =J98/$J$75 -> 5.2950042
A99: K (inorg) (g) | C99: =C100+C101 -> 205840 | D99: =C99/C75 -> 5.146 | E99: 0 | F99: =(H99/C99) -> 0.26833805 | G99: =J99/C99 -> 0.73166195 | H99: =H100+H101 -> 55234.704 | I99: =H99/$H$75 -> 4.5312172 | J99: =J100+J101 -> 150605.3 | K99: =J99/$J$75 -> 5.2950042
A100: K (inorg, susp) (g) | C100: =D100*C75 -> 28817.6 | D100: =0.14*B98 -> 0.72044 | E100: 0 | F100: 0.3 | G100: =100%-F100 -> 0.7 | H100: =C100*F100 -> 8645.28 | I100: =H100/$H$75 -> 0.70922153 | J100: =C100*G100 -> 20172.32 | K100: =J100/$J$75 -> 0.70922153
A101: K (inorg, diss) (g) | C101: =D101*C75 -> 177022.4 | D101: =0.86*B98 -> 4.42556 | E101: 0 | F101: =$F$76 -> 0.26318378 | G101: =100%-F101 -> 0.73681622 | H101: =C101*F101 -> 46589.424 | I101: =H101/$H$75 -> 3.8219957 | J101: =C101*G101 -> 130432.98 | K101: =J101/$J$75 -> 4.5857827
E106: =CONCATENATE(E107,"% Fe2(SO4)3 solution") -> 40% Fe2(SO4)3 solution
E107: 40 | F107: %
E108: =E107*10 -> 400 | F108: g Fe2(SO4)3/L solution
E109: 1.52 | F109: kg/l
E110: 4.5 | F110: =CONCATENATE("L ",E106,"/ton input") -> L 40% Fe2(SO4)3 solution/ton input
A111: mass (kg/year) | B111: 40000 | C111: =B111 -> 40000 | E111: =(E110*E109/1000)*C111 -> 273.6 | F111: 0.3 | G111: =100%-F111 -> 0.7 | H111: =($C111+$E111)*F111 -> 12082.08 | J111: =($C111+$E111)*G111 -> 28191.52
...

Sheet Screw press
B1: Fill in boxes | C1: Input | F1: Screw press | H1: solid fraction | J1: liquid fraction
B2: Composition input (e.g. digestate) | C2: Mass | D2: Calculated concentration | E2: Additive/no additive | F2: Separation efficiency (%) to Solid Fraction | G2: Separation efficiency (%) to Liquid Fraction | H2: mass | I2: concentration | J2: mass | K2: concentration
D3: g/kg | I3: g/kg | K3: g/kg
A4: mass (kg/year) | B4: 40000 | C4: =B4 -> 40000 | E4: Without additive | F4: 0.3 | G4: =100%-F4 -> 0.7 | H4: =C4*F4 -> 12000 | J4: =C4*G4 -> 28000
A5: Water (g) | C5: =(C4*1000)-C6 -> 36000000 | D5: =C5/C4 -> 900 | F5: =(H5/C5) -> 0.27 | G5: =100%-F5 -> 0.73 | H5: =(H4*1000)-H6 -> 9720000 | I5: =H5/$H$4 -> 810 | J5: =(J4*1000)-J6 -> 26280000 | K5: =J5/$J$4 -> 938.57143
A6: Total DM (g) | B6: 100 | C6: =C7+C10 -> 4000000 | D6: =C6/C4 -> 100 | F6: =(H6/C6) -> 0.57 | G6: =J6/C6 -> 0.43 | H6: =H7+H10 -> 2280000 | I6: =H6/$H$4 -> 190 | J6: =J7+J10 -> 1720000 | K6: =J6/$J$4 -> 61.428571
A7: DM (inorg) (g) | B7: =B6-B10 -> 40 | C7: =C8+C9 -> 1600000 | D7: =C7/C4 -> 40 | F7: =(H7/C7) -> 0.4 | G7: =J7/C7 -> 0.6 | H7: =H8+H9 -> 640000 | I7: =H7/$H$4 -> 53.333333 | J7: =J8+J9 -> 960000 | K7: =J7/$J$4 -> 34.285714
A8: DM (inorg, susp) (g) | C8: =D8*C4 -> 800000 | D8: =1/2*B7 -> 20 | F8: 0.7 | G8: =100%-F8 -> 0.3 | H8: =C8*F8 -> 560000 | I8: =H8/$H$4 -> 46.666667 | J8: =C8*G8 -> 240000 | K8: =J8/$J$4 -> 8.5714286
A9: DM (inorg, diss) (g) | C9: =D9*C4 -> 800000 | D9: =1/2*B7 -> 20 | F9: 0.1 | G9: =100%-F9 -> 0.9 | H9: =C9*F9 -> 80000 | I9: =H9/$H$4 -> 6.6666667 | J9: =C9*G9 -> 720000 | K9: =J9/$J$4 -> 25.714286
A10: DM (org) (g) | B10: =0.6*B6 -> 60 | C10: =C11+C12 -> 2400000 | D10: =C10/C4 -> 60 | F10: =(H10/C10) -> 0.68333333 | G10: =J10/C10 -> 0.31666667 | H10: =H11+H12 -> 1640000 | I10: =H10/$H$4 -> 136.66667 | J10: =J11+J12 -> 760000 | K10: =J10/$J$4 -> 27.142857
A11: DM (org, susp) (g) | C11: =D11*C4 -> 2000000 | D11: =5/6*B10 -> 50 | F11: 0.8 | G11: =100%-F11 -> 0.2 | H11: =C11*F11 -> 1600000 | I11: =H11/$H$4 -> 133.33333 | J11: =C11*G11 -> 400000 | K11: =J11/$J$4 -> 14.285714
A12: DM (org, diss) (g) | C12: =D12*C4 -> 400000 | D12: =1/6*B10 -> 10 | F12: 0.1 | G12: =100%-F12 -> 0.9 | H12: =C12*F12 -> 40000 | I12: =H12/$H$4 -> 3.3333333 | J12: =C12*G12 -> 360000 | K12: =J12/$J$4 -> 12.857143
A13: N total (g) | B13: 6.7 | C13: =C14+C17 -> 268000 | D13: =C13/C4 -> 6.7 | F13: =(H13/C13) -> 0.34546643 | G13: =J13/C13 -> 0.65453357 | H13: =H14+H17 -> 92585.004 | I13: =H13/$H$4 -> 7.715417 | J13: =J14+J17 -> 175415 | K13: =J13/$J$4 -> 6.2648213
A14: N (inorg) (g) | B14: =D16/0.94 -> 3.9361702 | C14: =C15+C16 -> 157446.81 | D14: =C14/C4 -> 3.9361702 | F14: =(H14/C14) -> 0.2958 | G14: =J14/C14 -> 0.7042 | H14: =H15+H16 -> 46572.766 | I14: =H14/$H$4 -> 3.8810638 | J14: =J15+J16 -> 110874.04 | K14: =J14/$J$4 -> 3.9597872
A15: N (inorg, susp) (g) | C15: =D15*C4 -> 9446.8085 | D15: =B14-D16 -> 0.23617021 | F15: 0.7 | G15: =100%-F15 -> 0.3 | H15: =C15*F15 -> 6612.766 | I15: =H15/$H$4 -> 0.55106383 | J15: =C15*G15 -> 2834.0426 | K15: =J15/$J$4 -> 0.10121581
A16: N (inorg, diss) (g) | B16: 3.7 | C16: =D16*C4 -> 148000 | D16: =B16 -> 3.7 | F16: =$F$5 -> 0.27 | G16: =100%-F16 -> 0.73 | H16: =C16*F16 -> 39960 | I16: =H16/$H$4 -> 3.33 | J16: =C16*G16 -> 108040 | K16: =J16/$J$4 -> 3.8585714
A17: N (org) (g) | B17: =B13-B14 -> 2.7638298 | C17: =C18+C19 -> 110553.19 | D17: =C17/C4 -> 2.7638298 | F17: =(H17/C17) -> 0.4162 | G17: =J17/C17 -> 0.5838 | H17: =H18+H19 -> 46012.238 | I17: =H17/$H$4 -> 3.8343532 | J17: =J18+J19 -> 64540.953 | K17: =J17/$J$4 -> 2.305034
A18: N (org, susp) (g) | C18: =D18*C4 -> 37588.085 | D18: =0.34*B17 -> 0.93970213 | F18: 0.7 | G18: =100%-F18 -> 0.3 | H18: =C18*F18 -> 26311.66 | I18: =H18/$H$4 -> 2.1926383 | J18: =C18*G18 -> 11276.426 | K18: =J18/$J$4 -> 0.40272948
A19: N (org, diss) (g) | C19: =D19*C4 -> 72965.106 | D19: =0.66*B17 -> 1.8241277 | F19: =$F$5 -> 0.27 | G19: =100%-F19 -> 0.73 | H19: =C19*F19 -> 19700.579 | I19: =H19/$H$4 -> 1.6417149 | J19: =C19*G19 -> 53264.528 | K19: =J19/$J$4 -> 1.9023046
A20: Ptotal (g) | B20: 1.8 | C20: =C21+C24 -> 72000 | D20: =C20/C4 -> 1.8 | F20: =(H20/C20) -> 0.5135 | G20: =J20/C20 -> 0.4865 | H20: =H21+H24 -> 36972 | I20: =H20/$H$4 -> 3.081 | J20: =J21+J24 -> 35028 | K20: =J20/$J$4 -> 1.251
A21: P (inorg) (g) | C21: =C22+C23 -> 3600 | D21: =C21/C4 -> 0.09 | F21: =(H21/C21) -> 0.454 | G21: =J21/C21 -> 0.546 | H21: =H22+H23 -> 1634.4 | I21: =H21/$H$4 -> 0.1362 | J21: =J22+J23 -> 1965.6 | K21: =J21/$J$4 -> 0.0702
A22: P (inorg, susp) (g) | C22: =D22*C4 -> 2880 | D22: =0.04*B20 -> 0.072 | F22: 0.5 | G22: =100%-F22 -> 0.5 | H22: =C22*F22 -> 1440 | I22: =H22/$H$4 -> 0.12 | J22: =C22*G22 -> 1440 | K22: =J22/$J$4 -> 0.051428571
A23: P (inorg, diss) (g) | B23: 0.059 | C23: =D23*C4 -> 720 | D23: =0.01*B20 -> 0.018 | F23: =$F$5 -> 0.27 | G23: =100%-F23 -> 0.73 | H23: =C23*F23 -> 194.4 | I23: =H23/$H$4 -> 0.0162 | J23: =C23*G23 -> 525.6 | K23: =J23/$J$4 -> 0.018771429
A24: P (org) (g) | C24: =C25+C26 -> 68400 | D24: =C24/C4 -> 1.71 | F24: =(H24/C24) -> 0.51663158 | G24: =J24/C24 -> 0.48336842 | H24: =H25+H26 -> 35337.6 | I24: =H24/$H$4 -> 2.9448 | J24: =J25+J26 -> 33062.4 | K24: =J24/$J$4 -> 1.1808
A25: P (org, susp) (g) | C25: =D25*C4 -> 51120 | D25: =0.71*B20 -> 1.278 | F25: 0.6 | G25: =100%-F25 -> 0.4 | H25: =C25*F25 -> 30672 | I25: =H25/$H$4 -> 2.556 | J25: =C25*G25 -> 20448 | K25: =J25/$J$4 -> 0.73028571
A26: P (org, diss) (g) | C26: =D26*C4 -> 17280 | D26: =0.24*B20 -> 0.432 | F26: =$F$5 -> 0.27 | G26: =100%-F26 -> 0.73 | H26: =C26*F26 -> 4665.6 | I26: =H26/$H$4 -> 0.3888 | J26: =C26*G26 -> 12614.4 | K26: =J26/$J$4 -> 0.45051429
A27: K total (g) | B27: =6.2*0.83 -> 5.146 | C27: =C28 -> 205840 | D27: =C27/C4 -> 5.146 | F27: =(H27/C27) -> 0.2672 | G27: =J27/C27 -> 0.7328 | H27: =H28+H31 -> 55000.448 | I27: =H27/$H$4 -> 4.5833707 | J27: =J28+J31 -> 150839.55 | K27: =J27/$J$4 -> 5.3871269
A28: K (inorg) (g) | C28: =C29+C30 -> 205840 | D28: =C28/C4 -> 5.146 | F28: =(H28/C28) -> 0.2672 | G28: =J28/C28 -> 0.7328 | H28: =H29+H30 -> 55000.448 | I28: =H28/$H$4 -> 4.5833707 | J28: =J29+J30 -> 150839.55 | K28: =J28/$J$4 -> 5.3871269
A29: K (inorg, susp) (g) | C29: =D29*C4 -> 28817.6 | D29: =0.14*B27 -> 0.72044 | F29: 0.25 | G29: =100%-F29 -> 0.75 | H29: =C29*F29 -> 7204.4 | I29: =H29/$H$4 -> 0.60036667 | J29: =C29*G29 -> 21613.2 | K29: =J29/$J$4 -> 0.7719
A30: K (inorg, diss) (g) | C30: =D30*C4 -> 177022.4 | D30: =0.86*B27 -> 4.42556 | F30: =$F$5 -> 0.27 | G30: =100%-F30 -> 0.73 | H30: =C30*F30 -> 47796.048 | I30: =H30/$H$4 -> 3.983004 | J30: =C30*G30 -> 129226.35 | K30: =J30/$J$4 -> 4.6152269
E34: =CONCATENATE(E35,"% polymer solution") -> 0,5% polymer solution
E35: 0.5 | F35: %
E36: =E35*10 -> 5 | F36: g powder polymer/L water
E37: 1 | F37: kg/l
E38: 100 | F38: =CONCATENATE("L ",E34,"/ton input") -> L 0,5% polymer solution/ton input
A39: mass (kg/year) | C39: 40000 | E39: =(E38*E37/1000)*C39 -> 4000 | F39: 0.28 | G39: =100%-F39 -> 0.72 | H39: =($C39+$E39)*F39 -> 12320 | J39: =($C39+$E39)*G39 -> 31680
A40: Water (g) | C40: =(C39*1000)-C41 -> 36000000 | D40: =C40/C39 -> 900 | E40: =(E39*1000)-E41 -> 3980000 | F40: =(H40/C40) -> 0.27288889 | G40: =100%-F40 -> 0.72711111 | H40: =(H39*1000)-H41 -> 9824000 | I40: =H39/$H$39 -> 1 | J40: =(J39*1000)-J41 -> 30156000 | K40: =J40/$J$39 -> 951.89394
A41: Total DM (g) | B41: 100 | C41: =C42+C45 -> 4000000 | D41: =C41/C39 -> 100 | E41: =E42+E45 -> 20000 | F41: =(H41/C41) -> 0.624 | G41: =J41/C41 -> 0.381 | H41: =H42+H45 -> 2496000 | I41: =H41/$H$39 -> 202.5974 | J41: =J42+J45 -> 1524000 | K41: =J41/$J$39 -> 48.106061
A42: DM (inorg) (g) | B42: =B41-B45 -> 40 | C42: =C43+C44 -> 1600000 | D42: =C42/C39 -> 40 | E42: =E43+E44 -> 0 | F42: =(H42/C42) -> 0.5 | G42: =J42/C42 -> 0.5 | H42: =H43+H44 -> 800000 | I42: =H42/$H$39 -> 64.935065 | J42: =J43+J44 -> 800000 | K42: =J42/$J$39 -> 25.252525
A43: DM (inorg, susp) (g) | C43: =D43*C39 -> 800000 | D43: =1/2*B42 -> 20 | E43: 0 | F43: 0.8 | G43: =100%-F43 -> 0.2 | H43: =($C43+$E43)*F43 -> 640000 | I43: =H43/$H$39 -> 51.948052 | J43: =($C43+$E43)*G43 -> 160000 | K43: =J43/$J$39 -> 5.0505051
A44: DM (inorg, diss) (g) | C44: =D44*C39 -> 800000 | D44: =1/2*B42 -> 20 | E44: 0 | F44: 0.2 | G44: =100%-F44 -> 0.8 | H44: =($C44+$E44)*F44 -> 160000 | I44: =H44/$H$39 -> 12.987013 | J44: =($C44+$E44)*G44 -> 640000 | K44: =J44/$J$39 -> 20.20202
A45: DM (org) (g) | B45: =0.6*B41 -> 60 | C45: =C46+C47 -> 2400000 | D45: =C45/C39 -> 60 | E45: =E46+E47 -> 20000 | F45: =(H45/C45) -> 0.70666667 | G45: =J45/C45 -> 0.30166667 | H45: =H46+H47 -> 1696000 | I45: =H45/$H$39 -> 137.66234 | J45: =J46+J47 -> 724000 | K45: =J45/$J$39 -> 22.853535
A46: DM (org, susp) (g) | C46: =D46*C39 -> 2000000 | D46: =5/6*B45 -> 50 | E46: =E36*E39 -> 20000 | F46: 0.8 | G46: =100%-F46 -> 0.2 | H46: =($C46+$E46)*F46 -> 1616000 | I46: =H46/$H$39 -> 131.16883 | J46: =($C46+$E46)*G46 -> 404000 | K46: =J46/$J$39 -> 12.752525
A47: DM (org, diss) (g) | C47: =D47*C39 -> 400000 | D47: =1/6*B45 -> 10 | E47: 0 | F47: 0.2 | G47: =100%-F47 -> 0.8 | H47: =($C47+$E47)*F47 -> 80000 | I47: =H47/$H$39 -> 6.4935065 | J47: =($C47+$E47)*G47 -> 320000 | K47: =J47/$J$39 -> 10.10101
A48: N total (g) | B48: 6.7 | C48: =C49+C52 -> 268000 | D48: =C48/C39 -> 6.7 | E48: 0 | F48: =(H48/C48) -> 0.34784831 | G48: =J48/C48 -> 0.65215169 | H48: =H49+H52 -> 93223.348 | I48: =H48/$H$39 -> 7.5668302 | J48: =J49+J52 -> 174776.65 | K48: =J48/$J$39 -> 5.5169398
A49: N (inorg) (g) | B49: =D51/0.94 -> 3.9361702 | C49: =C50+C51 -> 157446.81 | D49: =C49/C39 -> 3.9361702 | E49: 0 | F49: =(H49/C49) -> 0.29851556 | G49: =J49/C49 -> 0.70148444 | H49: =H50+H51 -> 47000.322 | I49: =H49/$H$39 -> 3.8149612 | J49: =J50+J51 -> 110446.49 | K49: =J49/$J$39 -> 3.4863159
A50: N (inorg, susp) (g) | C50: =D50*C39 -> 9446.8085 | D50: =B49-D51 -> 0.23617021 | E50: 0 | F50: 0.7 | G50: =100%-F50 -> 0.3 | H50: =C50*F50 -> 6612.766 | I50: =H50/$H$39 -> 0.53675048 | J50: =C50*G50 -> 2834.0426 | K50: =J50/$J$39 -> 0.089458414
A51: N (inorg, diss) (g) | B51: 3.7 | C51: =D51*C39 -> 148000 | D51: =B51 -> 3.7 | E51: 0 | F51: =$F$40 -> 0.27288889 | G51: =100%-F51 -> 0.72711111 | H51: =C51*F51 -> 40387.556 | I51: =H51/$H$39 -> 3.2782107 | J51: =C51*G51 -> 107612.44 | K51: =J51/$J$39 -> 3.3968575
A52: N (org) (g) | B52: =B48-B49 -> 2.7638298 | C52: =C53+C54 -> 110553.19 | D52: =C52/C39 -> 2.7638298 | E52: 0 | F52: =(H52/C52) -> 0.41810667 | G52: =J52/C52 -> 0.58189333 | H52: =H53+H54 -> 46223.026 | I52: =H52/$H$39 -> 3.751869 | J52: =J53+J54 -> 64330.165 | K52: =J52/$J$39 -> 2.0306239
A53: N (org, susp) (g) | C53: =D53*C39 -> 37588.085 | D53: =0.34*B52 -> 0.93970213 | E53: 0 | F53: 0.7 | G53: =100%-F53 -> 0.3 | H53: =C53*F53 -> 26311.66 | I53: =H53/$H$39 -> 2.1356867 | J53: =C53*G53 -> 11276.426 | K53: =J53/$J$39 -> 0.35594778
A54: N (org, diss) (g) | C54: =D54*C39 -> 72965.106 | D54: =0.66*B52 -> 1.8241277 | E54: 0 | F54: =$F$40 -> 0.27288889 | G54: =100%-F54 -> 0.72711111 | H54: =C54*F54 -> 19911.367 | I54: =H54/$H$39 -> 1.6161824 | J54: =C54*G54 -> 53053.74 | K54: =J54/$J$39 -> 1.6746761
A55: Ptotal (g) | B55: 1.8 | C55: =C56+C59 -> 72000 | D55: =C55/C39 -> 1.8 | E55: 0 | F55: =(H55/C55) -> 0.58702889 | G55: =J55/C55 -> 0.41297111 | H55: =H56+H59 -> 42266.08 | I55: =H55/$H$39 -> 3.4306883 | J55: =J56+J59 -> 29733.92 | K55: =J55/$J$39 -> 0.93857071
A56: P (inorg) (g) | C56: =C57+C58 -> 3600 | D56: =C56/C39 -> 0.09 | E56: 0 | F56: =(H56/C56) -> 0.49457778 | G56: =J56/C56 -> 0.50542222 | H56: =H57+H58 -> 1780.48 | I56: =H56/$H$39 -> 0.14451948 | J56: =J57+J58 -> 1819.52 | K56: =J56/$J$39 -> 0.057434343
A57: P (inorg, susp) (g) | C57: =D57*C39 -> 2880 | D57: =0.04*B55 -> 0.072 | E57: 0 | F57: 0.55 | G57: =100%-F57 -> 0.45 | H57: =C57*F57 -> 1584 | I57: =H57/$H$39 -> 0.12857143 | J57: =C57*G57 -> 1296 | K57: =J57/$J$39 -> 0.040909091
A58: P (inorg, diss) (g) | B58: 0.059 | C58: =D58*C39 -> 720 | D58: =0.01*B55 -> 0.018 | E58: 0 | F58: =$F$40 -> 0.27288889 | G58: =100%-F58 -> 0.72711111 | H58: =C58*F58 -> 196.48 | I58: =H58/$H$39 -> 0.015948052 | J58: =C58*G58 -> 523.52 | K58: =J58/$J$39 -> 0.016525253
A59: P (org) (g) | C59: =C60+C61 -> 68400 | D59: =C59/C39 -> 1.71 | E59: 0 | F59: =(H59/C59) -> 0.59189474 | G59: =J59/C59 -> 0.40810526 | H59: =H60+H61 -> 40485.6 | I59: =H59/$H$39 -> 3.2861688 | J59: =J60+J61 -> 27914.4 | K59: =J59/$J$39 -> 0.88113636
A60: P (org, susp) (g) | C60: =D60*C39 -> 51120 | D60: =0.71*B55 -> 1.278 | E60: 0 | F60: 0.65 | G60: =100%-F60 -> 0.35 | H60: =C60*F60 -> 33228 | I60: =H60/$H$39 -> 2.6970779 | J60: =C60*G60 -> 17892 | K60: =J60/$J$39 -> 0.56477273
A61: P (org, diss) (g) | C61: =D61*C39 -> 17280 | D61: =0.24*B55 -> 0.432 | E61: 0 | F61: =$F$5+15% -> 0.42 | G61: =100%-F61 -> 0.58 | H61: =C61*F61 -> 7257.6 | I61: =H61/$H$39 -> 0.58909091 | J61: =C61*G61 -> 10022.4 | K61: =J61/$J$39 -> 0.31636364
A62: K total (g) | B62: =6.2*0.83 -> 5.146 | C62: =C63 -> 205840 | D62: =C62/C39 -> 5.146 | E62: 0 | F62: =(H62/C62) -> 0.26968444 | G62: =J62/C62 -> 0.73031556 | H62: =H63 -> 55511.846 | I62: =H62/$H$39 -> 4.5058317 | J62: =J63 -> 150328.15 | K62: =J62/$J$39 -> 4.7452069
A63: K (inorg) (g) | C63: =C64+C65 -> 205840 | D63: =C63/C39 -> 5.146 | E63: 0 | F63: =(H63/C63) -> 0.26968444 | G63: =J63/C63 -> 0.73031556 | H63: =H64+H65 -> 55511.846 | I63: =H63/$H$39 -> 4.5058317 | J63: =J64+J65 -> 150328.15 | K63: =J63/$J$39 -> 4.7452069
A64: K (inorg, susp) (g) | C64: =D64*C39 -> 28817.6 | D64: =0.14*B62 -> 0.72044 | E64: 0 | F64: 0.25 | G64: =100%-F64 -> 0.75 | H64: =C64*F64 -> 7204.4 | I64: =H64/$H$39 -> 0.58477273 | J64: =C64*G64 -> 21613.2 | K64: =J64/$J$39 -> 0.68223485
A65: K (inorg, diss) (g) | C65: =D65*C39 -> 177022.4 | D65: =0.86*B62 -> 4.42556 | E65: 0 | F65: =$F$40 -> 0.27288889 | G65: =100%-F65 -> 0.72711111 | H65: =C65*F65 -> 48307.446 | I65: =H65/$H$39 -> 3.9210589 | J65: =C65*G65 -> 128714.95 | K65: =J65/$J$39 -> 4.062972

Sheet Belt press
B1: Fill in boxes | C1: Input | F1: Belt press | H1: solid fraction | J1: liquid fraction
B2: Composition input (e.g. digestate) | C2: Mass | D2: Calculated concentration | E2: Additive/no additive | F2: Separation efficiency (%) to Solid Fraction | G2: Separation efficiency (%) to Liquid Fraction | H2: mass | I2: concentration | J2: mass | K2: concentration
D3: g/kg | I3: g/kg | K3: g/kg
E4: =CONCATENATE(E5,"% polymer solution") -> 0,5% polymer solution
E5: 0.5 | F5: %
E6: =E5*10 -> 5 | F6: g powder polymer/L water
E7: 1 | F7: kg/l
E8: 100 | F8: =CONCATENATE("L ",E4,"/ton input") -> L 0,5% polymer solution/ton input
A9: mass (kg/year) | B9: 40000 | C9: =B9 -> 40000 | E9: =(E8*E7/1000)*C9 -> 4000 | F9: 0.29 | G9: =100%-F9 -> 0.71 | H9: =($C9+$E9)*F9 -> 12760 | J9: =($C9+$E9)*G9 -> 31240
A10: Water (g) | C10: =(C9*1000)-C11 -> 36000000 | D10: =C10/C9 -> 900 | E10: =(E9*1000)-E11 -> 3980000 | F10: =(H10/C10) -> 0.28286111 | G10: =100%-F10 -> 0.71713889 | H10: =(H9*1000)-H11 -> 10183000 | I10: =H10/$H$9 -> 798.04075 | J10: =(J9*1000)-J11 -> 29797000 | K10: =J10/$J$9 -> 953.80922
A11: Total DM (g) | B11: 100 | C11: =C12+C15 -> 4000000 | D11: =C11/C9 -> 100 | E11: =E12+E15 -> 20000 | F11: =(H11/C11) -> 0.64425 | G11: =J11/C11 -> 0.36075 | H11: =H12+H15 -> 2577000 | I11: =H11/$H$9 -> 201.95925 | J11: =J12+J15 -> 1443000 | K11: =J11/$J$9 -> 46.190781
A12: DM (inorg) (g) | B12: =B11-B15 -> 40 | C12: =C13+C14 -> 1600000 | D12: =C12/C9 -> 40 | E12: =E13+E14 -> 0 | F12: =(H12/C12) -> 0.475 | G12: =J12/C12 -> 0.525 | H12: =H13+H14 -> 760000 | I12: =H12/$H$9 -> 59.561129 | J12: =J13+J14 -> 840000 | K12: =J12/$J$9 -> 26.888604
A13: DM (inorg, susp) (g) | C13: =D13*C9 -> 800000 | D13: =1/2*B12 -> 20 | E13: 0 | F13: 0.75 | G13: =100%-F13 -> 0.25 | H13: =($C13+$E13)*F13 -> 600000 | I13: =H13/$H$9 -> 47.021944 | J13: =($C13+$E13)*G13 -> 200000 | K13: =J13/$J$9 -> 6.4020487
A14: DM (inorg, diss) (g) | C14: =D14*C9 -> 800000 | D14: =1/2*B12 -> 20 | E14: 0 | F14: 0.2 | G14: =100%-F14 -> 0.8 | H14: =($C14+$E14)*F14 -> 160000 | I14: =H14/$H$9 -> 12.539185 | J14: =($C14+$E14)*G14 -> 640000 | K14: =J14/$J$9 -> 20.486556
A15: DM (org) (g) | B15: =0.6*B11 -> 60 | C15: =C16+C17 -> 2400000 | D15: =C15/C9 -> 60 | E15: =E16+E17 -> 20000 | F15: =(H15/C15) -> 0.75708333 | G15: =J15/C15 -> 0.25125 | H15: =H16+H17 -> 1817000 | I15: =H15/$H$9 -> 142.39812 | J15: =J16+J17 -> 603000 | K15: =J15/$J$9 -> 19.302177
A16: DM (org, susp) (g) | C16: =D16*C9 -> 2000000 | D16: =5/6*B15 -> 50 | E16: =E6*E9 -> 20000 | F16: 0.85 | G16: =100%-F16 -> 0.15 | H16: =($C16+$E16)*F16 -> 1717000 | I16: =H16/$H$9 -> 134.56113 | J16: =($C16+$E16)*G16 -> 303000 | K16: =J16/$J$9 -> 9.6991037
A17: DM (org, diss) (g) | C17: =D17*C9 -> 400000 | D17: =1/6*B15 -> 10 | E17: 0 | F17: 0.25 | G17: =100%-F17 -> 0.75 | H17: =($C17+$E17)*F17 -> 100000 | I17: =H17/$H$9 -> 7.8369906 | J17: =($C17+$E17)*G17 -> 300000 | K17: =J17/$J$9 -> 9.603073
A18: N total (g) | B18: 6.7 | C18: =C19+C22 -> 268000 | D18: =C18/C9 -> 6.7 | E18: 0 | F18: =(H18/C18) -> 0.36308308 | G18: =J18/C18 -> 0.63691692 | H18: =H19+H22 -> 97306.265 | I18: =H18/$H$9 -> 7.6258829 | J18: =J19+J22 -> 170693.73 | K18: =J18/$J$9 -> 5.463948
A19: N (inorg) (g) | B19: =D21/0.94 -> 3.9361702 | C19: =C20+C21 -> 157446.81 | D19: =C19/C9 -> 3.9361702 | E19: 0 | F19: =(H19/C19) -> 0.30788944 | G19: =J19/C19 -> 0.69211056 | H19: =H20+H21 -> 48476.21 | I19: =H19/$H$9 -> 3.7990761 | J19: =J20+J21 -> 108970.6 | K19: =J19/$J$9 -> 3.4881754
A20: N (inorg, susp) (g) | C20: =D20*C9 -> 9446.8085 | D20: =B19-D21 -> 0.23617021 | E20: 0 | F20: 0.7 | G20: =100%-F20 -> 0.3 | H20: =C20*F20 -> 6612.766 | I20: =H20/$H$9 -> 0.51824185 | J20: =C20*G20 -> 2834.0426 | K20: =J20/$J$9 -> 0.090718392
A21: N (inorg, diss) (g) | B21: 3.7 | C21: =D21*C9 -> 148000 | D21: =B21 -> 3.7 | E21: 0 | F21: =$F$10 -> 0.28286111 | G21: =100%-F21 -> 0.71713889 | H21: =C21*F21 -> 41863.444 | I21: =H21/$H$9 -> 3.2808342 | J21: =C21*G21 -> 106136.56 | K21: =J21/$J$9 -> 3.397457
A22: N (org) (g) | B22: =B18-B19 -> 2.7638298 | C22: =C23+C24 -> 110553.19 | D22: =C22/C9 -> 2.7638298 | E22: 0 | F22: =(H22/C22) -> 0.44168833 | G22: =J22/C22 -> 0.55831167 | H22: =H23+H24 -> 48830.055 | I22: =H22/$H$9 -> 3.8268068 | J22: =J23+J24 -> 61723.137 | K22: =J22/$J$9 -> 1.9757726
A23: N (org, susp) (g) | C23: =D23*C9 -> 37588.085 | D23: =0.34*B22 -> 0.93970213 | E23: 0 | F23: 0.75 | G23: =100%-F23 -> 0.25 | H23: =C23*F23 -> 28191.064 | I23: =H23/$H$9 -> 2.209331 | J23: =C23*G23 -> 9397.0213 | K23: =J23/$J$9 -> 0.30080094
A24: N (org, diss) (g) | C24: =D24*C9 -> 72965.106 | D24: =0.66*B22 -> 1.8241277 | E24: 0 | F24: =$F$10 -> 0.28286111 | G24: =100%-F24 -> 0.71713889 | H24: =C24*F24 -> 20638.991 | I24: =H24/$H$9 -> 1.6174758 | J24: =C24*G24 -> 52326.115 | K24: =J24/$J$9 -> 1.6749717
A25: Ptotal (g) | B25: 1.8 | C25: =C26+C29 -> 72000 | D25: =C25/C9 -> 1.8 | E25: 0 | F25: =(H25/C25) -> 0.76271528 | G25: =J25/C25 -> 0.23728472 | H25: =H26+H29 -> 54915.5 | I25: =H25/$H$9 -> 4.3037226 | J25: =J26+J29 -> 17084.5 | K25: =J25/$J$9 -> 0.546879
A26: P (inorg) (g) | C26: =C27+C28 -> 3600 | D26: =C26/C9 -> 0.09 | E26: 0 | F26: =(H26/C26) -> 0.62657222 | G26: =J26/C26 -> 0.37342778 | H26: =H27+H28 -> 2255.66 | I26: =H26/$H$9 -> 0.17677586 | J26: =J27+J28 -> 1344.34 | K26: =J26/$J$9 -> 0.04303265
A27: P (inorg, susp) (g) | C27: =D27*C9 -> 2880 | D27: =0.04*B25 -> 0.072 | E27: 0 | F27: 0.7 | G27: =100%-F27 -> 0.3 | H27: =C27*F27 -> 2016 | I27: =H27/$H$9 -> 0.15799373 | J27: =C27*G27 -> 864 | K27: =J27/$J$9 -> 0.02765685
A28: P (inorg, diss) (g) | B28: 0.059 | C28: =D28*C9 -> 720 | D28: =0.01*B25 -> 0.018 | E28: 0 | F28: =$F$10+5% -> 0.33286111 | G28: =100%-F28 -> 0.66713889 | H28: =C28*F28 -> 239.66 | I28: =H28/$H$9 -> 0.018782132 | J28: =C28*G28 -> 480.34 | K28: =J28/$J$9 -> 0.0153758
A29: P (org) (g) | C29: =C30+C31 -> 68400 | D29: =C29/C9 -> 1.71 | E29: 0 | F29: =(H29/C29) -> 0.7698807 | G29: =J29/C29 -> 0.2301193 | H29: =H30+H31 -> 52659.84 | I29: =H29/$H$9 -> 4.1269467 | J29: =J30+J31 -> 15740.16 | K29: =J29/$J$9 -> 0.50384635
A30: P (org, susp) (g) | C30: =D30*C9 -> 51120 | D30: =0.71*B25 -> 1.278 | E30: 0 | F30: 0.85 | G30: =100%-F30 -> 0.15 | H30: =C30*F30 -> 43452 | I30: =H30/$H$9 -> 3.4053292 | J30: =C30*G30 -> 7668 | K30: =J30/$J$9 -> 0.24545455
A31: P (org, diss) (g) | C31: =D31*C9 -> 17280 | D31: =0.24*B25 -> 0.432 | E31: 0 | F31: =$F$10+25% -> 0.53286111 | G31: =100%-F31 -> 0.46713889 | H31: =C31*F31 -> 9207.84 | I31: =H31/$H$9 -> 0.72161755 | J31: =C31*G31 -> 8072.16 | K31: =J31/$J$9 -> 0.25839181
A32: K total (g) | B32: =6.2*0.83 -> 5.146 | C32: =C33 -> 205840 | D32: =C32/C9 -> 5.146 | E32: 0 | F32: =(H32/C32) -> 0.28526056 | G32: =J32/C32 -> 0.71473944 | H32: =H33 -> 58718.033 | I32: =H32/$H$9 -> 4.6017267 | J32: =J33 -> 147121.97 | K32: =J32/$J$9 -> 4.70941
A33: K (inorg) (g) | C33: =C34+C35 -> 205840 | D33: =C33/C9 -> 5.146 | E33: 0 | F33: =(H33/C33) -> 0.28526056 | G33: =J33/C33 -> 0.71473944 | H33: =H34+H35 -> 58718.033 | I33: =H33/$H$9 -> 4.6017267 | J33: =J34+J35 -> 147121.97 | K33: =J33/$J$9 -> 4.70941
A34: K (inorg, susp) (g) | C34: =D34*C9 -> 28817.6 | D34: =0.14*B32 -> 0.72044 | E34: 0 | F34: 0.3 | G34: =100%-F34 -> 0.7 | H34: =C34*F34 -> 8645.28 | I34: =H34/$H$9 -> 0.67752978 | J34: =C34*G34 -> 20172.32 | K34: =J34/$J$9 -> 0.64572087
A35: K (inorg, diss) (g) | C35: =D35*C9 -> 177022.4 | D35: =0.86*B32 -> 4.42556 | E35: 0 | F35: =$F$10 -> 0.28286111 | G35: =100%-F35 -> 0.71713889 | H35: =C35*F35 -> 50072.753 | I35: =H35/$H$9 -> 3.9241969 | J35: =C35*G35 -> 126949.65 | K35: =J35/$J$9 -> 4.0636891

Sheet DAF
B1: Fill in boxes | C1: Input | F1: Dissolved Air Flotation (DAF) | H1: solid fraction | J1: liquid fraction
B2: Composition input (e.g. liquid fraction after separation) | C2: Mass | D2: Calculated concentration | E2: Additive/no additive | F2: Separation efficiency (%) to Solid Fraction | G2: Separation efficiency (%) to Liquid Fraction | H2: mass | I2: concentration | J2: mass | K2: concentration
D3: g/kg | I3: g/kg | K3: g/kg
E4: =CONCATENATE(E5,"% polymer solution") -> 0,5% polymer solution
E5: 0.5 | F5: %
E6: =E5*10 -> 5 | F6: g powder polymer/L water
E7: 1 | F7: kg/l
E8: 20 | F8: =CONCATENATE("L ",E4,"/ton input") -> L 0,5% polymer solution/ton input
A9: mass (kg/year) | B9: 934 | C9: =B9 -> 934 | E9: =(E8*E7/1000)*C9 -> 18.68 | F9: 0.2 | G9: =100%-F9 -> 0.8 | H9: =(C9+E9)*F9 -> 190.536 | J9: =(C9+E9)*G9 -> 762.144
A10: Water (g) | C10: =(C9*1000)-C11 -> 872356 | D10: =C10/C9 -> 934 | E10: =(E9*1000)-E11 -> 18586.6 | F10: =(H10/C10) -> 0.17553533 | G10: =100%-F10 -> 0.82446467 | H10: =(H9*1000)-H11 -> 153129.3 | I10: =H10/H9 -> 803.67647 | J10: =(J9*1000)-J11 -> 737813.3 | K10: =J10/J9 -> 968.07598
A11: Total DM (g) | B11: 66 | C11: =C12+C15 -> 61644 | D11: =C11/C9 -> 66 | E11: =E12+E15 -> 93.4 | F11: =(H11/C11) -> 0.60681818 | G11: =J11/C11 -> 0.39469697 | H11: =H12+H15 -> 37406.7 | I11: =H11/H9 -> 196.32353 | J11: =J12+J15 -> 24330.7 | K11: =J11/J9 -> 31.92402
A12: DM (inorg) (g) | B12: =B11-B15 -> 40 | C12: =C13+C14 -> 37360 | D12: =C12/C9 -> 40 | E12: =E13+E14 -> 0 | F12: =(H12/C12) -> 0.57 | G12: =J12/C12 -> 0.43 | H12: =H13+H14 -> 21295.2 | I12: =H12/H9 -> 111.76471 | J12: =J13+J14 -> 16064.8 | K12: =J12/J9 -> 21.078431
A13: DM (inorg, susp) (g) | C13: =D13*C9 -> 7472 | D13: =0.2*B12 -> 8 | E13: 0 | F13: 0.85 | G13: =100%-F13 -> 0.15 | H13: =(C13+E13)*F13 -> 6351.2 | I13: =H13/H9 -> 33.333333 | J13: =(C13+E13)*G13 -> 1120.8 | K13: =J13/J9 -> 1.4705882
A14: DM (inorg, diss) (g) | C14: =D14*C9 -> 29888 | D14: =0.8*B12 -> 32 | E14: 0 | F14: 0.5 | G14: =100%-F14 -> 0.5 | H14: =(C14+E14)*F14 -> 14944 | I14: =H14/H9 -> 78.431373 | J14: =(C14+E14)*G14 -> 14944 | K14: =J14/J9 -> 19.607843
A15: DM (org) (g) | B15: 26 | C15: =C16+C17 -> 24284 | D15: =C15/C9 -> 26 | E15: =E16+E17 -> 93.4 | F15: =(H15/C15) -> 0.66346154 | G15: =J15/C15 -> 0.34038462 | H15: =H16+H17 -> 16111.5 | I15: =H15/H9 -> 84.558824 | J15: =J16+J17 -> 8265.9 | K15: =J15/J9 -> 10.845588
A16: DM (org, susp) (g) | C16: =D16*C9 -> 9713.6 | D16: =0.4*B15 -> 10.4 | E16: =E6*E9 -> 93.4 | F16: 0.9 | G16: =100%-F16 -> 0.1 | H16: =(C16+E16)*F16 -> 8826.3 | I16: =H16/H9 -> 46.323529 | J16: =(C16+E16)*G16 -> 980.7 | K16: =J16/J9 -> 1.2867647
A17: DM (org, diss) (g) | C17: =D17*C9 -> 14570.4 | D17: =0.6*B15 -> 15.6 | E17: 0 | F17: 0.5 | G17: =100%-F17 -> 0.5 | H17: =(C17+E17)*F17 -> 7285.2 | I17: =H17/H9 -> 38.235294 | J17: =(C17+E17)*G17 -> 7285.2 | K17: =J17/J9 -> 9.5588235
A18: N total (g) | B18: 6.5 | C18: =C19+C22 -> 6071 | D18: =C18/C9 -> 6.5 | E18: 0 | F18: =(H18/C18) -> 0.24522365 | G18: =J18/C18 -> 0.75477635 | H18: =H19+H22 -> 1488.7528 | I18: =H18/H9 -> 7.8134986 | J18: =J19+J22 -> 4582.2472 | K18: =J18/J9 -> 6.0123116
A19: N (inorg) (g) | B19: =D21/0.94 -> 4.2553191 | C19: =C20+C21 -> 3974.4681 | D19: =C19/C9 -> 4.2553191 | E19: 0 | F19: =(H19/C19) -> 0.19500321 | G19: =J19/C19 -> 0.80499679 | H19: =H20+H21 -> 775.03404 | I19: =H19/H9 -> 4.0676515 | J19: =J20+J21 -> 3199.434 | K19: =J19/J9 -> 4.197939
A20: N (inorg, susp) (g) | C20: =D20*C9 -> 238.46809 | D20: =B19-D21 -> 0.25531915 | E20: 0 | F20: 0.5 | G20: =100%-F20 -> 0.5 | H20: =(C20+E20)*F20 -> 119.23404 | I20: =H20/H9 -> 0.62578223 | J20: =(C20+E20)*G20 -> 119.23404 | K20: =J20/J9 -> 0.15644556
A21: N (inorg, diss) (g) | B21: 4 | C21: =D21*C9 -> 3736 | D21: =B21 -> 4 | E21: 0 | F21: =$F$10 -> 0.17553533 | G21: =100%-F21 -> 0.82446467 | H21: =(C21+E21)*F21 -> 655.8 | I21: =H21/H9 -> 3.4418693 | J21: =(C21+E21)*G21 -> 3080.2 | K21: =J21/J9 -> 4.0414935
A22: N (org) (g) | B22: =B18-B19 -> 2.2446809 | C22: =C23+C24 -> 2096.5319 | D22: =C22/C9 -> 2.2446809 | E22: 0 | F22: =(H22/C22) -> 0.34042827 | G22: =J22/C22 -> 0.65957173 | H22: =H23+H24 -> 713.71872 | I22: =H22/H9 -> 3.7458471 | J22: =J23+J24 -> 1382.8132 | K22: =J22/J9 -> 1.8143726
A23: N (org, susp) (g) | C23: =D23*C9 -> 419.30638 | D23: =0.2*B22 -> 0.44893617 | E23: 0 | F23: 0.8 | G23: =100%-F23 -> 0.2 | H23: =(C23+E23)*F23 -> 335.44511 | I23: =H23/H9 -> 1.760534 | J23: =(C23+E23)*G23 -> 83.861277 | K23: =J23/J9 -> 0.11003338
A24: N (org, diss) (g) | C24: =D24*C9 -> 1677.2255 | D24: =0.8*B22 -> 1.7957447 | E24: 0 | F24: =$F$10+5% -> 0.22553533 | G24: =100%-F24 -> 0.77446467 | H24: =(C24+E24)*F24 -> 378.27362 | I24: =H24/H9 -> 1.9853131 | J24: =(C24+E24)*G24 -> 1298.9519 | K24: =J24/J9 -> 1.7043392
A25: Ptotal (g) | B25: 1.1 | C25: =C26+C29 -> 1006.852 | D25: =C25/C9 -> 1.078 | E25: 0 | F25: =(H25/C25) -> 0.49131724 | G25: =J25/C25 -> 0.50868276 | H25: =H26+H29 -> 494.68375 | I25: =H25/H9 -> 2.5962745 | J25: =J26+J29 -> 512.16825 | K25: =J25/J9 -> 0.67200982
A26: P (inorg) (g) | C26: =C27+C28 -> 51.37 | D26: =C26/C9 -> 0.055 | E26: 0 | F26: =(H26/C26) -> 0.19021413 | G26: =J26/C26 -> 0.80978587 | H26: =H27+H28 -> 9.7713 | I26: =H26/H9 -> 0.051283222 | J26: =J27+J28 -> 41.5987 | K26: =J26/J9 -> 0.054581155
A27: P (inorg, susp) (g) | C27: =D27*C9 -> 30.822 | D27: =0.03*B25 -> 0.033 | E27: 0 | F27: 0.2 | G27: =100%-F27 -> 0.8 | H27: =(C27+E27)*F27 -> 6.1644 | I27: =H27/H9 -> 0.032352941 | J27: =(C27+E27)*G27 -> 24.6576 | K27: =J27/J9 -> 0.032352941
A28: P (inorg, diss) (g) | C28: =D28*C9 -> 20.548 | D28: =0.02*B25 -> 0.022 | E28: 0 | F28: =$F$10 -> 0.17553533 | G28: =100%-F28 -> 0.82446467 | H28: =(C28+E28)*F28 -> 3.6069 | I28: =H28/H9 -> 0.018930281 | J28: =(C28+E28)*G28 -> 16.9411 | K28: =J28/J9 -> 0.022228214
A29: P (org) (g) | C29: =C30+C31 -> 955.482 | D29: =C29/C9 -> 1.023 | E29: 0 | F29: =(H29/C29) -> 0.50750558 | G29: =J29/C29 -> 0.49249442 | H29: =H30+H31 -> 484.91245 | I29: =H29/H9 -> 2.5449912 | J29: =J30+J31 -> 470.56955 | K29: =J29/J9 -> 0.61742866
A30: P (org, susp) (g) | C30: =D30*C9 -> 513.7 | D30: =0.5*B25 -> 0.55 | E30: 0 | F30: 0.75 | G30: =100%-F30 -> 0.25 | H30: =(C30+E30)*F30 -> 385.275 | I30: =H30/H9 -> 2.0220588 | J30: =(C30+E30)*G30 -> 128.425 | K30: =J30/J9 -> 0.1685049
A31: P (org, diss) (g) | C31: =D31*C9 -> 441.782 | D31: =0.43*B25 -> 0.473 | E31: 0 | F31: =$F$10+5% -> 0.22553533 | G31: =100%-F31 -> 0.77446467 | H31: =(C31+E31)*F31 -> 99.63745 | I31: =H31/H9 -> 0.52293241 | J31: =(C31+E31)*G31 -> 342.14455 | K31: =J31/J9 -> 0.44892376
A32: K total (g) | B32: 5.5 | C32: =C33 -> 5137 | D32: =C32/C9 -> 5.5 | E32: 0 | F32: =(H32/C32) -> 0.19296039 | G32: =J32/C32 -> 0.80703961 | H32: =H33 -> 991.2375 | I32: =H32/H9 -> 5.2023633 | J32: =J33 -> 4145.7625 | K32: =J32/J9 -> 5.4396052
A33: K (inorg) (g) | C33: =C34+C35 -> 5137 | D33: =C33/C9 -> 5.5 | E33: 0 | F33: =(H33/C33) -> 0.19296039 | G33: =J33/C33 -> 0.80703961 | H33: =H34+H35 -> 991.2375 | I33: =H33/H9 -> 5.2023633 | J33: =J34+J35 -> 4145.7625 | K33: =J33/J9 -> 5.4396052
A34: K (inorg, susp) (g) | C34: =D34*C9 -> 719.18 | D34: =0.14*B32 -> 0.77 | E34: 0 | F34: 0.3 | G34: =100%-F34 -> 0.7 | H34: =(C34+E34)*F34 -> 215.754 | I34: =H34/H9 -> 1.1323529 | J34: =(C34+E34)*G34 -> 503.426 | K34: =J34/J9 -> 0.66053922
A35: K (inorg, diss) (g) | C35: =D35*C9 -> 4417.82 | D35: =0.86*B32 -> 4.73 | E35: 0 | F35: =$F$10 -> 0.17553533 | G35: =100%-F35 -> 0.82446467 | H35: =(C35+E35)*F35 -> 775.4835 | I35: =H35/H9 -> 4.0700104 | J35: =(C35+E35)*G35 -> 3642.3365 | K35: =J35/J9 -> 4.779066

Sheet N-stripping scrubbing
B1: Fill in boxes | C1: Input | F1: N stripping-scrubbing | H1: initital Ammonium sulphate solution | K1: Diluted ammonium salt solution | M1: N stripped input
B2: Composition input (e.g. digestate) | C2: Mass | D2: Calculated concentration | E2: Additive/no additive | F2: Recovery rate (%) to initital Ammonium sulphate solution | G2: Recovery rate (%) to initital N stripped input | H2: mass | I2: concentration | J2: Additive/no additive | K2: mass | L2: concentration | M2: mass | N2: concentration
A3: 0.8 | B3: NH4-N scrubbing | D3: g/kg | I3: g/kg | L3: g/kg | N3: g/kg
E4: =CONCATENATE(E5,"% H2SO4 solution") -> 96% H2SO4 solution | J4: water for dilution needed | L4: (NH4)2SO4 concentration initial Ammonium sulphate solution | P4: Molar mass (g/mol)
E5: 96 | F5: % | J5: when concentration (NH4)2SO4 >380g / kg | L5: =(((H21/$Q$5)/2)*$Q$10)/H9 -> 242.53813 | M5: g (NH4)2SO4 / kg | P5: N | Q5: 14.01
E6: =E5*10 -> 960 | F6: g H2SO4/L solution | L6: Maximum value for (NH4)2SO4 concentration in Ammonium sulphate solution | P6: H2O | Q6: 18.02
E7: 1.84 | F7: kg/l | J7: 1 | K7: kg/l | M7: 380 | N7: g/kg | P7: NH4 | Q7: 18.04
E8: 100 | F8: =CONCATENATE("L ",E4,"/ton input") -> L 96% H2SO4 solution/ton input | J8: =J9/(H9/1000) -> 0 | K8: =CONCATENATE("L ",J4,"/ton initial AmmS solution") -> L water for dilution needed/ton initial AmmS solution | P8: H2SO4 | Q8: 98.08
A9: mass (kg/year) | B9: 9000 | C9: =B9 -> 9000 | E9: =(((($H$21/$Q$5)/2)*$Q$8)/$E$5%)/1000 -> 97.134904 | F9: =(H9/C9) -> 0.057554311 | G9: =100%-F9 -> 0.94244569 | H9: =(H10+H11)/1000 -> 517.9888 | J9: =(J10+J11)/1000 -> 0 | K9: =H9+J9 -> 517.9888 | M9: =(M10+M11)/1000 -> 8704.7781 | P9: SO4 | Q9: 96.08
A10: Water (g) | C10: =(C9*1000)-C11 -> 7560000 | E10: =(E9*1000)-E11 -> 3885.3961 | F10: 0.05 | G10: =100%-F10 -> 0.95 | H10: =($C10+$E10)*F10 -> 378194.27 | I10: =H10/$H$9 -> 730.12056 | J10: =(IF(((H9*(L5/M7))-H9)<0,0,((H9*(L5/M7))-H9)))*1000 -> 0 | K10: =H10+J10 -> 378194.27 | L10: =K10/$K$9 -> 730.12056 | M10: =($C10+$E10)*G10 -> 7185691.1 | N10: =M10/$M$9 -> 825.48814 | P10: (NH4)2SO4 | Q10: =Q7*2+96.06 -> 132.14
A11: Total DM (g) | B11: 160 | C11: =C12+C15 -> 1440000 | D11: =C11/C9 -> 160 | E11: =E12+E15 -> 93249.507 | F11: =(H11/C11) -> 0.097079534 | G11: =100%-F11 -> 0.90292047 | H11: =H12+H15 -> 139794.53 | I11: =H11/$H$9 -> 269.87944 | J11: 0 | K11: =H11+J11 -> 139794.53 | L11: =K11/$K$9 -> 269.87944 | M11: =M12+M15 -> 1519087 | N11: =M11/$M$9 -> 174.51186
A12: DM (inorg) (g) | B12: =B11-B15 -> 134 | C12: =C13+C14 -> 1206000 | D12: =C12/C9 -> 134 | E12: =((($H$21/$Q$5)/2)*$Q$8) -> 93249.507 | F12: =(H12/C12) -> 0.11494571 | G12: =100%-F12 -> 0.88505429 | H12: =H13+H14 -> 138624.53 | I12: =H12/$H$9 -> 267.62071 | J12: 0 | K12: =H12+J12 -> 138624.53 | L12: =K12/$K$9 -> 267.62071 | M12: =M13+M14 -> 1286257 | N12: =M12/$M$9 -> 147.76448
A13: DM (inorg, susp) (g) | C13: =D13*C9 -> 603000 | D13: =1/2*B12 -> 67 | E13: 0 | F13: 0.01 | G13: =100%-F13 -> 0.99 | H13: =($C13+$E13)*F13 -> 6030 | I13: =H13/$H$9 -> 11.641178 | J13: 0 | K13: =H13+J13 -> 6030 | L13: =K13/$K$9 -> 11.641178 | M13: =($C13+$E13)*G13 -> 596970 | N13: =M13/$M$9 -> 68.579577
A14: DM (inorg, diss) (g) | C14: =D14*C9 -> 603000 | D14: =1/2*B12 -> 67 | E14: =E12 -> 93249.507 | F14: 0.01 | G14: =100%-F14 -> 0.99 | H14: =(($C14+$E14)*F14)+(((H21/$Q$5)/2)*$Q$10) -> 132594.53 | I14: =H14/$H$9 -> 255.97953 | J14: 0 | K14: =H14+J14 -> 132594.53 | L14: =K14/$K$9 -> 255.97953 | M14: =($C14+$E14)*G14 -> 689287.01 | N14: =M14/$M$9 -> 79.184903
A15: DM (org) (g) | B15: 26 | C15: =C16+C17 -> 234000 | D15: =C15/C9 -> 26 | E15: 0 | F15: =(H15/C15) -> 0.005 | G15: =100%-F15 -> 0.995 | H15: =H16+H17 -> 1170 | I15: =H15/$H$9 -> 2.2587361 | J15: 0 | K15: =H15+J15 -> 1170 | L15: =K15/$K$9 -> 2.2587361 | M15: =M16+M17 -> 232830 | N15: =M15/$M$9 -> 26.747379
A16: DM (org, susp) (g) | C16: =D16*C9 -> 195000 | D16: =5/6*B15 -> 21.666667 | E16: 0 | F16: 0 | G16: =100%-F16 -> 1 | H16: =($C16+$E16)*F16 -> 0 | I16: =H16/$H$9 -> 0 | J16: 0 | K16: =H16+J16 -> 0 | L16: =K16/$K$9 -> 0 | M16: =($C16+$E16)*G16 -> 195000 | N16: =M16/$M$9 -> 22.40149
A17: DM (org, diss) (g) | C17: =D17*C9 -> 39000 | D17: =1/6*B15 -> 4.3333333 | E17: 0 | F17: 0.03 | G17: =100%-F17 -> 0.97 | H17: =($C17+$E17)*F17 -> 1170 | I17: =H17/$H$9 -> 2.2587361 | J17: 0 | K17: =H17+J17 -> 1170 | L17: =K17/$K$9 -> 2.2587361 | M17: =($C17+$E17)*G17 -> 37830 | N17: =M17/$M$9 -> 4.3458891
A18: N total (g) | B18: 6.7 | C18: =C19+C22 -> 60300 | D18: =C18/C9 -> 6.7 | E18: 0 | F18: =(H18/C18) -> 0.44214354 | G18: =100%-F18 -> 0.55785646 | H18: =H19+H22 -> 26661.255 | I18: =H18/$H$9 -> 51.470718 | J18: 0 | K18: =H18+J18 -> 26661.255 | L18: =K18/$K$9 -> 51.470718 | M18: =M19+M22 -> 33638.745 | N18: =M18/$M$9 -> 3.8644
A19: N (inorg) (g) | B19: =D21/0.94 -> 3.9361702 | C19: =C20+C21 -> 35425.532 | D19: =C19/C9 -> 3.9361702 | E19: 0 | F19: =(H19/C19) -> 0.7526 | G19: =100%-F19 -> 0.2474 | H19: =H20+H21 -> 26661.255 | I19: =H19/$H$9 -> 51.470718 | J19: 0 | K19: =H19+J19 -> 26661.255 | L19: =K19/$K$9 -> 51.470718 | M19: =M20+M21 -> 8764.2766 | N19: =M19/$M$9 -> 1.0068351
A20: N (inorg, susp) (g) | C20: =D20*C9 -> 2125.5319 | D20: =B19-D21 -> 0.23617021 | E20: 0 | F20: 0.01 | G20: =100%-F20 -> 0.99 | H20: =C20*F20 -> 21.255319 | I20: =H20/$H$9 -> 0.041034322 | J20: 0 | K20: =H20+J20 -> 21.255319 | L20: =K20/$K$9 -> 0.041034322 | M20: =($C20+$E20)*G20 -> 2104.2766 | N20: =M20/$M$9 -> 0.24173811
A21: N (inorg, diss) (g) | B21: 3.7 | C21: =D21*C9 -> 33300 | D21: =B21 -> 3.7 | E21: 0 | F21: =A3 -> 0.8 | G21: =100%-F21 -> 0.2 | H21: =C21*F21 -> 26640 | I21: =H21/$H$9 -> 51.429684 | J21: 0 | K21: =H21+J21 -> 26640 | L21: =K21/$K$9 -> 51.429684 | M21: =($C21+$E21)*G21 -> 6660 | N21: =M21/$M$9 -> 0.76509704
A22: N (org) (g) | B22: =B18-B19 -> 2.7638298 | C22: =C23+C24 -> 24874.468 | D22: =C22/C9 -> 2.7638298 | E22: 0 | F22: =(H22/C22) -> 0 | G22: =100%-F22 -> 1 | H22: =H23+H24 -> 0 | I22: =H22/$H$9 -> 0 | J22: 0 | K22: =H22+J22 -> 0 | L22: =K22/$K$9 -> 0 | M22: =M23+M24 -> 24874.468 | N22: =M22/$M$9 -> 2.8575649
A23: N (org, susp) (g) | C23: =D23*C9 -> 8457.3191 | D23: =0.34*B22 -> 0.93970213 | E23: 0 | F23: 0 | G23: =100%-F23 -> 1 | H23: =C23*F23 -> 0 | I23: =H23/$H$9 -> 0 | J23: 0 | K23: =H23+J23 -> 0 | L23: =K23/$K$9 -> 0 | M23: =($C23+$E23)*G23 -> 8457.3191 | N23: =M23/$M$9 -> 0.97157205
A24: N (org, diss) (g) | C24: =D24*C9 -> 16417.149 | D24: =0.66*B22 -> 1.8241277 | E24: 0 | F24: 0 | G24: =100%-F24 -> 1 | H24: =C24*F24 -> 0 | I24: =H24/$H$9 -> 0 | J24: 0 | K24: =H24+J24 -> 0 | L24: =K24/$K$9 -> 0 | M24: =($C24+$E24)*G24 -> 16417.149 | N24: =M24/$M$9 -> 1.8859928
A25: Ptotal (g) | B25: 1.8 | C25: =C26+C29 -> 16200 | D25: =C25/C9 -> 1.8 | E25: 0 | F25: =(H25/C25) -> 7.4e-05 | G25: =100%-F25 -> 0.999926 | H25: =H26+H29 -> 1.1988 | I25: =H25/$H$9 -> 0.0023143358 | J25: 0 | K25: =H25+J25 -> 1.1988 | L25: =K25/$K$9 -> 0.0023143358 | M25: =M26+M29 -> 16198.801 | N25: =M25/$M$9 -> 1.8609091
A26: P (inorg) (g) | C26: =C27+C28 -> 810 | D26: =C26/C9 -> 0.09 | E26: 0 | F26: =(H26/C26) -> 0.001 | G26: =100%-F26 -> 0.999 | H26: =H27+H28 -> 0.81 | I26: =H26/$H$9 -> 0.0015637404 | J26: 0 | K26: =H26+J26 -> 0.81 | L26: =K26/$K$9 -> 0.0015637404 | M26: =M27+M28 -> 809.19 | N26: =M26/$M$9 -> 0.092959291
A27: P (inorg, susp) (g) | C27: =D27*C9 -> 648 | D27: =0.04*B25 -> 0.072 | E27: 0 | F27: 0 | G27: =100%-F27 -> 1 | H27: =C27*F27 -> 0 | I27: =H27/$H$9 -> 0 | J27: 0 | K27: =H27+J27 -> 0 | L27: =K27/$K$9 -> 0 | M27: =($C27+$E27)*G27 -> 648 | N27: =M27/$M$9 -> 0.074441874
A28: P (inorg, diss) (g) | B28: 0.059 | C28: =D28*C9 -> 162 | D28: =0.01*B25 -> 0.018 | E28: 0 | F28: 0.005 | G28: =100%-F28 -> 0.995 | H28: =C28*F28 -> 0.81 | I28: =H28/$H$9 -> 0.0015637404 | J28: 0 | K28: =H28+J28 -> 0.81 | L28: =K28/$K$9 -> 0.0015637404 | M28: =($C28+$E28)*G28 -> 161.19 | N28: =M28/$M$9 -> 0.018517416
A29: P (org) (g) | C29: =C30+C31 -> 15390 | D29: =C29/C9 -> 1.71 | E29: 0 | F29: =(H29/C29) -> 2.5263158e-05 | G29: =100%-F29 -> 0.99997474 | H29: =H30+H31 -> 0.3888 | I29: =H29/$H$9 -> 0.00075059538 | J29: 0 | K29: =H29+J29 -> 0.3888 | L29: =K29/$K$9 -> 0.00075059538 | M29: =M30+M31 -> 15389.611 | N29: =M29/$M$9 -> 1.7679498
A30: P (org, susp) (g) | C30: =D30*C9 -> 11502 | D30: =0.71*B25 -> 1.278 | E30: 0 | F30: 0 | G30: =100%-F30 -> 1 | H30: =C30*F30 -> 0 | I30: =H30/$H$9 -> 0 | J30: 0 | K30: =H30+J30 -> 0 | L30: =K30/$K$9 -> 0 | M30: =($C30+$E30)*G30 -> 11502 | N30: =M30/$M$9 -> 1.3213433
A31: P (org, diss) (g) | C31: =D31*C9 -> 3888 | D31: =0.24*B25 -> 0.432 | E31: 0 | F31: 0.0001 | G31: =100%-F31 -> 0.9999 | H31: =C31*F31 -> 0.3888 | I31: =H31/$H$9 -> 0.00075059538 | J31: 0 | K31: =H31+J31 -> 0.3888 | L31: =K31/$K$9 -> 0.00075059538 | M31: =($C31+$E31)*G31 -> 3887.6112 | N31: =M31/$M$9 -> 0.44660658
A32: K total (g) | B32: =6.2*0.83 -> 5.146 | C32: =C33 -> 46314 | D32: =C32/C9 -> 5.146 | E32: 0 | F32: =(H32/C32) -> 8.6e-05 | G32: =100%-F32 -> 0.999914 | H32: =H33 -> 3.983004 | I32: =H32/$H$9 -> 0.0076893632 | J32: 0 | K32: =H32+J32 -> 3.983004 | L32: =K32/$K$9 -> 0.0076893632 | M32: =M33 -> 46310.017 | N32: =M32/$M$9 -> 5.3200686
A33: K (inorg) (g) | C33: =C34+C35 -> 46314 | D33: =C33/C9 -> 5.146 | E33: 0 | F33: =(H33/C33) -> 8.6e-05 | G33: =100%-F33 -> 0.999914 | H33: =H34+H35 -> 3.983004 | I33: =H33/$H$9 -> 0.0076893632 | J33: 0 | K33: =H33+J33 -> 3.983004 | L33: =K33/$K$9 -> 0.0076893632 | M33: =M34+M35 -> 46310.017 | N33: =M33/$M$9 -> 5.3200686
A34: K (inorg, susp) (g) | C34: =D34*C9 -> 6483.96 | D34: =0.14*B32 -> 0.72044 | E34: 0 | F34: 0 | G34: =100%-F34 -> 1 | H34: =C34*F34 -> 0 | I34: =H34/$H$9 -> 0 | J34: 0 | K34: =H34+J34 -> 0 | L34: =K34/$K$9 -> 0 | M34: =($C34+$E34)*G34 -> 6483.96 | N34: =M34/$M$9 -> 0.74487367
A35: K (inorg, diss) (g) | C35: =D35*C9 -> 39830.04 | D35: =0.86*B32 -> 4.42556 | E35: 0 | F35: 0.0001 | G35: =100%-F35 -> 0.9999 | H35: =C35*F35 -> 3.983004 | I35: =H35/$H$9 -> 0.0076893632 | J35: 0 | K35: =H35+J35 -> 3.983004 | L35: =K35/$K$9 -> 0.0076893632 | M35: =($C35+$E35)*G35 -> 39826.057 | N35: =M35/$M$9 -> 4.575195

Sheet Fiberplus
B1: Fill in boxes | C1: Input | F1: N stripping-scrubbing | H1: N stripped input | J1: N/Ca solution | L1: Filter press | N1: Ammonium sulphate solution | P1: Calciumcarbonate | S1: Diluted ammonium salt solution
A2: 80°C, pH 7,8 | B2: Composition input (e.g. digestate) | C2: Mass | D2: Calculated concentration | E2: Additive/no additive | F2: Recovery rate (%) to N/Ca solution | G2: Recovery rate (%) to initital N stripped input | H2: mass | I2: concentration | J2: mass | K2: concentration | L2: Recovery rate (%) to Ammonium sulphate solution | M2: Recovery rate (%) to Calciumcarbonate | N2: mass | O2: concentration | P2: mass | Q2: concentration | R2: Additive/no additive | S2: mass | T2: concentration
A3: 0.8 | B3: NH4-N scrubbing | D3: g/kg | I3: g/kg | K3: g/kg | O3: g/kg | Q3: g/kg | T3: g/kg
E4: Wet FGD Gypsum (CaSO4.2H2O) | G4: DM (g/kg) | H4: 750 | I4: S total (g/kg) | J4: 176
E5: =J9/1000 -> 0.72600848 | G5: OM (g/kg) | H5: 36 | I5: Ca total (g/kg) | J5: 169 | R5: water for dilution needed | T5: (NH4)2SO4 concentration initial Ammonium sulphate solution | X5: Molar mass (g/mol)
E6: =E5*1000 -> 726.00848 | F6: g/L | G6: N total (g/kg) | H6: 0.26 | I6: Mg total (g/kg) | J6: 0.29 | R6: when concentration (NH4)2SO4 >380g / kg | T6: =(((N22/Y6)/2)*Y11)/N10 -> 140.13523 | U6: g (NH4)2SO4 / kg | X6: N | Y6: 14.01
E7: =E6/E8 -> 355.88651 | F7: g/kg | G7: NH4-N (g/kg) | H7: 0.11 | T7: Maximum value for (NH4)2SO4 concentration in Ammonium sulphate solution | X7: H2O | Y7: 18.02
E8: 2.04 | F8: kg/l | G8: P total (g/kg) | H8: 0.14 | I8: CaSO4(g/kg) | J8: =(J5/Y13)*Y14 -> 574.04341 | R8: 1 | S8: kg/l | U8: 380 | V8: g/kg | X8: NH4 | Y8: 18.04
E9: =(E10/E8)/(C10/1000) -> 6.6383889 | F9: L/ton input | G9: K total (g/kg) | H9: 0.19 | I9: CaSO4.2H2O(g/kg) | J9: =(J5/Y13)*Y12 -> 726.00848 | R9: =R10/(N10/1000) -> 0 | S9: =CONCATENATE("L ",R5,"/ton initial AmmS solution") -> L water for dilution needed/ton initial AmmS solution | X9: H2SO4 | Y9: 98.08
A10: mass (kg/year) | B10: 222000 | C10: =B10 -> 222000 | E10: =((($J$22/$Y$6)/2)*$Y$12/$E$5)/1000 -> 3006.3936 | F10: =(J10/(C10+E10)) -> 0.079170492 | G10: =100%-F10 -> 0.92082951 | H10: =(H11+H12)/1000 -> 207192.53 | J10: =(J11+J12)/1000 -> 17813.867 | L10: =(N10/J10) -> 0.53681368 | M10: =100%-L10 -> 0.46318632 | N10: =(N11+N12)/1000 -> 9562.7274 | P10: =(P11+P12)/1000 -> 8251.1394 | R10: =(R11+R12)/1000 -> 0 | S10: =N10+R10 -> 9562.7274 | X10: SO4 | Y10: 96.08
A11: Water (g) | B11: =H19/1000 -> 1057.6625 | C11: =(C10*1000)-C12 -> 195360000 | E11: =(E10*1000)-E12 -> 751598.39 | F11: 0.05 | G11: =100%-F11 -> 0.95 | H11: =($C11+$E11)*G11 -> 1.8630602e+08 | I11: =H11/$H$10 -> 899.19275 | J11: =($C11+$E11)*F11 -> 9805579.9 | K11: =J11/$J$10 -> 550.44646 | L11: 0.8 | M11: =100%-L11 -> 0.2 | N11: =($J11)*L11 -> 7844463.9 | O11: =N11/$N$10 -> 820.31659 | P11: =($J11)*M11 -> 1961116 | Q11: =P11/$P$10 -> 237.6782 | R11: =(IF(((N10*(T6/U8))-N10)<0,0,((N10*(T6/W18))-N10)))*1000 -> 0 | S11: =N11+R11 -> 7844463.9 | T11: =S11/$S$10 -> 820.31659 | X11: (NH4)2SO4 | Y11: =Y8*2+96.06 -> 132.14
A12: Total DM (g) | B12: 120 | C12: =C13+C16 -> 26640000 | D12: =C12/C10 -> 120 | E12: =H4*$E$10 -> 2254795.2 | F12: =(J12/(C12+E12)) -> 0.27715327 | G12: =100%-F12 -> 0.72284673 | H12: =H13+H16 -> 20886508 | I12: =H12/$H$10 -> 100.80725 | J12: =J13+J16 -> 8008286.9 | K12: =J12/$J$10 -> 449.55354 | L12: =(N12/J12) -> 0.21456068 | M12: =100%-L12 -> 0.78543932 | N12: =N13+N16 -> 1718263.4 | O12: =N12/$N$10 -> 179.68341 | P12: =P13+P16 -> 6290023.4 | Q12: =P12/$P$10 -> 762.3218 | R12: 0 | S12: =N12+R12 -> 1718263.4 | T12: =S12/$S$10 -> 179.68341 | X12: CaSO4.2H2O | Y12: =Y14+2*Y7 -> 172.18
A13: DM (inorg) (g) | B13: =B12-B16 -> 50 | C13: =C14+C15 -> 11100000 | D13: =C13/C10 -> 50 | E13: =E12-E16 -> 2146565 | F13: =(J13/(C13+E13)) -> 0.58092964 | G13: =100%-F13 -> 0.41907036 | H13: =H14+H15 -> 5551242.8 | I13: =H13/$H$10 -> 26.792679 | J13: =J14+J15 -> 7695322.3 | K13: =J13/$J$10 -> 431.98494 | L13: =(N13/J13) -> 0.22247335 | M13: =100%-L13 -> 0.77752665 | N13: =N14+N15 -> 1712004.1 | O13: =N13/$N$10 -> 179.02886 | P13: =P14+P15 -> 5983318.1 | Q13: =P13/$P$10 -> 725.15053 | R13: 0 | S13: =N13+R13 -> 1712004.1 | T13: =S13/$S$10 -> 179.02886 | X13: Ca | Y13: 40.08
A14: DM (inorg, susp) (g) | B14: =B21+B28+B31+0.156+0.095+0.72+1.6+0.11 -> 3.6283684 | C14: =D14*C10 -> 5550000 | D14: =1/2*B13 -> 25 | E14: =E13*90% -> 1931908.5 | F14: 0.99 | G14: =100%-F14 -> 0.01 | H14: =($C14+$E14)*G14 -> 74819.085 | I14: =H14/$H$10 -> 0.36110899 | J14: =($C14+$E14)*F14 -> 7407089.4 | K14: =J14/$J$10 -> 415.80469 | L14: 0.2 | M14: =100%-L14 -> 0.8 | N14: =($J14)*L14 -> 1481417.9 | O14: =N14/$N$10 -> 154.91583 | P14: =($J14)*M14 -> 5925671.5 | Q14: =P14/$P$10 -> 718.16403 | R14: 0 | S14: =N14+R14 -> 1481417.9 | T14: =S14/$S$10 -> 154.91583 | X14: CaSO4 | Y14: 136.14
A15: DM (inorg, diss) (g) | B15: =B13-B14 -> 46.371632 | C15: =D15*C10 -> 5550000 | D15: =1/2*B13 -> 25 | E15: =E13*10% -> 214656.5 | F15: 0.05 | G15: =100%-F15 -> 0.95 | H15: =($C15+$E15)*G15 -> 5476423.7 | I15: =H15/$H$10 -> 26.43157 | J15: =($C15+$E15)*F15 -> 288232.83 | K15: =J15/$J$10 -> 16.18025 | L15: 0.8 | M15: =100%-L15 -> 0.2 | N15: =($J15)*L15 -> 230586.26 | O15: =N15/$N$10 -> 24.113022 | P15: =($J15)*M15 -> 57646.565 | Q15: =P15/$P$10 -> 6.9864975 | R15: 0 | S15: =N15+R15 -> 230586.26 | T15: =S15/$S$10 -> 24.113022
A16: DM (org) (g) | B16: 70 | C16: =C17+C18 -> 15540000 | D16: =C16/C10 -> 70 | E16: =H5*$E$10 -> 108230.17 | F16: =(J16/(C16+E16)) -> 0.02 | G16: =100%-F16 -> 0.98 | H16: =H17+H18 -> 15335266 | I16: =H16/$H$10 -> 74.014569 | J16: =J17+J18 -> 312964.6 | K16: =J16/$J$10 -> 17.568595 | L16: =(N16/J16) -> 0.02 | M16: =100%-L16 -> 0.98 | N16: =N17+N18 -> 6259.2921 | O16: =N16/$N$10 -> 0.65455093 | P16: =P17+P18 -> 306705.31 | Q16: =P16/$P$10 -> 37.171268 | R16: 0 | S16: =N16+R16 -> 6259.2921 | T16: =S16/$S$10 -> 0.65455093
A17: DM (org, susp) (g) | C17: =D17*C10 -> 11033400 | D17: =71%*B16 -> 49.7 | E17: =E16*90% -> 97407.152 | F17: 0.02 | G17: =100%-F17 -> 0.98 | H17: =($C17+$E17)*G17 -> 10908191 | I17: =H17/$H$10 -> 52.647608 | J17: =($C17+$E17)*F17 -> 222616.14 | K17: =J17/$J$10 -> 12.496789 | L17: 0.02 | M17: =100%-L17 -> 0.98 | N17: =($J17)*L17 -> 4452.3229 | O17: =N17/$N$10 -> 0.46559132 | P17: =($J17)*M17 -> 218163.82 | Q17: =P17/$P$10 -> 26.440448 | R17: 0 | S17: =N17+R17 -> 4452.3229 | T17: =S17/$S$10 -> 0.46559132
A18: DM (org, diss) (g) | C18: =D18*C10 -> 4506600 | D18: =29%*B16 -> 20.3 | E18: =E16*10% -> 10823.017 | F18: 0.02 | G18: =100%-F18 -> 0.98 | H18: =($C18+$E18)*G18 -> 4427074.6 | I18: =H18/$H$10 -> 21.366961 | J18: =($C18+$E18)*F18 -> 90348.46 | K18: =J18/$J$10 -> 5.0718051 | L18: 0.02 | M18: =100%-L18 -> 0.98 | N18: =($J18)*L18 -> 1806.9692 | O18: =N18/$N$10 -> 0.18895961 | P18: =($J18)*M18 -> 88541.491 | Q18: =P18/$P$10 -> 10.73082 | R18: 0 | S18: =N18+R18 -> 1806.9692 | T18: =S18/$S$10 -> 0.18895961
A19: N total (g) | B19: 6.5 | C19: =C20+C23 -> 1443000 | D19: =C19/C10 -> 6.5 | E19: =H6*$E$10 -> 781.66233 | F19: =(J19/(C19+E19)) -> 0.26723743 | G19: =100%-F19 -> 0.73276257 | H19: =H20+H23 -> 1057662.5 | I19: =H19/$H$10 -> 5.104733 | J19: =J20+J23 -> 385832.49 | K19: =J19/$J$10 -> 21.65911 | L19: =(N19/J19) -> 0.73945372 | M19: =100%-L19 -> 0.26054628 | N19: =N20+N23 -> 285305.27 | O19: =N19/$N$10 -> 29.835136 | P19: =P20+P23 -> 100527.22 | Q19: =P19/$P$10 -> 12.183435 | R19: 0 | S19: =N19+R19 -> 285305.27 | T19: =S19/$S$10 -> 29.835136
A20: N (inorg) (g) | B20: =D22/0.95 -> 2.1052632 | C20: =C21+C22 -> 467368.42 | D20: =C20/C10 -> 2.1052632 | E20: =E19*80% -> 625.32986 | F20: =(J20/(C20+E20)) -> 0.76148115 | G20: =100%-F20 -> 0.23851885 | H20: =H21+H22 -> 111346.04 | I20: =H20/$H$10 -> 0.53740373 | J20: =J21+J22 -> 356368.42 | K20: =J20/$J$10 -> 20.005113 | L20: =(N20/J20) -> 0.79754098 | M20: =100%-L20 -> 0.20245902 | N20: =N21+N22 -> 284218.42 | O20: =N20/$N$10 -> 29.721481 | P20: =P21+P22 -> 72150 | Q20: =P20/$P$10 -> 8.7442469 | R20: 0 | S20: =N20+R20 -> 284218.42 | T20: =S20/$S$10 -> 29.721481
A21: N (inorg, susp) (g) | C21: =D21*C10 -> 23368.421 | D21: =B20-D22 -> 0.10526316 | E21: =E20-E22 -> 294.62657 | F21: 0.05 | G21: =100%-F21 -> 0.95 | H21: =($C21+$E21)*G21 -> 22479.895 | I21: =H21/$H$10 -> 0.10849762 | J21: =C21*F21 -> 1168.4211 | K21: =J21/$J$10 -> 0.065590535 | L21: 0.05 | M21: =100%-L21 -> 0.95 | N21: =($J21)*L21 -> 58.421053 | O21: =N21/$N$10 -> 0.0061092459 | P21: =($J21)*M21 -> 1110 | Q21: =P21/$P$10 -> 0.13452688 | R21: 0 | S21: =N21+R21 -> 58.421053 | T21: =S21/$S$10 -> 0.0061092459
A22: N (inorg, diss) (g) | B22: 2 | C22: =D22*C10 -> 444000 | D22: =B22 -> 2 | E22: =H7*$E$10 -> 330.70329 | F22: 0.8 | G22: =100%-F22 -> 0.2 | H22: =($C22+$E22)*G22 -> 88866.141 | I22: =H22/$H$10 -> 0.42890611 | J22: =C22*F22 -> 355200 | K22: =J22/$J$10 -> 19.939523 | L22: 0.8 | M22: =100%-L22 -> 0.2 | N22: =($J22)*L22 -> 284160 | O22: =N22/$N$10 -> 29.715372 | P22: =($J22)*M22 -> 71040 | Q22: =P22/$P$10 -> 8.60972 | R22: 0 | S22: =N22+R22 -> 284160 | T22: =S22/$S$10 -> 29.715372
A23: N (org) (g) | B23: =B19-B20 -> 4.3947368 | C23: =C24+C25 -> 975631.58 | D23: =C23/C10 -> 4.3947368 | E23: =E19-E20 -> 156.33247 | F23: =(J23/(C23+E23)) -> 0.030195162 | G23: =100%-F23 -> 0.96980484 | H23: =H24+H25 -> 946316.49 | I23: =H23/$H$10 -> 4.5673293 | J23: =J24+J25 -> 29464.074 | K23: =J23/$J$10 -> 1.6539965 | L23: =(N23/J23) -> 0.036887417 | M23: =100%-L23 -> 0.96311258 | N23: =N24+N25 -> 1086.8536 | O23: =N23/$N$10 -> 0.11365519 | P23: =P24+P25 -> 28377.22 | Q23: =P23/$P$10 -> 3.4391881 | R23: 0 | S23: =N23+R23 -> 1086.8536 | T23: =S23/$S$10 -> 0.11365519
A24: N (org, susp) (g) | C24: =D24*C10 -> 331714.74 | D24: =0.34*B23 -> 1.4942105 | E24: =E23*90% -> 140.69922 | F24: 0.05 | G24: =100%-F24 -> 0.95 | H24: =($C24+$E24)*G24 -> 315262.66 | I24: =H24/$H$10 -> 1.5215928 | J24: =C24*F24 -> 16585.737 | K24: =J24/$J$10 -> 0.93105764 | L24: 0.05 | M24: =100%-L24 -> 0.95 | N24: =($J24)*L24 -> 829.28684 | O24: =N24/$N$10 -> 0.086720745 | P24: =($J24)*M24 -> 15756.45 | Q24: =P24/$P$10 -> 1.909609 | R24: 0 | S24: =N24+R24 -> 829.28684 | T24: =S24/$S$10 -> 0.086720745
A25: N (org, diss) (g) | C25: =D25*C10 -> 643916.84 | D25: =0.66*B23 -> 2.9005263 | E25: =E23*10% -> 15.633247 | F25: 0.02 | G25: =100%-F25 -> 0.98 | H25: =($C25+$E25)*G25 -> 631053.83 | I25: =H25/$H$10 -> 3.0457364 | J25: =C25*F25 -> 12878.337 | K25: =J25/$J$10 -> 0.72293888 | L25: 0.02 | M25: =100%-L25 -> 0.98 | N25: =($J25)*L25 -> 257.56674 | O25: =N25/$N$10 -> 0.026934443 | P25: =($J25)*M25 -> 12620.77 | Q25: =P25/$P$10 -> 1.5295791 | R25: 0 | S25: =N25+R25 -> 257.56674 | T25: =S25/$S$10 -> 0.026934443
A26: Ptotal (g) | B26: 1.2 | C26: =C27+C30 -> 266400 | D26: =C26/C10 -> 1.2 | E26: =H8*$E$10 -> 420.8951 | F26: =(J26/(C26+E26)) -> 0.0042038844 | G26: =100%-F26 -> 0.99579612 | H26: =H27+H30 -> 265698.37 | I26: =H26/$H$10 -> 1.2823743 | J26: =J27+J30 -> 1121.6842 | K26: =J26/$J$10 -> 0.062966914 | L26: =(N26/J26) -> 0.02 | M26: =100%-L26 -> 0.98 | N26: =N27+N30 -> 22.433684 | O26: =N26/$N$10 -> 0.0023459504 | P26: =P27+P30 -> 1099.2505 | Q26: =P26/$P$10 -> 0.13322409 | R26: 0 | S26: =N26+R26 -> 22.433684 | T26: =S26/$S$10 -> 0.0023459504
A27: P (inorg) (g) | B27: =B29/0.19 -> 0.78947368 | C27: =C28+C29 -> 175263.16 | D27: =C27/C10 -> 0.78947368 | E27: =E26*80% -> 336.71608 | F27: =(J27/(C27+E27)) -> 0.0037927134 | G27: =100%-F27 -> 0.99620729 | H27: =H28+H29 -> 174933.2 | I27: =H27/$H$10 -> 0.84430266 | J27: =J28+J29 -> 666 | K27: =J27/$J$10 -> 0.037386605 | L27: =(N27/J27) -> 0.02 | M27: =100%-L27 -> 0.98 | N27: =N28+N29 -> 13.32 | O27: =N27/$N$10 -> 0.0013929081 | P27: =P28+P29 -> 652.68 | Q27: =P27/$P$10 -> 0.079101803 | R27: 0 | S27: =N27+R27 -> 13.32 | T27: =S27/$S$10 -> 0.0013929081
A28: P (inorg, susp) (g) | B28: =B27-B29 -> 0.63947368 | C28: =D28*C10 -> 141963.16 | D28: =B28 -> 0.63947368 | E28: =E27*90% -> 303.04447 | F28: 0 | G28: =100%-F28 -> 1 | H28: =($C28+$E28)*G28 -> 142266.2 | I28: =H28/$H$10 -> 0.68663771 | J28: =C28*F28 -> 0 | K28: =J28/$J$10 -> 0 | L28: 0 | M28: =100%-L28 -> 1 | N28: =($J28)*L28 -> 0 | O28: =N28/$N$10 -> 0 | P28: =($J28)*M28 -> 0 | Q28: =P28/$P$10 -> 0 | R28: 0 | S28: =N28+R28 -> 0 | T28: =S28/$S$10 -> 0
A29: P (inorg, diss) (g) | B29: 0.15 | C29: =D29*C10 -> 33300 | D29: =B29 -> 0.15 | E29: =E27*10% -> 33.671608 | F29: 0.02 | G29: =100%-F29 -> 0.98 | H29: =($C29+$E29)*G29 -> 32666.998 | I29: =H29/$H$10 -> 0.15766494 | J29: =C29*F29 -> 666 | K29: =J29/$J$10 -> 0.037386605 | L29: 0.02 | M29: =100%-L29 -> 0.98 | N29: =($J29)*L29 -> 13.32 | O29: =N29/$N$10 -> 0.0013929081 | P29: =($J29)*M29 -> 652.68 | Q29: =P29/$P$10 -> 0.079101803 | R29: 0 | S29: =N29+R29 -> 13.32 | T29: =S29/$S$10 -> 0.0013929081
A30: P (org) (g) | B30: =B26-B27 -> 0.41052632 | C30: =C31+C32 -> 91136.842 | D30: =C30/C10 -> 0.41052632 | E30: =E26-E27 -> 84.17902 | F30: =(J30/(C30+E30)) -> 0.004995386 | G30: =100%-F30 -> 0.99500461 | H30: =H31+H32 -> 90765.169 | I30: =H30/$H$10 -> 0.43807163 | J30: =J31+J32 -> 455.68421 | K30: =J30/$J$10 -> 0.025580309 | L30: =(N30/J30) -> 0.02 | M30: =100%-L30 -> 0.98 | N30: =N31+N32 -> 9.1136842 | O30: =N30/$N$10 -> 0.00095304235 | P30: =P31+P32 -> 446.57053 | Q30: =P30/$P$10 -> 0.054122286 | R30: 0 | S30: =N30+R30 -> 9.1136842 | T30: =S30/$S$10 -> 0.00095304235
A31: P (org, susp) (g) | B31: =B30*0.75 -> 0.30789474 | C31: =D31*C10 -> 68352.632 | D31: =B31 -> 0.30789474 | E31: =E30*90% -> 75.761118 | F31: 0 | G31: =100%-F31 -> 1 | H31: =($C31+$E31)*G31 -> 68428.393 | I31: =H31/$H$10 -> 0.33026477 | J31: =C31*F31 -> 0 | K31: =J31/$J$10 -> 0 | L31: 0 | M31: =100%-L31 -> 1 | N31: =($J31)*L31 -> 0 | O31: =N31/$N$10 -> 0 | P31: =($J31)*M31 -> 0 | Q31: =P31/$P$10 -> 0 | R31: 0 | S31: =N31+R31 -> 0 | T31: =S31/$S$10 -> 0
A32: P (org, diss) (g) | B32: =B30*0.25 -> 0.10263158 | C32: =D32*C10 -> 22784.211 | D32: =B32 -> 0.10263158 | E32: =E30*10% -> 8.417902 | F32: 0.02 | G32: =100%-F32 -> 0.98 | H32: =($C32+$E32)*G32 -> 22336.776 | I32: =H32/$H$10 -> 0.10780686 | J32: =C32*F32 -> 455.68421 | K32: =J32/$J$10 -> 0.025580309 | L32: 0.02 | M32: =100%-L32 -> 0.98 | N32: =($J32)*L32 -> 9.1136842 | O32: =N32/$N$10 -> 0.00095304235 | P32: =($J32)*M32 -> 446.57053 | Q32: =P32/$P$10 -> 0.054122286 | R32: 0 | S32: =N32+R32 -> 9.1136842 | T32: =S32/$S$10 -> 0.00095304235
A33: K total (g) | B33: 5.5 | C33: =C34 -> 1221000 | D33: =C33/C10 -> 5.5 | E33: =H9*$E$10 -> 571.21478 | F33: =(J33/(C33+E33)) -> 0.0042979893 | G33: =100%-F33 -> 0.99570201 | H33: =H34 -> 1216320.6 | I33: =H33/$H$10 -> 5.870485 | J33: =J34 -> 5250.3 | K33: =J33/$J$10 -> 0.29473107 | L33: =(N33/J33) -> 0.005 | M33: =100%-L33 -> 0.995 | N33: =N34 -> 26.2515 | O33: =N33/$N$10 -> 0.0027451896 | P33: =P34 -> 5224.0485 | Q33: =P33/$P$10 -> 0.63313056 | R33: 0 | S33: =N33+R33 -> 26.2515 | T33: =S33/$S$10 -> 0.0027451896
A34: K (inorg) (g) | C34: =C35+C36 -> 1221000 | D34: =C34/C10 -> 5.5 | E34: =E35+E36 -> 571.21478 | F34: =(J34/(C34+E34)) -> 0.0042979893 | G34: =100%-F34 -> 0.99570201 | H34: =H35+H36 -> 1216320.6 | I34: =H34/$H$10 -> 5.870485 | J34: =J35+J36 -> 5250.3 | K34: =J34/$J$10 -> 0.29473107 | L34: =(N34/J34) -> 0.005 | M34: =100%-L34 -> 0.995 | N34: =N35+N36 -> 26.2515 | O34: =N34/$N$10 -> 0.0027451896 | P34: =P35+P36 -> 5224.0485 | Q34: =P34/$P$10 -> 0.63313056 | R34: 0 | S34: =N34+R34 -> 26.2515 | T34: =S34/$S$10 -> 0.0027451896
A35: K (inorg, susp) (g) | C35: =D35*C10 -> 170940 | D35: =0.14*B33 -> 0.77 | E35: =E33*90% -> 514.0933 | F35: 0 | G35: =100%-F35 -> 1 | H35: =($C35+$E35)*G35 -> 171454.09 | I35: =H35/$H$10 -> 0.82751099 | J35: =C35*F35 -> 0 | K35: =J35/$J$10 -> 0 | L35: 0 | M35: =100%-L35 -> 1 | N35: =($J35)*L35 -> 0 | O35: =N35/$N$10 -> 0 | P35: =($J35)*M35 -> 0 | Q35: =P35/$P$10 -> 0 | R35: 0 | S35: =N35+R35 -> 0 | T35: =S35/$S$10 -> 0
A36: K (inorg, diss) (g) | C36: =D36*C10 -> 1050060 | D36: =0.86*B33 -> 4.73 | E36: =E33*10% -> 57.121478 | F36: 0.005 | G36: =100%-F36 -> 0.995 | H36: =($C36+$E36)*G36 -> 1044866.5 | I36: =H36/$H$10 -> 5.042974 | J36: =C36*F36 -> 5250.3 | K36: =J36/$J$10 -> 0.29473107 | L36: 0.005 | M36: =100%-L36 -> 0.995 | N36: =($J36)*L36 -> 26.2515 | O36: =N36/$N$10 -> 0.0027451896 | P36: =($J36)*M36 -> 5224.0485 | Q36: =P36/$P$10 -> 0.63313056 | R36: 0 | S36: =N36+R36 -> 26.2515 | T36: =S36/$S$10 -> 0.0027451896

Sheet RePeat
B1: Fill in boxes | C1: Input | H1: (Diluted), acidified input, pH 5 | J1: 2 screw presses | L1: Low-P soil improver | N1: Liquid fraction | P1: Lamella clarifier | R1: Ca(SO4)2 sludge | T1: Liquid fraction | V1: Additive/no additive | W1: Sedimentation and filter bags | Y1: Ca-P salts sludge | AA1: Liquid fraction | AC1: Air drying | AE1: Dried Ca-P salts sludge | AG1: air + water vapour
B2: Composition input (e.g. solid fraction) | C2: Mass | D2: Calculated concentration | E2: Additive/no additive | H2: mass | I2: concentration | J2: Recovery rate (%) to Low-P soil improver | K2: Recovery rate (%) to Liquid fraction | L2: mass | M2: concentration | N2: mass | O2: concentration | P2: Recovery rate (%) to Ca(SO4)2 sludge | Q2: Recovery rate (%) to Liquid fraction | R2: mass | S2: concentration | T2: mass | U2: concentration | W2: Recovery rate (%) to Ca-P salts sludge | X2: Recovery rate (%) to Liquid fraction | Y2: mass | Z2: concentration | AA2: mass | AB2: concentration | AC2: Recovery rate (%) to Dried Ca-P salts sludge | AD2: Recovery rate (%) to air + water vapour | AE2: mass | AF2: concentration | AG2: mass | AH2: concentration
D3: g/kg | I3: g/kg | M3: g/kg | O3: g/kg | S3: g/kg | U3: g/kg | Z3: g/kg | AB3: g/kg | AF3: g/kg | AH3: g/kg
E4: dilution water | G4: =CONCATENATE(G5,"% H2SO4 solution") -> 96% H2SO4 solution | V4: =CONCATENATE(V5,"% Ca(OH)2 solution to pH 8") -> 45% Ca(OH)2 solution to pH 8
E5: 1 | F5: 4 | G5: 96 | H5: % | V5: 45 | W5: %
E6: dilution | G6: =G5*10 -> 960 | H6: g H2SO4/L solution | I6: Acidification causes | V6: =V5*10 -> 450 | W6: g/L Ca(OH)2 solution
E7: =(1000*F5)-1000 -> 3000 | F7: L dilution water / ton solid fraction | G7: 1.84 | H7: kg/l | I7: 0.51 | V7: 1.22 | W7: kg/l
G8: =G$9*G$7 -> 40.48 | H8: kg/ton input | I8: of P(org,susp) to become P(inorg,diss) | V8: =V$9*V$7 -> 30.01078 | W8: kg/ton input
G9: 22 | H9: L/ton input | V9: 24.599 | W9: L/ton input
A10: mass (kg/year) | B10: 1000 | C10: =B10 -> 1000 | E10: =C10*(E$7/1000) -> 3000 | G10: =C10*(G$8/1000) -> 40.48 | H10: =(H11+H12)/1000 -> 4040.48 | J10: =(L10/H10) -> 0.18234248 | K10: =100%-J10 -> 0.81765752 | L10: =(L11+L12)/1000 -> 736.75113 | N10: =(N11+N12)/1000 -> 3250.099 | P10: =(R10/(N10)) -> 0.11562454 | Q10: =100%-P10 -> 0.88437546 | R10: =(R11+R12)/1000 -> 375.79121 | T10: =(T11+T12)/1000 -> 2927.9377 | V10: =C10*(V$8/1000) -> 30.01078 | W10: =(Y10/(T10+V10)) -> 0.17339267 | X10: =100%-W10 -> 0.82660733 | Y10: =(Y11+Y12)/1000 -> 512.88657 | AA10: =(AA11+AA12)/1000 -> 2441.0301 | AC10: =(AE10/(Y10)) -> 0.19438859 | AD10: =100%-AC10 -> 0.80561141 | AE10: =(AE11+AE12)/1000 -> 99.699294 | AG10: =(AG11+AG12)/1000 -> 413.18727
A11: Water (g) | B11: =L19/1000 -> 4.0250284 | C11: =(C10*1000)-C12 -> 687000 | E11: =(E10*1000)-E12 -> 3000000 | G11: =(G10*1000)-G12 -> 1619.2 | H11: =C11+E11+G11 -> 3688619.2 | I11: =H11/$H$10 -> 912.91609 | J11: 0.14 | K11: =100%-J11 -> 0.86 | L11: =($H11)*J11 -> 516406.69 | M11: =L11/$L$10 -> 700.92419 | N11: =($H11)*K11 -> 3172212.5 | O11: =N11/N$10 -> 976.03564 | P11: 0.11 | Q11: =100%-P11 -> 0.89 | R11: =($N11)*P11 -> 348943.38 | S11: =R11/R$10 -> 928.55651 | T11: =($N11)*Q11 -> 2823269.1 | U11: =T11/T$10 -> 964.25179 | V11: =(V10*1000)-V12 -> 16505.929 | W11: 0.15 | X11: =100%-W11 -> 0.85 | Y11: =(T11+$V11)*W11 -> 425966.26 | Z11: =Y11/Y$10 -> 830.52723 | AA11: =(T11+$V11)*X11 -> 2413808.8 | AB11: =AA11/AA$10 -> 988.84843 | AC11: 0.03 | AD11: =100%-AC11 -> 0.97 | AE11: =(Y11)*AC11 -> 12778.988 | AF11: =AE11/AE$10 -> 128.17531 | AG11: =(Y11)*AD11 -> 413187.27 | AH11: =AG11/AG$10 -> 1000
A12: Total DM (g) | B12: 313 | C12: =C13+C16 -> 313000 | D12: =C12/C$10 -> 313 | E12: 0 | G12: =G13+G16 -> 38860.8 | H12: =H13+H16 -> 351860.8 | I12: =H12/$H$10 -> 87.083911 | J12: =(L12/H12) -> 0.62622618 | K12: =100%-J12 -> 0.37377382 | L12: =L13+L16 -> 220344.44 | M12: =L12/$L$10 -> 299.07581 | N12: =(N13+N14) -> 77886.536 | O12: =N12/N$10 -> 23.964358 | P12: =(R12/(N12)) -> 0.34470446 | Q12: =100%-P12 -> 0.65529554 | R12: =R13+R16 -> 26847.836 | S12: =R12/R$10 -> 71.443491 | T12: =T13+T16 -> 104668.52 | U12: =T12/T$10 -> 35.748207 | V12: =V13+V16 -> 13504.851 | W12: =(Y12/(T12+V12)) -> 0.73553208 | X12: =100%-W12 -> 0.26446792 | Y12: =Y13+Y16 -> 86920.306 | Z12: =Y12/Y$10 -> 169.47277 | AA12: =(AA13+AA14) -> 27221.308 | AB12: =AA12/AA$10 -> 11.151566 | AC12: =(AE12/(Y12)) -> 1 | AD12: =100%-AC12 -> 0 | AE12: =AE13+AE16 -> 86920.306 | AF12: =AE12/AE$10 -> 871.82469 | AG12: =(AG13+AG14) -> 0 | AH12: =AG12/AG$10 -> 0
A13: DM (inorg) (g) | B13: =B12-B16 -> 72 | C13: =C14+C15 -> 72000 | D13: =C13/C$10 -> 72 | E13: 0 | G13: =(G10*G5%*1000) -> 38860.8 | H13: =H14+H15 -> 110860.8 | I13: =H13/$H$10 -> 27.437532 | J13: =(L13/H13) -> 0.32454613 | K13: =100%-J13 -> 0.67545387 | L13: =L14+L15 -> 35979.443 | M13: =L13/$L$10 -> 48.835274 | N13: =N14+N15 -> 74881.357 | O13: =N13/N$10 -> 23.039715 | P13: =(R13/(N13)) -> 0.13167157 | Q13: =100%-P13 -> 0.86832843 | R13: =R14+R15 -> 9859.7461 | S13: =R13/R$10 -> 26.237298 | T13: =T14+T15 -> 65021.611 | U13: =T13/T$10 -> 22.207307 | V13: =(V10*V5%*1000) -> 13504.851 | W13: =(Y13/(T13+V13)) -> 0.65401831 | X13: =100%-W13 -> 0.34598169 | Y13: =Y14+Y15 -> 51357.744 | Z13: =Y13/Y$10 -> 100.1347 | AA13: =AA14+AA15 -> 27168.718 | AB13: =AA13/AA$10 -> 11.130022 | AC13: =(AE13/(Y13)) -> 1 | AD13: =100%-AC13 -> 0 | AE13: =AE14+AE15 -> 51357.744 | AF13: =AE13/AE$10 -> 515.12645 | AG13: =AG14+AG15 -> 0 | AH13: =AG13/AG$10 -> 0
A14: DM (inorg, susp) (g) | B14: =B24+B28+B35+( 2*0.3)+(1*0.9)+(6.2*0.7)+(6*0.7)+(0.8*0.1) -> 15.025897 | C14: =D14*C$10 -> 15025.897 | D14: =B14 -> 15.025897 | E14: 0 | G14: 0 | H14: =C14+E14+G14 -> 15025.897 | I14: =H14/$H$10 -> 3.7188396 | J14: 0.8 | K14: =100%-J14 -> 0.2 | L14: =($H14)*J14 -> 12020.718 | M14: =L14/$L$10 -> 16.315845 | N14: =($H14)*K14 -> 3005.1794 | O14: =N14/N$10 -> 0.9246424 | P14: 0.65 | Q14: =100%-P14 -> 0.35 | R14: =($N14)*P14 -> 1953.3666 | S14: =R14/R$10 -> 5.1980103 | T14: =($N14)*Q14 -> 1051.8128 | U14: =T14/T$10 -> 0.35923333 | V14: 0 | W14: 0.95 | X14: =100%-W14 -> 0.05 | Y14: =(T14+$V14)*W14 -> 999.22215 | Z14: =Y14/Y$10 -> 1.9482322 | AA14: =(T14+$V14)*X14 -> 52.590639 | AB14: =AA14/AA$10 -> 0.021544445 | AC14: 1 | AD14: =100%-AC14 -> 0 | AE14: =(Y14)*AC14 -> 999.22215 | AF14: =AE14/AE$10 -> 10.022359 | AG14: =(Y14)*AD14 -> 0 | AH14: =AG14/AG$10 -> 0
A15: DM (inorg, diss) (g) | B15: =B13-B14 -> 56.974103 | C15: =D15*C$10 -> 56974.103 | D15: =B15 -> 56.974103 | E15: 0 | G15: =G13 -> 38860.8 | H15: =C15+E15+G15 -> 95834.903 | I15: =H15/$H$10 -> 23.718693 | J15: 0.25 | K15: =100%-J15 -> 0.75 | L15: =($H15)*J15 -> 23958.726 | M15: =L15/$L$10 -> 32.519429 | N15: =($H15)*K15 -> 71876.177 | O15: =N15/N$10 -> 22.115073 | P15: 0.11 | Q15: =100%-P15 -> 0.89 | R15: =($N15)*P15 -> 7906.3795 | S15: =R15/R$10 -> 21.039288 | T15: =($N15)*Q15 -> 63969.798 | U15: =T15/T$10 -> 21.848074 | V15: =V13 -> 13504.851 | W15: 0.65 | X15: =100%-W15 -> 0.35 | Y15: =(T15+$V15)*W15 -> 50358.522 | Z15: =Y15/Y$10 -> 98.186471 | AA15: =(T15+$V15)*X15 -> 27116.127 | AB15: =AA15/AA$10 -> 11.108477 | AC15: 1 | AD15: =100%-AC15 -> 0 | AE15: =(Y15)*AC15 -> 50358.522 | AF15: =AE15/AE$10 -> 505.10409 | AG15: =(Y15)*AD15 -> 0 | AH15: =AG15/AG$10 -> 0
A16: DM (org) (g) | B16: =(241/313)*B12 -> 241 | C16: =C17+C18 -> 241000 | D16: =C16/C$10 -> 241 | E16: 0 | G16: 0 | H16: =H17+H18 -> 241000 | I16: =H16/$H$10 -> 59.646379 | J16: =(L16/H16) -> 0.765 | K16: =100%-J16 -> 0.235 | L16: =L17+L18 -> 184365 | M16: =L16/$L$10 -> 250.24054 | N16: =N17+N18 -> 56635 | O16: =N16/N$10 -> 17.425623 | P16: =(R16/(N16)) -> 0.29995745 | Q16: =100%-P16 -> 0.70004255 | R16: =R17+R18 -> 16988.09 | S16: =R16/R$10 -> 45.206193 | T16: =T17+T18 -> 39646.91 | U16: =T16/T$10 -> 13.5409 | V16: =V17+V18 -> 0 | W16: =(Y16/(T16+V16)) -> 0.89698195 | X16: =100%-W16 -> 0.10301805 | Y16: =Y17+Y18 -> 35562.562 | Z16: =Y16/Y$10 -> 69.338066 | AA16: =AA17+AA18 -> 4084.3475 | AB16: =AA16/AA$10 -> 1.6732065 | AC16: =(AE16/(Y16)) -> 1 | AD16: =100%-AC16 -> 0 | AE16: =AE17+AE18 -> 35562.562 | AF16: =AE16/AE$10 -> 356.69824 | AG16: =AG17+AG18 -> 0 | AH16: =AG16/AG$10 -> 0
A17: DM (org, susp) (g) | B17: =0.93*B16 -> 224.13 | C17: =D17*C$10 -> 224130 | D17: =B17 -> 224.13 | E17: 0 | G17: 0 | H17: =C17+E17+G17 -> 224130 | I17: =H17/$H$10 -> 55.471132 | J17: 0.8 | K17: =100%-J17 -> 0.2 | L17: =($H17)*J17 -> 179304 | M17: =L17/$L$10 -> 243.37119 | N17: =($H17)*K17 -> 44826 | O17: =N17/N$10 -> 13.792195 | P17: 0.35 | Q17: =100%-P17 -> 0.65 | R17: =($N17)*P17 -> 15689.1 | S17: =R17/R$10 -> 41.749513 | T17: =($N17)*Q17 -> 29136.9 | U17: =T17/T$10 -> 9.9513389 | V17: 0 | W17: 0.95 | X17: =100%-W17 -> 0.05 | Y17: =(T17+$V17)*W17 -> 27680.055 | Z17: =Y17/Y$10 -> 53.969156 | AA17: =(T17+$V17)*X17 -> 1456.845 | AB17: =AA17/AA$10 -> 0.59681566 | AC17: 1 | AD17: =100%-AC17 -> 0 | AE17: =(Y17)*AC17 -> 27680.055 | AF17: =AE17/AE$10 -> 277.63542 | AG17: =(Y17)*AD17 -> 0 | AH17: =AG17/AG$10 -> 0
A18: DM (org, diss) (g) | B18: =0.07*B16 -> 16.87 | C18: =D18*C$10 -> 16870 | D18: =B18 -> 16.87 | E18: 0 | G18: 0 | H18: =C18+E18+G18 -> 16870 | I18: =H18/$H$10 -> 4.1752465 | J18: 0.3 | K18: =100%-J18 -> 0.7 | L18: =($H18)*J18 -> 5061 | M18: =L18/$L$10 -> 6.8693481 | N18: =($H18)*K18 -> 11809 | O18: =N18/N$10 -> 3.6334277 | P18: 0.11 | Q18: =100%-P18 -> 0.89 | R18: =($N18)*P18 -> 1298.99 | S18: =R18/R$10 -> 3.4566801 | T18: =($N18)*Q18 -> 10510.01 | U18: =T18/T$10 -> 3.5895607 | V18: 0 | W18: 0.75 | X18: =100%-W18 -> 0.25 | Y18: =(T18+$V18)*W18 -> 7882.5075 | Z18: =Y18/Y$10 -> 15.36891 | AA18: =(T18+$V18)*X18 -> 2627.5025 | AB18: =AA18/AA$10 -> 1.0763909 | AC18: 1 | AD18: =100%-AC18 -> 0 | AE18: =(Y18)*AC18 -> 7882.5075 | AF18: =AE18/AE$10 -> 79.062822 | AG18: =(Y18)*AD18 -> 0 | AH18: =AG18/AG$10 -> 0
A19: N total (g) | B19: 11.6 | C19: =C20+C23 -> 11600 | D19: =C19/C$10 -> 11.6 | E19: 0 | G19: 0 | H19: =H20+H23 -> 11600 | I19: =H19/$H$10 -> 2.870946 | J19: =(L19/H19) -> 0.3469852 | K19: =100%-J19 -> 0.6530148 | L19: =L20+L23 -> 4025.0284 | M19: =L19/$L$10 -> 5.463213 | N19: =N20+N23 -> 7574.9716 | O19: =N19/N$10 -> 2.3306895 | P19: =(R19/(N19)) -> 0.22229896 | Q19: =100%-P19 -> 0.77770104 | R19: =R20+R23 -> 1683.9083 | S19: =R19/R$10 -> 4.4809678 | T19: =T20+T23 -> 5891.0633 | U19: =T19/T$10 -> 2.012018 | V19: 0 | W19: =(Y19/(T19+V19)) -> 0.62974237 | X19: =100%-W19 -> 0.37025763 | Y19: =Y20+Y23 -> 3709.8522 | Z19: =Y19/Y$10 -> 7.23328 | AA19: =AA20+AA23 -> 2181.2112 | AB19: =AA19/AA$10 -> 0.89356175 | AC19: =(AE19/(Y19)) -> 0.79804263 | AD19: =100%-AC19 -> 0.20195737 | AE19: =AE20+AE23 -> 2960.6202 | AF19: =AE19/AE$10 -> 29.695498 | AG19: =AG20+AG23 -> 749.232 | AH19: =AG19/AG$10 -> 1.8132988
A20: N (inorg) (g) | B20: =D22/0.79 -> 8.3544304 | C20: =C21+C22 -> 8354.4304 | D20: =C20/C10 -> 8.3544304 | E20: 0 | G20: 0 | H20: =H21+H22 -> 8354.4304 | I20: =H20/$H$10 -> 2.0676826 | J20: =(L20/H20) -> 0.2471 | K20: =100%-J20 -> 0.7529 | L20: =L21+L22 -> 2064.3797 | M20: =L20/$L$10 -> 2.8020042 | N20: =N21+N22 -> 6290.0506 | O20: =N20/N$10 -> 1.9353412 | P20: =(R20/(N20)) -> 0.21464338 | Q20: =100%-P20 -> 0.78535662 | R20: =R21+R22 -> 1350.1177 | S20: =R20/R$10 -> 3.5927336 | T20: =T21+T22 -> 4939.9329 | U20: =T20/T$10 -> 1.6871715 | V20: 0 | W20: =(Y20/(T20+V20)) -> 0.58231889 | X20: =100%-W20 -> 0.41768111 | Y20: =Y21+Y22 -> 2876.6163 | Z20: =Y20/Y$10 -> 5.6086793 | AA20: =AA21+AA22 -> 2063.3166 | AB20: =AA20/AA$10 -> 0.84526472 | AC20: =(AE20/(Y20)) -> 0.73954399 | AD20: =100%-AC20 -> 0.26045601 | AE20: =AE21+AE22 -> 2127.3843 | AF20: =AE20/AE$10 -> 21.338007 | AG20: =AG21+AG22 -> 749.232 | AH20: =AG20/AG$10 -> 1.8132988
A21: N (inorg, susp) (g) | B21: =B20-B22 -> 1.7544304 | C21: =D21*C$10 -> 1754.4304 | D21: =B21 -> 1.7544304 | E21: 0 | G21: 0 | H21: =C21+E21+G21 -> 1754.4304 | I21: =H21/$H$10 -> 0.43421336 | J21: 0.65 | K21: =100%-J21 -> 0.35 | L21: =($H21)*J21 -> 1140.3797 | M21: =L21/$L$10 -> 1.5478493 | N21: =($H21)*K21 -> 614.05063 | O21: =N21/N$10 -> 0.1889329 | P21: 0.35 | Q21: =100%-P21 -> 0.65 | R21: =($N21)*P21 -> 214.91772 | S21: =R21/R$10 -> 0.57190726 | T21: =($N21)*Q21 -> 399.13291 | U21: =T21/T$10 -> 0.13631879 | V21: 0 | W21: 0.95 | X21: =100%-W21 -> 0.05 | Y21: =(T21+$V21)*W21 -> 379.17627 | Z21: =Y21/Y$10 -> 0.73929849 | AA21: =(T21+$V21)*X21 -> 19.956646 | AB21: =AA21/AA$10 -> 0.0081755016 | AC21: 1 | AD21: =100%-AC21 -> 0 | AE21: =(Y21)*AC21 -> 379.17627 | AF21: =AE21/AE$10 -> 3.8031991 | AG21: =(Y21)*AD21 -> 0 | AH21: =AG21/AG$10 -> 0
A22: N (inorg, diss) (g) | B22: 6.6 | C22: =D22*C$10 -> 6600 | D22: =B22 -> 6.6 | E22: 0 | G22: 0 | H22: =C22+E22+G22 -> 6600 | I22: =H22/$H$10 -> 1.6334693 | J22: 0.14 | K22: =100%-J22 -> 0.86 | L22: =($H22)*J22 -> 924 | M22: =L22/$L$10 -> 1.2541548 | N22: =($H22)*K22 -> 5676 | O22: =N22/N$10 -> 1.7464083 | P22: 0.2 | Q22: =100%-P22 -> 0.8 | R22: =($N22)*P22 -> 1135.2 | S22: =R22/R$10 -> 3.0208264 | T22: =($N22)*Q22 -> 4540.8 | U22: =T22/T$10 -> 1.5508527 | V22: 0 | W22: 0.55 | X22: =100%-W22 -> 0.45 | Y22: =(T22+$V22)*W22 -> 2497.44 | Z22: =Y22/Y$10 -> 4.8693808 | AA22: =(T22+$V22)*X22 -> 2043.36 | AB22: =AA22/AA$10 -> 0.83708922 | AC22: 0.7 | AD22: =100%-AC22 -> 0.3 | AE22: =(Y22)*AC22 -> 1748.208 | AF22: =AE22/AE$10 -> 17.534808 | AG22: =(Y22)*AD22 -> 749.232 | AH22: =AG22/AG$10 -> 1.8132988
A23: N (org) (g) | B23: =B19-B20 -> 3.2455696 | C23: =C24+C25 -> 3245.5696 | D23: =C23/C10 -> 3.2455696 | E23: 0 | G23: 0 | H23: =H24+H25 -> 3245.5696 | I23: =H23/$H$10 -> 0.80326338 | J23: =(L23/H23) -> 0.6041 | K23: =100%-J23 -> 0.3959 | L23: =L24+L25 -> 1960.6486 | M23: =L23/$L$10 -> 2.6612088 | N23: =N24+N25 -> 1284.921 | O23: =N23/N$10 -> 0.39534826 | P23: =(R23/(N23)) -> 0.2597752 | Q23: =100%-P23 -> 0.7402248 | R23: =R24+R25 -> 333.79061 | S23: =R23/R$10 -> 0.8882342 | T23: =T24+T25 -> 951.13041 | U23: =T23/T$10 -> 0.32484654 | V23: 0 | W23: =(Y23/(T23)) -> 0.87604801 | X23: =100%-W23 -> 0.12395199 | Y23: =Y24+Y25 -> 833.2359 | Z23: =Y23/Y$10 -> 1.6246008 | AA23: =AA24+AA25 -> 117.89451 | AB23: =AA23/AA$10 -> 0.04829703 | AC23: =(AE23/(Y23)) -> 1 | AD23: =100%-AC23 -> 0 | AE23: =AE24+AE25 -> 833.2359 | AF23: =AE23/AE$10 -> 8.3574905 | AG23: =AG24+AG25 -> 0 | AH23: =AG23/AG$10 -> 0
A24: N (org, susp) (g) | B24: =0.91*B23 -> 2.9534684 | C24: =D24*C$10 -> 2953.4684 | D24: =B24 -> 2.9534684 | E24: 0 | G24: 0 | H24: =C24+E24+G24 -> 2953.4684 | I24: =H24/$H$10 -> 0.73096968 | J24: 0.65 | K24: =100%-J24 -> 0.35 | L24: =($H24)*J24 -> 1919.7544 | M24: =L24/$L$10 -> 2.6057027 | N24: =($H24)*K24 -> 1033.7139 | O24: =N24/N$10 -> 0.31805613 | P24: 0.25 | Q24: =100%-P24 -> 0.75 | R24: =($N24)*P24 -> 258.42848 | S24: =R24/R$10 -> 0.68769166 | T24: =($N24)*Q24 -> 775.28544 | U24: =T24/T$10 -> 0.26478892 | V24: 0 | W24: 0.95 | X24: =100%-W24 -> 0.05 | Y24: =(T24+$V24)*W24 -> 736.52117 | Z24: =Y24/Y$10 -> 1.4360313 | AA24: =(T24+$V24)*X24 -> 38.764272 | AB24: =AA24/AA$10 -> 0.015880292 | AC24: 1 | AD24: =100%-AC24 -> 0 | AE24: =(Y24)*AC24 -> 736.52117 | AF24: =AE24/AE$10 -> 7.3874261 | AG24: =(Y24)*AD24 -> 0 | AH24: =AG24/AG$10 -> 0
A25: N (org, diss) (g) | B25: =0.09*B23 -> 0.29210127 | C25: =D25*C$10 -> 292.10127 | D25: =B25 -> 0.29210127 | E25: 0 | G25: 0 | H25: =C25+E25+G25 -> 292.10127 | I25: =H25/$H$10 -> 0.072293704 | J25: 0.14 | K25: =100%-J25 -> 0.86 | L25: =($H25)*J25 -> 40.894177 | M25: =L25/$L$10 -> 0.055506094 | N25: =($H25)*K25 -> 251.20709 | O25: =N25/N$10 -> 0.077292133 | P25: 0.3 | Q25: =100%-P25 -> 0.7 | R25: =($N25)*P25 -> 75.362127 | S25: =R25/R$10 -> 0.20054255 | T25: =($N25)*Q25 -> 175.84496 | U25: =T25/T$10 -> 0.060057618 | V25: 0 | W25: 0.55 | X25: =100%-W25 -> 0.45 | Y25: =(T25+$V25)*W25 -> 96.714729 | Z25: =Y25/Y$10 -> 0.18856943 | AA25: =(T25+$V25)*X25 -> 79.130233 | AB25: =AA25/AA$10 -> 0.032416738 | AC25: 1 | AD25: =100%-AC25 -> 0 | AE25: =(Y25)*AC25 -> 96.714729 | AF25: =AE25/AE$10 -> 0.97006433 | AG25: =(Y25)*AD25 -> 0 | AH25: =AG25/AG$10 -> 0
A26: Ptotal (g) | B26: 8.9 | C26: =C27+C30 -> 8900 | D26: =C26/C$10 -> 8.9 | E26: 0 | G26: 0 | H26: =H27+H30 -> 8900 | I26: =H26/$H$10 -> 2.2027086 | J26: =(L26/H26) -> 0.1090572 | K26: =100%-J26 -> 0.8909428 | L26: =L27+L30 -> 970.60907 | M26: =L26/$L$10 -> 1.3174178 | N26: =N27+N30 -> 7929.3909 | O26: =N26/N$10 -> 2.4397382 | P26: =(R26/(N26)) -> 0.14888415 | Q26: =100%-P26 -> 0.85111585 | R26: =R27+R30 -> 1180.5606 | S26: =R26/R$10 -> 3.1415333 | T26: =T27+T30 -> 6748.8303 | U26: =T26/T$10 -> 2.3049775 | V26: 0 | W26: =(Y26/(T26)) -> 0.8378574 | X26: =100%-W26 -> 0.1621426 | Y26: =Y27+Y30 -> 5654.5574 | Z26: =Y26/Y$10 -> 11.024967 | AA26: =AA27+AA30 -> 1094.2729 | AB26: =AA26/AA$10 -> 0.44828323 | AC26: =(AE26/(Y26)) -> 1 | AD26: =100%-AC26 -> 0 | AE26: =AE27+AE30 -> 5654.5574 | AF26: =AE26/AE$10 -> 56.716123 | AG26: =AG27+AG30 -> 0 | AH26: =AG26/AG$10 -> 0
A27: P (inorg) (g) | B27: =B29/0.14 -> 1.5214286 | C27: =C28+C29 -> 1521.4286 | D27: =C27/C10 -> 1.5214286 | E27: 0 | G27: 0 | H27: =H28+H29 -> 4908.1929 | I27: =H27/$H$10 -> 1.2147549 | J27: =(L27/H27) -> 0.060650298 | K27: =100%-J27 -> 0.9393497 | L27: =L28+L29 -> 297.68336 | M27: =L27/$L$10 -> 0.40404873 | N27: =N28+N29 -> 4610.5095 | O27: =N27/N$10 -> 1.4185751 | P27: =(R27/(N27)) -> 0.083569547 | Q27: =100%-P27 -> 0.91643045 | R27: =R28+R29 -> 385.29819 | S27: =R27/R$10 -> 1.0252986 | T27: =T28+T29 -> 4225.2113 | U27: =T27/T$10 -> 1.4430674 | V27: 0 | W27: =(Y27/(T27)) -> 0.81734162 | X27: =100%-W27 -> 0.18265838 | Y27: =Y28+Y29 -> 3453.441 | Z27: =Y27/Y$10 -> 6.7333428 | AA27: =AA28+AA29 -> 771.77026 | AB27: =AA27/AA$10 -> 0.31616581 | AC27: =(AE27/(Y27)) -> 1 | AD27: =100%-AC27 -> 0 | AE27: =AE28+AE29 -> 3453.441 | AF27: =AE27/AE$10 -> 34.638571 | AG27: =AG28+AG29 -> 0 | AH27: =AG27/AG$10 -> 0
A28: P (inorg, susp) (g) | B28: =B27-B29 -> 1.3084286 | C28: =D28*C$10 -> 1308.4286 | D28: =B28 -> 1.3084286 | E28: 0 | G28: 0 | H28: =C28+E28+G28 -> 1308.4286 | I28: =H28/$H$10 -> 0.32382998 | J28: 0.2 | K28: =100%-J28 -> 0.8 | L28: =($H28)*J28 -> 261.68571 | M28: =L28/$L$10 -> 0.35518875 | N28: =($H28)*K28 -> 1046.7429 | O28: =N28/N$10 -> 0.32206491 | P28: 0.3 | Q28: =100%-P28 -> 0.7 | R28: =($N28)*P28 -> 314.02286 | S28: =R28/R$10 -> 0.83563119 | T28: =($N28)*Q28 -> 732.72 | U28: =T28/T$10 -> 0.25025123 | V28: 0 | W28: 0.9 | X28: =100%-W28 -> 0.1 | Y28: =(T28+$V28)*W28 -> 659.448 | Z28: =Y28/Y$10 -> 1.285758 | AA28: =(T28+$V28)*X28 -> 73.272 | AB28: =AA28/AA$10 -> 0.030016836 | AC28: 1 | AD28: =100%-AC28 -> 0 | AE28: =(Y28)*AC28 -> 659.448 | AF28: =AE28/AE$10 -> 6.6143698 | AG28: =(Y28)*AD28 -> 0 | AH28: =AG28/AG$10 -> 0
A29: P (inorg, diss) (g) | B29: 0.213 | C29: =D29*C$10 -> 213 | D29: =B29 -> 0.213 | E29: 0 | G29: 0 | H29: =(C29+E29+G29)+((C31+E31+G31)*$I$7) -> 3599.7643 | I29: =H29/$H$10 -> 0.89092491 | J29: 0.01 | K29: =100%-J29 -> 0.99 | L29: =($H29)*J29 -> 35.997643 | M29: =L29/$L$10 -> 0.048859976 | N29: =($H29)*K29 -> 3563.7666 | O29: =N29/N$10 -> 1.0965102 | P29: 0.02 | Q29: =100%-P29 -> 0.98 | R29: =($N29)*P29 -> 71.275333 | S29: =R29/R$10 -> 0.18966738 | T29: =($N29)*Q29 -> 3492.4913 | U29: =T29/T$10 -> 1.1928161 | V29: 0 | W29: 0.8 | X29: =100%-W29 -> 0.2 | Y29: =(T29+$V29)*W29 -> 2793.993 | Z29: =Y29/Y$10 -> 5.4475848 | AA29: =(T29+$V29)*X29 -> 698.49826 | AB29: =AA29/AA$10 -> 0.28614897 | AC29: 1 | AD29: =100%-AC29 -> 0 | AE29: =(Y29)*AC29 -> 2793.993 | AF29: =AE29/AE$10 -> 28.024201 | AG29: =(Y29)*AD29 -> 0 | AH29: =AG29/AG$10 -> 0
A30: P (org) (g) | B30: =B26-B27 -> 7.3785714 | C30: =C31+C32 -> 7378.5714 | D30: =C30/C10 -> 7.3785714 | E30: 0 | G30: 0 | H30: =H31+H32 -> 3991.8071 | I30: =H30/$H$10 -> 0.98795369 | J30: =(L30/H30) -> 0.16857671 | K30: =100%-J30 -> 0.83142329 | L30: =L31+L32 -> 672.92571 | M30: =L30/$L$10 -> 0.9133691 | N30: =N31+N32 -> 3318.8814 | O30: =N30/N$10 -> 1.0211632 | P30: =(R30/(N30)) -> 0.23961761 | Q30: =100%-P30 -> 0.76038239 | R30: =R31+R32 -> 795.26243 | S30: =R30/R$10 -> 2.1162348 | T30: =T31+T32 -> 2523.619 | U30: =T30/T$10 -> 0.86191009 | V30: 0 | W30: =(Y30/(T30)) -> 0.8722063 | X30: =100%-W30 -> 0.1277937 | Y30: =Y31+Y32 -> 2201.1164 | Z30: =Y30/Y$10 -> 4.2916242 | AA30: =AA31+AA32 -> 322.5026 | AB30: =AA30/AA$10 -> 0.13211742 | AC30: =(AE30/(Y30)) -> 1 | AD30: =100%-AC30 -> 0 | AE30: =AE31+AE32 -> 2201.1164 | AF30: =AE30/AE$10 -> 22.077552 | AG30: =AG31+AG32 -> 0 | AH30: =AG30/AG$10 -> 0
A31: P (org, susp) (g) | B31: =B30*0.9 -> 6.6407143 | C31: =D31*C$10 -> 6640.7143 | D31: =B31 -> 6.6407143 | E31: 0 | G31: 0 | H31: =(C31+E31+G31)-((C31+E31+G31)*$I$7) -> 3253.95 | I31: =H31/$H$10 -> 0.80533748 | J31: 0.2 | K31: =100%-J31 -> 0.8 | L31: =($H31)*J31 -> 650.79 | M31: =L31/$L$10 -> 0.88332406 | N31: =($H31)*K31 -> 2603.16 | O31: =N31/N$10 -> 0.8009479 | P31: 0.3 | Q31: =100%-P31 -> 0.7 | R31: =($N31)*P31 -> 780.948 | S31: =R31/R$10 -> 2.0781433 | T31: =($N31)*Q31 -> 1822.212 | U31: =T31/T$10 -> 0.62235342 | V31: 0 | W31: 0.9 | X31: =100%-W31 -> 0.1 | Y31: =(T31+$V31)*W31 -> 1639.9908 | Z31: =Y31/Y$10 -> 3.1975702 | AA31: =(T31+$V31)*X31 -> 182.2212 | AB31: =AA31/AA$10 -> 0.074649304 | AC31: 1 | AD31: =100%-AC31 -> 0 | AE31: =(Y31)*AC31 -> 1639.9908 | AF31: =AE31/AE$10 -> 16.449372 | AG31: =(Y31)*AD31 -> 0 | AH31: =AG31/AG$10 -> 0
A32: P (org, diss) (g) | B32: =B30*0.1 -> 0.73785714 | C32: =D32*C$10 -> 737.85714 | D32: =B32 -> 0.73785714 | E32: 0 | G32: 0 | H32: =C32+E32+G32 -> 737.85714 | I32: =H32/$H$10 -> 0.18261621 | J32: 0.03 | K32: =100%-J32 -> 0.97 | L32: =($H32)*J32 -> 22.135714 | M32: =L32/$L$10 -> 0.030045036 | N32: =($H32)*K32 -> 715.72143 | O32: =N32/N$10 -> 0.22021527 | P32: 0.02 | Q32: =100%-P32 -> 0.98 | R32: =($N32)*P32 -> 14.314429 | S32: =R32/R$10 -> 0.03809144 | T32: =($N32)*Q32 -> 701.407 | U32: =T32/T$10 -> 0.23955667 | V32: 0 | W32: 0.8 | X32: =100%-W32 -> 0.2 | Y32: =(T32+$V32)*W32 -> 561.1256 | Z32: =Y32/Y$10 -> 1.094054 | AA32: =(T32+$V32)*X32 -> 140.2814 | AB32: =AA32/AA$10 -> 0.057468115 | AC32: 1 | AD32: =100%-AC32 -> 0 | AE32: =(Y32)*AC32 -> 561.1256 | AF32: =AE32/AE$10 -> 5.6281803 | AG32: =(Y32)*AD32 -> 0 | AH32: =AG32/AG$10 -> 0
A33: K total (g) | B33: 4.6 | C33: =C34 -> 4600 | D33: =C33/C$10 -> 4.6 | E33: 0 | G33: 0 | H33: =H34 -> 4600 | I33: =H33/$H$10 -> 1.1384786 | J33: =(L33/H33) -> 0.2464 | K33: =100%-J33 -> 0.7536 | L33: =L34 -> 1133.44 | M33: =L33/$L$10 -> 1.5384299 | N33: =N34 -> 3466.56 | O33: =N33/N$10 -> 1.0666013 | P33: =(R33/(N33)) -> 0.29151805 | Q33: =100%-P33 -> 0.70848195 | R33: =R34 -> 1010.5648 | S33: =R33/R$10 -> 2.6891656 | T33: =T34 -> 2455.9952 | U33: =T33/T$10 -> 0.83881404 | V33: 0 | W33: =(Y33/(T33)) -> 0.40131108 | X33: =100%-W33 -> 0.59868892 | Y33: =Y34 -> 985.61808 | Z33: =Y33/Y$10 -> 1.9217077 | AA33: =AA34 -> 1470.3771 | AB33: =AA33/AA$10 -> 0.60235927 | AC33: =(AE33/(Y33)) -> 1 | AD33: =100%-AC33 -> 0 | AE33: =AE34 -> 985.61808 | AF33: =AE33/AE$10 -> 9.8859083 | AG33: =AG34 -> 0 | AH33: =AG33/AG$10 -> 0
A34: K (inorg) (g) | B34: =B33 -> 4.6 | C34: =C35+C36 -> 4600 | D34: =C34/C$10 -> 4.6 | E34: 0 | G34: 0 | H34: =H35+H36 -> 4600 | I34: =H34/$H$10 -> 1.1384786 | J34: =(L34/H34) -> 0.2464 | K34: =100%-J34 -> 0.7536 | L34: =L35+L36 -> 1133.44 | M34: =L34/$L$10 -> 1.5384299 | N34: =N35+N36 -> 3466.56 | O34: =N34/N$10 -> 1.0666013 | P34: =(R34/(N34)) -> 0.29151805 | Q34: =100%-P34 -> 0.70848195 | R34: =R35+R36 -> 1010.5648 | S34: =R34/R$10 -> 2.6891656 | T34: =T35+T36 -> 2455.9952 | U34: =T34/T$10 -> 0.83881404 | V34: 0 | W34: =(Y34/(T34)) -> 0.40131108 | X34: =100%-W34 -> 0.59868892 | Y34: =Y35+Y36 -> 985.61808 | Z34: =Y34/Y$10 -> 1.9217077 | AA34: =AA35+AA36 -> 1470.3771 | AB34: =AA34/AA$10 -> 0.60235927 | AC34: =(AE34/(Y34)) -> 1 | AD34: =100%-AC34 -> 0 | AE34: =AE35+AE36 -> 985.61808 | AF34: =AE34/AE$10 -> 9.8859083 | AG34: =AG35+AG36 -> 0 | AH34: =AG34/AG$10 -> 0
A35: K (inorg, susp) (g) | B35: =0.14*B34 -> 0.644 | C35: =D35*C$10 -> 644 | D35: =B35 -> 0.644 | E35: 0 | G35: 0 | H35: =C35+E35+G35 -> 644 | I35: =H35/$H$10 -> 0.159387 | J35: 0.9 | K35: =100%-J35 -> 0.1 | L35: =($H35)*J35 -> 579.6 | M35: =L35/$L$10 -> 0.78669713 | N35: =($H35)*K35 -> 64.4 | O35: =N35/N$10 -> 0.019814781 | P35: 0.9 | Q35: =100%-P35 -> 0.1 | R35: =($N35)*P35 -> 57.96 | S35: =R35/R$10 -> 0.15423458 | T35: =($N35)*Q35 -> 6.44 | U35: =T35/T$10 -> 0.0021995004 | V35: 0 | W35: 0.9 | X35: =100%-W35 -> 0.1 | Y35: =(T35+$V35)*W35 -> 5.796 | Z35: =Y35/Y$10 -> 0.011300744 | AA35: =(T35+$V35)*X35 -> 0.644 | AB35: =AA35/AA$10 -> 0.00026382305 | AC35: 1 | AD35: =100%-AC35 -> 0 | AE35: =(Y35)*AC35 -> 5.796 | AF35: =AE35/AE$10 -> 0.058134815 | AG35: =(Y35)*AD35 -> 0 | AH35: =AG35/AG$10 -> 0
A36: K (inorg, diss) (g) | B36: =0.86*B34 -> 3.956 | C36: =D36*C$10 -> 3956 | D36: =B36 -> 3.956 | E36: 0 | G36: 0 | H36: =C36+E36+G36 -> 3956 | I36: =H36/$H$10 -> 0.97909159 | J36: 0.14 | K36: =100%-J36 -> 0.86 | L36: =($H36)*J36 -> 553.84 | M36: =L36/$L$10 -> 0.75173281 | N36: =($H36)*K36 -> 3402.16 | O36: =N36/N$10 -> 1.0467866 | P36: 0.28 | Q36: =100%-P36 -> 0.72 | R36: =($N36)*P36 -> 952.6048 | S36: =R36/R$10 -> 2.534931 | T36: =($N36)*Q36 -> 2449.5552 | U36: =T36/T$10 -> 0.83661453 | V36: 0 | W36: 0.4 | X36: =100%-W36 -> 0.6 | Y36: =(T36+$V36)*W36 -> 979.82208 | Z36: =Y36/Y$10 -> 1.910407 | AA36: =(T36+$V36)*X36 -> 1469.7331 | AB36: =AA36/AA$10 -> 0.60209545 | AC36: 1 | AD36: =100%-AC36 -> 0 | AE36: =(Y36)*AC36 -> 979.82208 | AF36: =AE36/AE$10 -> 9.8277735 | AG36: =(Y36)*AD36 -> 0 | AH36: =AG36/AG$10 -> 0

Sheet Evaporation of low DM input
B1: Fill in boxes | C1: Input | E1: Additive/no additive | H1: Evaporation | J1: Condensate | L1: Concentrate
B2: Composition input (e.g. digestate) | C2: Mass | D2: Calculated concentration | H2: Recovery rate (%) to Condensate | I2: Recovery rate (%) to Concentrate | J2: mass | K2: concentration | L2: mass | M2: concentration
B3: Dry matter maximum 40 g/kg | D3: g/kg | I3: g/kg | K3: g/kg | M3: g/kg
A4: 80°C, pH7,8 | E4: =CONCATENATE(E5,"% anti-foam solution") -> 100% anti-foam solution
A5: no acifdification | E5: 100 | F5: %
E6: =E5*10 -> 1000 | F6: g anti-foam/L
E7: 1 | F7: kg/l
E8: =E$9*E$7 -> 1 | F8: kg/ton input
E9: 1 | F9: =CONCATENATE("L ",E4,"/ton input") -> L 100% anti-foam solution/ton input
A10: mass (kg/year) | B10: 934 | C10: =B10 -> 934 | E10: =(E$8/1000)*$C$46 -> 185000 | H10: =(J10/(C10+E10+G10)) -> 0.0041175912 | I10: =100%-H10 -> 0.99588241 | J10: =(J11+J12)/1000 -> 765.60021 | L10: =(L11+L12)/1000 -> 185168.4
A11: Water (g) | B11: =J19/1000 -> 2.7840721 | C11: =(C10*1000)-C12 -> 900376 | E11: =(E10*1000)-E12 -> 0 | H11: 0.85 | I11: =100%-H11 -> 0.15 | J11: =($C11+$E11)*H11 -> 765319.6 | K11: =J11/$J$10 -> 999.63348 | L11: =($C11+$E11)*I11 -> 135056.4 | M11: =L11/$L$10 -> 0.72937067
A12: Total DM (g) | B12: 36 | C12: =C13+C16 -> 33624 | D12: =C12/C10 -> 36 | E12: =E13+E16 -> 185000000 | H12: =(J12/(C12+E12+G12)) -> 1.516522e-06 | I12: =100%-H12 -> 0.99999848 | J12: =J13+J16 -> 280.60756 | K12: =J12/$J$10 -> 0.36651971 | L12: =L13+L16 -> 1.8503334e+08 | M12: =L12/$L$10 -> 999.27063
A13: DM (inorg) (g) | B13: =B12-B16 -> 21.818182 | C13: =C14+C15 -> 20378.182 | D13: =C13/C10 -> 21.818182 | E13: =E14+E15 -> 0 | H13: =(J13/(C13+E13+G13)) -> 0.01 | I13: =100%-H13 -> 0.99 | J13: =J14+J15 -> 203.78182 | K13: =J13/$J$10 -> 0.26617263 | L13: =L14+L15 -> 20174.4 | M13: =L13/$L$10 -> 0.10895164
A14: DM (inorg, susp) (g) | B14: =B21+B28+B31+0.156+0.095+0.72+1.6+0.11 -> 3.6283684 | C14: =D14*C10 -> 10189.091 | D14: =1/2*B13 -> 10.909091 | E14: 0 | H14: 0 | I14: =100%-H14 -> 1 | J14: =($C14+$E14)*H14 -> 0 | K14: =J14/$J$10 -> 0 | L14: =($C14+$E14)*I14 -> 10189.091 | M14: =L14/$L$10 -> 0.055026079
A15: DM (inorg, diss) (g) | B15: =B13-B14 -> 18.189813 | C15: =D15*C10 -> 10189.091 | D15: =1/2*B13 -> 10.909091 | E15: 0 | H15: 0.02 | I15: =100%-H15 -> 0.98 | J15: =($C15+$E15)*H15 -> 203.78182 | K15: =J15/$J$10 -> 0.26617263 | L15: =($C15+$E15)*I15 -> 9985.3091 | M15: =L15/$L$10 -> 0.053925557
A16: DM (org) (g) | B16: =(26/66)*B12 -> 14.181818 | C16: =C17+C18 -> 13245.818 | D16: =C16/C10 -> 14.181818 | E16: =E17+E18 -> 185000000 | H16: =(J16/(C16+E16+G16)) -> 4.1524457e-07 | I16: =100%-H16 -> 0.99999958 | J16: =J17+J18 -> 76.825745 | K16: =J16/$J$10 -> 0.10034708 | L16: =L17+L18 -> 1.8501317e+08 | M16: =L16/$L$10 -> 999.16168
A17: DM (org, susp) (g) | C17: =D17*C10 -> 9404.5309 | D17: =71%*B16 -> 10.069091 | E17: =E$6*E$10/E$7 -> 185000000 | H17: 0 | I17: =100%-H17 -> 1 | J17: =($C17+$E17)*H17 -> 0 | K17: =J17/$J$10 -> 0 | L17: =($C17+$E17)*I17 -> 1.850094e+08 | M17: =L17/$L$10 -> 999.14135
A18: DM (org, diss) (g) | C18: =D18*C10 -> 3841.2873 | D18: =29%*B16 -> 4.1127273 | E18: 0 | H18: 0.02 | I18: =100%-H18 -> 0.98 | J18: =($C18+$E18)*H18 -> 76.825745 | K18: =J18/$J$10 -> 0.10034708 | L18: =($C18+$E18)*I18 -> 3764.4615 | M18: =L18/$L$10 -> 0.020329935
A19: N total (g) | B19: 6.5 | C19: =C20+C23 -> 6071 | D19: =C19/C10 -> 6.5 | E19: 0 | H19: =(J19/(C19+E19+G19)) -> 0.45858543 | I19: =100%-H19 -> 0.54141457 | J19: =J20+J23 -> 2784.0721 | K19: =J19/$J$10 -> 3.6364568 | L19: =L20+L23 -> 3286.9279 | M19: =L19/$L$10 -> 0.01775102
A20: N (inorg) (g) | B20: =D22/0.95 -> 3.7894737 | C20: =C21+C22 -> 3539.3684 | D20: =C20/C10 -> 3.7894737 | E20: 0 | H20: =(J20/(C20+E20+G20)) -> 0.765 | I20: =100%-H20 -> 0.235 | J20: =J21+J22 -> 2707.6168 | K20: =J20/$J$10 -> 3.5365937 | L20: =L21+L22 -> 831.75158 | M20: =L20/$L$10 -> 0.0044918657
A21: N (inorg, susp) (g) | C21: =D21*C10 -> 176.96842 | D21: =B20-D22 -> 0.18947368 | E21: 0 | H21: 0.1 | I21: =100%-H21 -> 0.9 | J21: =($C21+$E21)*H21 -> 17.696842 | K21: =J21/$J$10 -> 0.023114991 | L21: =($C21+$E21)*I21 -> 159.27158 | M21: =L21/$L$10 -> 0.00086014449
A22: N (inorg, diss) (g) | B22: 3.6 | C22: =D22*C10 -> 3362.4 | D22: =B22 -> 3.6 | E22: 0 | H22: 0.8 | I22: =100%-H22 -> 0.2 | J22: =($C22+$E22)*H22 -> 2689.92 | K22: =J22/$J$10 -> 3.5134787 | L22: =($C22+$E22)*I22 -> 672.48 | M22: =L22/$L$10 -> 0.0036317212
A23: N (org) (g) | B23: =B19-B20 -> 2.7105263 | C23: =C24+C25 -> 2531.6316 | D23: =C23/C10 -> 2.7105263 | E23: 0 | H23: =(J23/(C23+E23+G23)) -> 0.0302 | I23: =100%-H23 -> 0.9698 | J23: =J24+J25 -> 76.455274 | K23: =J23/$J$10 -> 0.099863183 | L23: =L24+L25 -> 2455.1763 | M23: =L23/$L$10 -> 0.013259154
A24: N (org, susp) (g) | C24: =D24*C10 -> 860.75474 | D24: =0.34*B23 -> 0.92157895 | E24: 0 | H24: 0.05 | I24: =100%-H24 -> 0.95 | J24: =($C24+$E24)*H24 -> 43.037737 | K24: =J24/$J$10 -> 0.056214375 | L24: =($C24+$E24)*I24 -> 817.717 | M24: =L24/$L$10 -> 0.0044160721
A25: N (org, diss) (g) | C25: =D25*C10 -> 1670.8768 | D25: =0.66*B23 -> 1.7889474 | E25: 0 | H25: 0.02 | I25: =100%-H25 -> 0.98 | J25: =($C25+$E25)*H25 -> 33.417537 | K25: =J25/$J$10 -> 0.043648808 | L25: =($C25+$E25)*I25 -> 1637.4593 | M25: =L25/$L$10 -> 0.0088430818
A26: Ptotal (g) | B26: 1.2 | C26: =C27+C30 -> 1120.8 | D26: =C26/C10 -> 1.2 | E26: 0 | H26: =(J26/(C26+E26+G26)) -> 0.0042105263 | I26: =100%-H26 -> 0.99578947 | J26: =J27+J30 -> 4.7191579 | K26: =J26/$J$10 -> 0.0061639977 | L26: =L27+L30 -> 1116.0808 | M26: =L26/$L$10 -> 0.0060273829
A27: P (inorg) (g) | B27: =B29/0.19 -> 0.78947368 | C27: =C28+C29 -> 737.36842 | D27: =C27/C10 -> 0.78947368 | E27: 0 | H27: =(J27/(C27+E27+G27)) -> 0.0038 | I27: =100%-H27 -> 0.9962 | J27: =J28+J29 -> 2.802 | K27: =J27/$J$10 -> 0.0036598736 | L27: =L28+L29 -> 734.56642 | M27: =L27/$L$10 -> 0.0039670182
A28: P (inorg, susp) (g) | B28: =B27-B29 -> 0.63947368 | C28: =D28*C10 -> 597.26842 | D28: =B28 -> 0.63947368 | E28: 0 | H28: 0 | I28: =100%-H28 -> 1 | J28: =($C28+$E28)*H28 -> 0 | K28: =J28/$J$10 -> 0 | L28: =($C28+$E28)*I28 -> 597.26842 | M28: =L28/$L$10 -> 0.0032255418
A29: P (inorg, diss) (g) | B29: 0.15 | C29: =D29*C10 -> 140.1 | D29: =B29 -> 0.15 | E29: 0 | H29: 0.02 | I29: =100%-H29 -> 0.98 | J29: =($C29+$E29)*H29 -> 2.802 | K29: =J29/$J$10 -> 0.0036598736 | L29: =($C29+$E29)*I29 -> 137.298 | M29: =L29/$L$10 -> 0.00074147641
A30: P (org) (g) | B30: =B26-B27 -> 0.41052632 | C30: =C31+C32 -> 383.43158 | D30: =C30/C10 -> 0.41052632 | E30: 0 | H30: =(J30/(C30+E30+G30)) -> 0.005 | I30: =100%-H30 -> 0.995 | J30: =J31+J32 -> 1.9171579 | K30: =J30/$J$10 -> 0.0025041241 | L30: =L31+L32 -> 381.51442 | M30: =L30/$L$10 -> 0.0020603646
A31: P (org, susp) (g) | B31: =B30*0.75 -> 0.30789474 | C31: =D31*C10 -> 287.57368 | D31: =B31 -> 0.30789474 | E31: 0 | H31: 0 | I31: =100%-H31 -> 1 | J31: =($C31+$E31)*H31 -> 0 | K31: =J31/$J$10 -> 0 | L31: =($C31+$E31)*I31 -> 287.57368 | M31: =L31/$L$10 -> 0.0015530387
A32: P (org, diss) (g) | B32: =B30*0.25 -> 0.10263158 | C32: =D32*C10 -> 95.857895 | D32: =B32 -> 0.10263158 | E32: 0 | H32: 0.02 | I32: =100%-H32 -> 0.98 | J32: =($C32+$E32)*H32 -> 1.9171579 | K32: =J32/$J$10 -> 0.0025041241 | L32: =($C32+$E32)*I32 -> 93.940737 | M32: =L32/$L$10 -> 0.00050732596
A33: K total (g) | B33: 5.5 | C33: =C34 -> 5137 | D33: =C33/C10 -> 5.5 | E33: 0 | H33: =(J33/(C33+E33+G33)) -> 0.0043 | I33: =100%-H33 -> 0.9957 | J33: =J34 -> 22.0891 | K33: =J33/$J$10 -> 0.028852004 | L33: =L34 -> 5114.9109 | M33: =L33/$L$10 -> 0.027623023
A34: K (inorg) (g) | C34: =C35+C36 -> 5137 | D34: =C34/C10 -> 5.5 | E34: 0 | H34: =(J34/(C34+E34+G34)) -> 0.0043 | I34: =100%-H34 -> 0.9957 | J34: =J35+J36 -> 22.0891 | K34: =J34/$J$10 -> 0.028852004 | L34: =L35+L36 -> 5114.9109 | M34: =L34/$L$10 -> 0.027623023
A35: K (inorg, susp) (g) | C35: =D35*C10 -> 719.18 | D35: =0.14*B33 -> 0.77 | E35: 0 | H35: 0 | I35: =100%-H35 -> 1 | J35: =($C35+$E35)*H35 -> 0 | K35: =J35/$J$10 -> 0 | L35: =($C35+$E35)*I35 -> 719.18 | M35: =L35/$L$10 -> 0.003883924
A36: K (inorg, diss) (g) | C36: =D36*C10 -> 4417.82 | D36: =0.86*B33 -> 4.73 | E36: 0 | H36: 0.005 | I36: =100%-H36 -> 0.995 | J36: =($C36+$E36)*H36 -> 22.0891 | K36: =J36/$J$10 -> 0.028852004 | L36: =($C36+$E36)*I36 -> 4395.7309 | M36: =L36/$L$10 -> 0.023739099
E40: =CONCATENATE(E41,"% anti-foam solution") -> 100% anti-foam solution | G40: =CONCATENATE(G41,"% H2SO4 solution") -> 96% H2SO4 solution
A41: 80°C, pH7,8 | E41: 100 | F41: % | G41: 96 | H41: %
A42: acifdification to pH 6,5 | E42: =E41*10 -> 1000 | F42: g anti-foam/L | G42: =G41*10 -> 960 | H42: g H2SO4/L solution
E43: 1 | F43: kg/l | G43: 1.84 | H43: kg/l
E44: =E$9*E$7 -> 1 | F44: kg/ton input | G44: =G$45*G$43 -> 11.04 | H44: kg/ton input
E45: 1 | F45: =CONCATENATE("L ",E40,"/ton input") -> L 100% anti-foam solution/ton input | G45: 6 | H45: =CONCATENATE("L ",G40,"/ton input") -> L 96% H2SO4 solution/ton input
A46: mass (kg) | B46: 185000000 | C46: =B46 -> 185000000 | E46: =($E$44/1000)*$C$46 -> 185000 | G46: =(G$44/1000)*$C$46 -> 2042400 | H46: =(J46/(C46+E46+G46)) -> 0.81051852 | I46: =100%-H46 -> 0.18948148 | J46: =(J47+J48)/1000 -> 1.5175128e+08 | L46: =(L47+L48)/1000 -> 35476124
A47: Water (g) | B47: =J55/1000 -> 33604.471 | C47: =(C46*1000)-C48 -> 178340000000 | E47: =(E46*1000)-E48 -> 0 | G47: =(G46*1000)-G48 -> 81696000 | H47: 0.85 | I47: =100%-H47 -> 0.15 | J47: =($C47+$E47+$G47)*H47 -> 151658441600 | K47: =J47/$J$46 -> 999.38825 | L47: =($C47+$E47+$G47)*I47 -> 2.6763254e+10 | M47: =L47/$L$46 -> 754.40187
A48: Total DM (g) | B48: 36 | C48: =C49+C52 -> 6660000000 | D48: =C48/C46 -> 36 | E48: =E49+E52 -> 185000000 | G48: =G49+G52 -> 1.960704e+09 | H48: =(J48/(C48+E48+G48)) -> 0.010542496 | I48: =100%-H48 -> 0.9894575 | J48: =J49+J52 -> 92834103 | K48: =J48/$J$46 -> 0.61175172 | L48: =L49+L52 -> 8.7128699e+09 | M48: =L48/$L$46 -> 245.59813
A49: DM (inorg) (g) | B49: =B48-B52 -> 21.818182 | C49: =C50+C51 -> 4.0363636e+09 | D49: =C49/C46 -> 21.818182 | E49: =E50+E51 -> 0 | G49: =(G46*1000*G41%) -> 1.960704e+09 | H49: =(J49/(C49+E49+G49)) -> 0.012942494 | I49: =100%-H49 -> 0.98705751 | J49: =J50+J51 -> 77617012 | K49: =J49/$J$46 -> 0.51147519 | L49: =L50+L51 -> 5919450624 | M49: =L49/$L$46 -> 166.85731
A50: DM (inorg, susp) (g) | B50: =B57+B64+B67+0.156+0.095+0.72+1.6+0.11 -> 2.9832737 | C50: =D50*C46 -> 2.0181818e+09 | D50: =1/2*B49 -> 10.909091 | E50: 0 | G50: =G49*5% -> 98035200 | H50: 0 | I50: =100%-H50 -> 1 | J50: =($C50+$E50+$G50)*H50 -> 0 | K50: =J50/$J$46 -> 0 | L50: =($C50+$E50+$G50)*I50 -> 2.116217e+09 | M50: =L50/$L$46 -> 59.651866
A51: DM (inorg, diss) (g) | B51: =B49-B50 -> 18.834908 | C51: =D51*C46 -> 2.0181818e+09 | D51: =1/2*B49 -> 10.909091 | E51: 0 | G51: =G49*95% -> 1.8626688e+09 | H51: 0.02 | I51: =100%-H51 -> 0.98 | J51: =($C51+$E51+$G51)*H51 -> 77617012 | K51: =J51/$J$46 -> 0.51147519 | L51: =($C51+$E51+$G51)*I51 -> 3.8032336e+09 | M51: =L51/$L$46 -> 107.20544
A52: DM (org) (g) | B52: =(26/66)*B48 -> 14.181818 | C52: =C53+C54 -> 2.6236364e+09 | D52: =C52/C46 -> 14.181818 | E52: =E53+E54 -> 185000000 | G52: =G53+G54 -> 0 | H52: =(J52/(C52+E52+G52)) -> 0.0054179641 | I52: =100%-H52 -> 0.99458204 | J52: =J53+J54 -> 15217091 | K52: =J52/$J$46 -> 0.10027653 | L52: =L53+L54 -> 2.7934193e+09 | M52: =L52/$L$46 -> 78.740824
A53: DM (org, susp) (g) | C53: =D53*C46 -> 1.8627818e+09 | D53: =71%*B52 -> 10.069091 | E53: =$E$42*E$46/$E$44 -> 185000000 | G53: 0 | H53: 0 | I53: =100%-H53 -> 1 | J53: =($C53+$E53+$G53)*H53 -> 0 | K53: =J53/$J$46 -> 0 | L53: =($C53+$E53+$G53)*I53 -> 2.0477818e+09 | M53: =L53/$L$46 -> 57.722817
A54: DM (org, diss) (g) | C54: =D54*C46 -> 7.6085455e+08 | D54: =29%*B52 -> 4.1127273 | E54: 0 | G54: 0 | H54: 0.02 | I54: =100%-H54 -> 0.98 | J54: =($C54+$E54+$G54)*H54 -> 15217091 | K54: =J54/$J$46 -> 0.10027653 | L54: =($C54+$E54+$G54)*I54 -> 7.4563745e+08 | M54: =L54/$L$46 -> 21.018008
A55: N total (g) | B55: 5.45 | C55: =C56+C59 -> 1008250000 | D55: =C55/C46 -> 5.45 | E55: 0 | G55: 0 | H55: =(J55/(C55+E55+G55)) -> 0.033329503 | I55: =100%-H55 -> 0.9666705 | J55: =J56+J59 -> 33604471 | K55: =J55/$J$46 -> 0.22144441 | L55: =L56+L59 -> 9.7464553e+08 | M55: =L55/$L$46 -> 27.473281
A56: N (inorg) (g) | B56: =D58/0.95 -> 5.1684211 | C56: =C57+C58 -> 9.5615789e+08 | D56: =C56/C46 -> 5.1684211 | E56: 0 | G56: 0 | H56: =(J56/(C56+E56+G56)) -> 0.0335 | I56: =100%-H56 -> 0.9665 | J56: =J57+J58 -> 32031289 | K56: =J56/$J$46 -> 0.21107756 | L56: =L57+L58 -> 9.2412661e+08 | M56: =L56/$L$46 -> 26.049255
A57: N (inorg, susp) (g) | C57: =D57*C46 -> 47807895 | D57: =B56-D58 -> 0.25842105 | E57: 0 | G57: 0 | H57: 0.1 | I57: =100%-H57 -> 0.9 | J57: =($C57+$E57+$G57)*H57 -> 4780789.5 | K57: =J57/$J$46 -> 0.031504114 | L57: =($C57+$E57+$G57)*I57 -> 43027105 | M57: =L57/$L$46 -> 1.2128468
A58: N (inorg, diss) (g) | B58: 4.91 | C58: =D58*C46 -> 908350000 | D58: =B58 -> 4.91 | E58: 0 | G58: 0 | H58: 0.03 | I58: =100%-H58 -> 0.97 | J58: =($C58+$E58+$G58)*H58 -> 27250500 | K58: =J58/$J$46 -> 0.17957345 | L58: =($C58+$E58+$G58)*I58 -> 881099500 | M58: =L58/$L$46 -> 24.836408
A59: N (org) (g) | B59: =B55-B56 -> 0.28157895 | C59: =C60+C61 -> 52092105 | D59: =C59/C46 -> 0.28157895 | E59: 0 | G59: 0 | H59: =(J59/(C59+E59+G59)) -> 0.0302 | I59: =100%-H59 -> 0.9698 | J59: =J60+J61 -> 1573181.6 | K59: =J59/$J$46 -> 0.010366843 | L59: =L60+L61 -> 50518924 | M59: =L59/$L$46 -> 1.424026
A60: N (org, susp) (g) | C60: =D60*C46 -> 17711316 | D60: =0.34*B59 -> 0.095736842 | E60: 0 | G60: 0 | H60: 0.05 | I60: =100%-H60 -> 0.95 | J60: =($C60+$E60+$G60)*H60 -> 885565.79 | K60: =J60/$J$46 -> 0.0058356398 | L60: =($C60+$E60+$G60)*I60 -> 16825750 | M60: =L60/$L$46 -> 0.47428377
A61: N (org, diss) (g) | C61: =D61*C46 -> 34380789 | D61: =0.66*B59 -> 0.18584211 | E61: 0 | G61: 0 | H61: 0.02 | I61: =100%-H61 -> 0.98 | J61: =($C61+$E61+$G61)*H61 -> 687615.79 | K61: =J61/$J$46 -> 0.0045312027 | L61: =($C61+$E61+$G61)*I61 -> 33693174 | M61: =L61/$L$46 -> 0.94974224
A62: Ptotal (g) | B62: 0.4 | C62: =C63+C66 -> 74000000 | D62: =C62/C46 -> 0.4 | E62: 0 | G62: 0 | H62: =(J62/(C62+E62+G62)) -> 0.0048863158 | I62: =100%-H62 -> 0.99511368 | J62: =J63+J66 -> 361587.37 | K62: =J62/$J$46 -> 0.0023827633 | L62: =L63+L66 -> 73638413 | M62: =L62/$L$46 -> 2.0757175
A63: P (inorg) (g) | B63: =B65/0.19 -> 0.037894737 | C63: =C64+C65 -> 7010526.3 | D63: =C63/C46 -> 0.037894737 | E63: 0 | G63: 0 | H63: =(J63/(C63+E63+G63)) -> 0.0038 | I63: =100%-H63 -> 0.9962 | J63: =J64+J65 -> 26640 | K63: =J63/$J$46 -> 0.00017555042 | L63: =L64+L65 -> 6983886.3 | M63: =L63/$L$46 -> 0.19686159
A64: P (inorg, susp) (g) | B64: =B63-B65 -> 0.030694737 | C64: =D64*C46 -> 5678526.3 | D64: =B64 -> 0.030694737 | E64: 0 | G64: 0 | H64: 0 | I64: =100%-H64 -> 1 | J64: =($C64+$E64+$G64)*H64 -> 0 | K64: =J64/$J$46 -> 0 | L64: =($C64+$E64+$G64)*I64 -> 5678526.3 | M64: =L64/$L$46 -> 0.16006614
A65: P (inorg, diss) (g) | B65: =0.018*B62 -> 0.0072 | C65: =D65*C46 -> 1332000 | D65: =B65 -> 0.0072 | E65: 0 | G65: 0 | H65: 0.02 | I65: =100%-H65 -> 0.98 | J65: =($C65+$E65+$G65)*H65 -> 26640 | K65: =J65/$J$46 -> 0.00017555042 | L65: =($C65+$E65+$G65)*I65 -> 1305360 | M65: =L65/$L$46 -> 0.036795451
A66: P (org) (g) | B66: =B62-B63 -> 0.36210526 | C66: =C67+C68 -> 66989474 | D66: =C66/C46 -> 0.36210526 | E66: 0 | G66: 0 | H66: =(J66/(C66+E66+G66)) -> 0.005 | I66: =100%-H66 -> 0.995 | J66: =J67+J68 -> 334947.37 | K66: =J66/$J$46 -> 0.0022072129 | L66: =L67+L68 -> 66654526 | M66: =L66/$L$46 -> 1.8788559
A67: P (org, susp) (g) | B67: =B66*0.75 -> 0.27157895 | C67: =D67*C46 -> 50242105 | D67: =B67 -> 0.27157895 | E67: 0 | G67: 0 | H67: 0 | I67: =100%-H67 -> 1 | J67: =($C67+$E67+$G67)*H67 -> 0 | K67: =J67/$J$46 -> 0 | L67: =($C67+$E67+$G67)*I67 -> 50242105 | M67: =L67/$L$46 -> 1.4162231
A68: P (org, diss) (g) | B68: =B66*0.25 -> 0.090526316 | C68: =D68*C46 -> 16747368 | D68: =B68 -> 0.090526316 | E68: 0 | G68: 0 | H68: 0.02 | I68: =100%-H68 -> 0.98 | J68: =($C68+$E68+$G68)*H68 -> 334947.37 | K68: =J68/$J$46 -> 0.0022072129 | L68: =($C68+$E68+$G68)*I68 -> 16412421 | M68: =L68/$L$46 -> 0.46263287
A69: K total (g) | B69: 5.38 | C69: =C70 -> 995300000 | D69: =C69/C46 -> 5.38 | E69: 0 | G69: 0 | H69: =(J69/(C69+E69+G69)) -> 0.0043 | I69: =100%-H69 -> 0.9957 | J69: =J70 -> 4279790 | K69: =J69/$J$46 -> 0.028202662 | L69: =L70 -> 991020210 | M69: =L69/$L$46 -> 27.93485
A70: K (inorg) (g) | C70: =C71+C72 -> 995300000 | D70: =C70/C46 -> 5.38 | E70: 0 | G70: 0 | H70: =(J70/(C70+E70+G70)) -> 0.0043 | I70: =100%-H70 -> 0.9957 | J70: =J71+J72 -> 4279790 | K70: =J70/$J$46 -> 0.028202662 | L70: =L71+L72 -> 991020210 | M70: =L70/$L$46 -> 27.93485
A71: K (inorg, susp) (g) | C71: =D71*C46 -> 1.39342e+08 | D71: =0.14*B69 -> 0.7532 | E71: 0 | G71: 0 | H71: 0 | I71: =100%-H71 -> 1 | J71: =($C71+$E71+$G71)*H71 -> 0 | K71: =J71/$J$46 -> 0 | L71: =($C71+$E71+$G71)*I71 -> 1.39342e+08 | M71: =L71/$L$46 -> 3.9277684
A72: K (inorg, diss) (g) | C72: =D72*C46 -> 855958000 | D72: =0.86*B69 -> 4.6268 | E72: 0 | G72: 0 | H72: 0.005 | I72: =100%-H72 -> 0.995 | J72: =($C72+$E72+$G72)*H72 -> 4279790 | K72: =J72/$J$46 -> 0.028202662 | L72: =($C72+$E72+$G72)*I72 -> 851678210 | M72: =L72/$L$46 -> 24.007082

Sheet Evaporation of high DM input
B1: Fill in boxes | C1: Input | E1: Additive/no additive | H1: Evaporation | J1: Condensate | L1: Concentrate
B2: Composition input (e.g. digestate) | C2: Mass | D2: Calculated concentration | H2: Recovery rate (%) to Condensate | I2: Recovery rate (%) to Concentrate | J2: mass | K2: concentration | L2: mass | M2: concentration
B3: Dry matter minimum 40 g/kg = no efficient evaporation | D3: g/kg | I3: g/kg | K3: g/kg | M3: g/kg
A4: 80°C, pH7,8 | E4: =CONCATENATE(E5,"% anti-foam solution") -> 100% anti-foam solution
A5: no acifdification | E5: 100 | F5: %
E6: =E5*10 -> 1000 | F6: g anti-foam/L
E7: 1 | F7: kg/l
E8: =E$9*E$7 -> 1 | F8: kg/ton input
E9: 1 | F9: =CONCATENATE("L ",E4,"/ton input") -> L 100% anti-foam solution/ton input
A10: mass (kg/year) | B10: 934 | C10: =B10 -> 934 | E10: =(E$8/1000)*$C$46 -> 185000 | H10: =(J10/(C10+E10+G10)) -> 0.0031688635 | I10: =100%-H10 -> 0.99683114 | J10: =(J11+J12)/1000 -> 589.19947 | L10: =(L11+L12)/1000 -> 185344.8
A11: Water (g) | B11: =J19/1000 -> 2.7840721 | C11: =(C10*1000)-C12 -> 840600 | E11: =(E10*1000)-E12 -> 0 | H11: =85%-((D12-40)*0.25%) -> 0.7 | I11: =100%-H11 -> 0.3 | J11: =($C11+$E11)*H11 -> 588420 | K11: =J11/$J$10 -> 998.67708 | L11: =($C11+$E11)*I11 -> 252180 | M11: =L11/$L$10 -> 1.3605993
A12: Total DM (g) | B12: 100 | C12: =C13+C16 -> 93400 | D12: =C12/C10 -> 100 | E12: =E13+E16 -> 185000000 | H12: =(J12/(C12+E12+G12)) -> 4.2112007e-06 | I12: =100%-H12 -> 0.99999579 | J12: =J13+J16 -> 779.46545 | K12: =J12/$J$10 -> 1.3229229 | L12: =L13+L16 -> 1.8509262e+08 | M12: =L12/$L$10 -> 998.6394
A13: DM (inorg) (g) | B13: =B12-B16 -> 60.606061 | C13: =C14+C15 -> 56606.061 | D13: =C13/C10 -> 60.606061 | E13: =E14+E15 -> 0 | H13: =(J13/(C13+E13+G13)) -> 0.01 | I13: =100%-H13 -> 0.99 | J13: =J14+J15 -> 566.06061 | K13: =J13/$J$10 -> 0.96072831 | L13: =L14+L15 -> 56040 | M13: =L13/$L$10 -> 0.30235539
A14: DM (inorg, susp) (g) | B14: =B21+B28+B31+0.156+0.095+0.72+1.6+0.11 -> 3.6283684 | C14: =D14*C10 -> 28303.03 | D14: =1/2*B13 -> 30.30303 | E14: 0 | H14: 0 | I14: =100%-H14 -> 1 | J14: =($C14+$E14)*H14 -> 0 | K14: =J14/$J$10 -> 0 | L14: =($C14+$E14)*I14 -> 28303.03 | M14: =L14/$L$10 -> 0.15270474
A15: DM (inorg, diss) (g) | B15: =B13-B14 -> 56.977692 | C15: =D15*C10 -> 28303.03 | D15: =1/2*B13 -> 30.30303 | E15: 0 | H15: 0.02 | I15: =100%-H15 -> 0.98 | J15: =($C15+$E15)*H15 -> 566.06061 | K15: =J15/$J$10 -> 0.96072831 | L15: =($C15+$E15)*I15 -> 27736.97 | M15: =L15/$L$10 -> 0.14965065
A16: DM (org) (g) | B16: =(26/66)*B12 -> 39.393939 | C16: =C17+C18 -> 36793.939 | D16: =C16/C10 -> 39.393939 | E16: =E17+E18 -> 185000000 | H16: =(J16/(C16+E16+G16)) -> 1.1533103e-06 | I16: =100%-H16 -> 0.99999885 | J16: =J17+J18 -> 213.40485 | K16: =J16/$J$10 -> 0.36219457 | L16: =L17+L18 -> 1.8503658e+08 | M16: =L16/$L$10 -> 998.33705
A17: DM (org, susp) (g) | C17: =D17*C10 -> 26123.697 | D17: =71%*B16 -> 27.969697 | E17: =E$6*E$10/E$7 -> 185000000 | H17: 0 | I17: =100%-H17 -> 1 | J17: =($C17+$E17)*H17 -> 0 | K17: =J17/$J$10 -> 0 | L17: =($C17+$E17)*I17 -> 1.8502612e+08 | M17: =L17/$L$10 -> 998.28063
A18: DM (org, diss) (g) | C18: =D18*C10 -> 10670.242 | D18: =29%*B16 -> 11.424242 | E18: 0 | H18: 0.02 | I18: =100%-H18 -> 0.98 | J18: =($C18+$E18)*H18 -> 213.40485 | K18: =J18/$J$10 -> 0.36219457 | L18: =($C18+$E18)*I18 -> 10456.838 | M18: =L18/$L$10 -> 0.056418295
A19: N total (g) | B19: 6.5 | C19: =C20+C23 -> 6071 | D19: =C19/C10 -> 6.5 | E19: 0 | H19: =(J19/(C19+E19+G19)) -> 0.45858543 | I19: =100%-H19 -> 0.54141457 | J19: =J20+J23 -> 2784.0721 | K19: =J19/$J$10 -> 4.7251776 | L19: =L20+L23 -> 3286.9279 | M19: =L19/$L$10 -> 0.017734125
A20: N (inorg) (g) | B20: =D22/0.95 -> 3.7894737 | C20: =C21+C22 -> 3539.3684 | D20: =C20/C10 -> 3.7894737 | E20: 0 | H20: =(J20/(C20+E20+G20)) -> 0.765 | I20: =100%-H20 -> 0.235 | J20: =J21+J22 -> 2707.6168 | K20: =J20/$J$10 -> 4.5954163 | L20: =L21+L22 -> 831.75158 | M20: =L20/$L$10 -> 0.0044875906
A21: N (inorg, susp) (g) | C21: =D21*C10 -> 176.96842 | D21: =B20-D22 -> 0.18947368 | E21: 0 | H21: 0.1 | I21: =100%-H21 -> 0.9 | J21: =($C21+$E21)*H21 -> 17.696842 | K21: =J21/$J$10 -> 0.030035401 | L21: =($C21+$E21)*I21 -> 159.27158 | M21: =L21/$L$10 -> 0.00085932585
A22: N (inorg, diss) (g) | B22: 3.6 | C22: =D22*C10 -> 3362.4 | D22: =B22 -> 3.6 | E22: 0 | H22: 0.8 | I22: =100%-H22 -> 0.2 | J22: =($C22+$E22)*H22 -> 2689.92 | K22: =J22/$J$10 -> 4.5653809 | L22: =($C22+$E22)*I22 -> 672.48 | M22: =L22/$L$10 -> 0.0036282647
A23: N (org) (g) | B23: =B19-B20 -> 2.7105263 | C23: =C24+C25 -> 2531.6316 | D23: =C23/C10 -> 2.7105263 | E23: 0 | H23: =(J23/(C23+E23+G23)) -> 0.0302 | I23: =100%-H23 -> 0.9698 | J23: =J24+J25 -> 76.455274 | K23: =J23/$J$10 -> 0.12976127 | L23: =L24+L25 -> 2455.1763 | M23: =L23/$L$10 -> 0.013246535
A24: N (org, susp) (g) | C24: =D24*C10 -> 860.75474 | D24: =0.34*B23 -> 0.92157895 | E24: 0 | H24: 0.05 | I24: =100%-H24 -> 0.95 | J24: =($C24+$E24)*H24 -> 43.037737 | K24: =J24/$J$10 -> 0.073044426 | L24: =($C24+$E24)*I24 -> 817.717 | M24: =L24/$L$10 -> 0.0044118691
A25: N (org, diss) (g) | C25: =D25*C10 -> 1670.8768 | D25: =0.66*B23 -> 1.7889474 | E25: 0 | H25: 0.02 | I25: =100%-H25 -> 0.98 | J25: =($C25+$E25)*H25 -> 33.417537 | K25: =J25/$J$10 -> 0.056716849 | L25: =($C25+$E25)*I25 -> 1637.4593 | M25: =L25/$L$10 -> 0.0088346654
A26: Ptotal (g) | B26: 1.2 | C26: =C27+C30 -> 1120.8 | D26: =C26/C10 -> 1.2 | E26: 0 | H26: =(J26/(C26+E26+G26)) -> 0.0042105263 | I26: =100%-H26 -> 0.99578947 | J26: =J27+J30 -> 4.7191579 | K26: =J26/$J$10 -> 0.0080094402 | L26: =L27+L30 -> 1116.0808 | M26: =L26/$L$10 -> 0.0060216464
A27: P (inorg) (g) | B27: =B29/0.19 -> 0.78947368 | C27: =C28+C29 -> 737.36842 | D27: =C27/C10 -> 0.78947368 | E27: 0 | H27: =(J27/(C27+E27+G27)) -> 0.0038 | I27: =100%-H27 -> 0.9962 | J27: =J28+J29 -> 2.802 | K27: =J27/$J$10 -> 0.0047556051 | L27: =L28+L29 -> 734.56642 | M27: =L27/$L$10 -> 0.0039632427
A28: P (inorg, susp) (g) | B28: =B27-B29 -> 0.63947368 | C28: =D28*C10 -> 597.26842 | D28: =B28 -> 0.63947368 | E28: 0 | H28: 0 | I28: =100%-H28 -> 1 | J28: =($C28+$E28)*H28 -> 0 | K28: =J28/$J$10 -> 0 | L28: =($C28+$E28)*I28 -> 597.26842 | M28: =L28/$L$10 -> 0.003222472
A29: P (inorg, diss) (g) | B29: 0.15 | C29: =D29*C10 -> 140.1 | D29: =B29 -> 0.15 | E29: 0 | H29: 0.02 | I29: =100%-H29 -> 0.98 | J29: =($C29+$E29)*H29 -> 2.802 | K29: =J29/$J$10 -> 0.0047556051 | L29: =($C29+$E29)*I29 -> 137.298 | M29: =L29/$L$10 -> 0.00074077071
A30: P (org) (g) | B30: =B26-B27 -> 0.41052632 | C30: =C31+C32 -> 383.43158 | D30: =C30/C10 -> 0.41052632 | E30: 0 | H30: =(J30/(C30+E30+G30)) -> 0.005 | I30: =100%-H30 -> 0.995 | J30: =J31+J32 -> 1.9171579 | K30: =J30/$J$10 -> 0.0032538351 | L30: =L31+L32 -> 381.51442 | M30: =L30/$L$10 -> 0.0020584037
A31: P (org, susp) (g) | B31: =B30*0.75 -> 0.30789474 | C31: =D31*C10 -> 287.57368 | D31: =B31 -> 0.30789474 | E31: 0 | H31: 0 | I31: =100%-H31 -> 1 | J31: =($C31+$E31)*H31 -> 0 | K31: =J31/$J$10 -> 0 | L31: =($C31+$E31)*I31 -> 287.57368 | M31: =L31/$L$10 -> 0.0015515606
A32: P (org, diss) (g) | B32: =B30*0.25 -> 0.10263158 | C32: =D32*C10 -> 95.857895 | D32: =B32 -> 0.10263158 | E32: 0 | H32: 0.02 | I32: =100%-H32 -> 0.98 | J32: =($C32+$E32)*H32 -> 1.9171579 | K32: =J32/$J$10 -> 0.0032538351 | L32: =($C32+$E32)*I32 -> 93.940737 | M32: =L32/$L$10 -> 0.00050684312
A33: K total (g) | B33: 5.5 | C33: =C34 -> 5137 | D33: =C33/C10 -> 5.5 | E33: 0 | H33: =(J33/(C33+E33+G33)) -> 0.0043 | I33: =100%-H33 -> 0.9957 | J33: =J34 -> 22.0891 | K33: =J33/$J$10 -> 0.03749002 | L33: =L34 -> 5114.9109 | M33: =L33/$L$10 -> 0.027596733
A34: K (inorg) (g) | C34: =C35+C36 -> 5137 | D34: =C34/C10 -> 5.5 | E34: 0 | H34: =(J34/(C34+E34+G34)) -> 0.0043 | I34: =100%-H34 -> 0.9957 | J34: =J35+J36 -> 22.0891 | K34: =J34/$J$10 -> 0.03749002 | L34: =L35+L36 -> 5114.9109 | M34: =L34/$L$10 -> 0.027596733
A35: K (inorg, susp) (g) | C35: =D35*C10 -> 719.18 | D35: =0.14*B33 -> 0.77 | E35: 0 | H35: 0 | I35: =100%-H35 -> 1 | J35: =($C35+$E35)*H35 -> 0 | K35: =J35/$J$10 -> 0 | L35: =($C35+$E35)*I35 -> 719.18 | M35: =L35/$L$10 -> 0.0038802275
A36: K (inorg, diss) (g) | C36: =D36*C10 -> 4417.82 | D36: =0.86*B33 -> 4.73 | E36: 0 | H36: 0.005 | I36: =100%-H36 -> 0.995 | J36: =($C36+$E36)*H36 -> 22.0891 | K36: =J36/$J$10 -> 0.03749002 | L36: =($C36+$E36)*I36 -> 4395.7309 | M36: =L36/$L$10 -> 0.023716505
E40: =CONCATENATE(E41,"% anti-foam solution") -> 100% anti-foam solution | G40: =CONCATENATE(G41,"% H2SO4 solution") -> 96% H2SO4 solution
A41: 80°C, pH7,8 | E41: 100 | F41: % | G41: 96 | H41: %
A42: acifdification to pH 6,5 | E42: =E41*10 -> 1000 | F42: g anti-foam/L | G42: =G41*10 -> 960 | H42: g H2SO4/L solution
E43: 1 | F43: kg/l | G43: 1.84 | H43: kg/l
E44: =E$9*E$7 -> 1 | F44: kg/ton input | G44: =G$45*G$43 -> 11.04 | H44: kg/ton input
E45: 1 | F45: =CONCATENATE("L ",E40,"/ton input") -> L 100% anti-foam solution/ton input | G45: 6 | H45: =CONCATENATE("L ",G40,"/ton input") -> L 96% H2SO4 solution/ton input
A46: mass (kg) | B46: 185000000 | C46: =B46 -> 185000000 | E46: =($E$44/1000)*$C$46 -> 185000 | G46: =(G$44/1000)*$C$46 -> 2042400 | H46: =(J46/(C46+E46+G46)) -> 0.62384455 | I46: =100%-H46 -> 0.37615545 | J46: =(J47+J48)/1000 -> 1.1680079e+08 | L46: =(L47+L48)/1000 -> 70426608
A47: Water (g) | B47: =J55/1000 -> 29062.721 | C47: =(C46*1000)-C48 -> 166500000000 | E47: =(E46*1000)-E48 -> 0 | G47: =(G46*1000)-G48 -> 81696000 | H47: =85%-((D48-40)*0.25%) -> 0.7 | I47: =100%-H47 -> 0.3 | J47: =($C47+$E47+$G47)*H47 -> 116607187200 | K47: =J47/$J$46 -> 998.34243 | L47: =($C47+$E47+$G47)*I47 -> 4.9974509e+10 | M47: =L47/$L$46 -> 709.59699
A48: Total DM (g) | B48: 100 | C48: =C49+C52 -> 18500000000 | D48: =C48/C46 -> 100 | E48: =E49+E52 -> 185000000 | G48: =G49+G52 -> 1.960704e+09 | H48: =(J48/(C48+E48+G48)) -> 0.0093774951 | I48: =100%-H48 -> 0.9906225 | J48: =J49+J52 -> 1.9360499e+08 | K48: =J48/$J$46 -> 1.6575657 | L48: =L49+L52 -> 2.0452099e+10 | M48: =L48/$L$46 -> 290.40301
A49: DM (inorg) (g) | B49: =B48-B52 -> 60.606061 | C49: =C50+C51 -> 1.1212121e+10 | D49: =C49/C46 -> 60.606061 | E49: =E50+E51 -> 0 | G49: =(G46*1000*G41%) -> 1.960704e+09 | H49: =(J49/(C49+E49+G49)) -> 0.011488446 | I49: =100%-H49 -> 0.98851155 | J49: =J50+J51 -> 1.5133529e+08 | K49: =J49/$J$46 -> 1.2956701 | L49: =L50+L51 -> 13021489920 | M49: =L49/$L$46 -> 184.89446
A50: DM (inorg, susp) (g) | B50: =B57+B64+B67+0.156+0.095+0.72+1.6+0.11 -> 2.9832737 | C50: =D50*C46 -> 5.6060606e+09 | D50: =1/2*B49 -> 30.30303 | E50: 0 | G50: 0 | H50: 0 | I50: =100%-H50 -> 1 | J50: =($C50+$E50+$G50)*H50 -> 0 | K50: =J50/$J$46 -> 0 | L50: =($C50+$E50+$G50)*I50 -> 5.6060606e+09 | M50: =L50/$L$46 -> 79.601457
A51: DM (inorg, diss) (g) | B51: =B49-B50 -> 57.622787 | C51: =D51*C46 -> 5.6060606e+09 | D51: =1/2*B49 -> 30.30303 | E51: 0 | G51: =G49 -> 1.960704e+09 | H51: 0.02 | I51: =100%-H51 -> 0.98 | J51: =($C51+$E51+$G51)*H51 -> 1.5133529e+08 | K51: =J51/$J$46 -> 1.2956701 | L51: =($C51+$E51+$G51)*I51 -> 7.4154293e+09 | M51: =L51/$L$46 -> 105.29301
A52: DM (org) (g) | B52: =(26/66)*B48 -> 39.393939 | C52: =C53+C54 -> 7.2878788e+09 | D52: =C52/C46 -> 39.393939 | E52: =E53+E54 -> 185000000 | G52: =G53+G54 -> 0 | H52: =(J52/(C52+E52+G52)) -> 0.0056564141 | I52: =100%-H52 -> 0.99434359 | J52: =J53+J54 -> 42269697 | K52: =J52/$J$46 -> 0.36189564 | L52: =L53+L54 -> 7.4306091e+09 | M52: =L52/$L$46 -> 105.50855
A53: DM (org, susp) (g) | C53: =D53*C46 -> 5.1743939e+09 | D53: =71%*B52 -> 27.969697 | E53: =$E$42*E$46/$E$44 -> 185000000 | G53: 0 | H53: 0 | I53: =100%-H53 -> 1 | J53: =($C53+$E53+$G53)*H53 -> 0 | K53: =J53/$J$46 -> 0 | L53: =($C53+$E53+$G53)*I53 -> 5.3593939e+09 | M53: =L53/$L$46 -> 76.098993
A54: DM (org, diss) (g) | C54: =D54*C46 -> 2.1134848e+09 | D54: =29%*B52 -> 11.424242 | E54: 0 | G54: 0 | H54: 0.02 | I54: =100%-H54 -> 0.98 | J54: =($C54+$E54+$G54)*H54 -> 42269697 | K54: =J54/$J$46 -> 0.36189564 | L54: =($C54+$E54+$G54)*I54 -> 2.0712152e+09 | M54: =L54/$L$46 -> 29.409554
A55: N total (g) | B55: 5.45 | C55: =C56+C59 -> 1008250000 | D55: =C55/C46 -> 5.45 | E55: 0 | G55: 0 | H55: =(J55/(C55+E55+G55)) -> 0.028824915 | I55: =100%-H55 -> 0.97117508 | J55: =J56+J59 -> 29062721 | K55: =J55/$J$46 -> 0.24882298 | L55: =L56+L59 -> 9.7918728e+08 | M55: =L55/$L$46 -> 13.903655
A56: N (inorg) (g) | B56: =D58/0.95 -> 5.1684211 | C56: =C57+C58 -> 9.5615789e+08 | D56: =C56/C46 -> 5.1684211 | E56: 0 | G56: 0 | H56: =(J56/(C56+E56+G56)) -> 0.02875 | I56: =100%-H56 -> 0.97125 | J56: =J57+J58 -> 27489539 | K56: =J56/$J$46 -> 0.23535405 | L56: =L57+L58 -> 9.2866836e+08 | M56: =L56/$L$46 -> 13.186328
A57: N (inorg, susp) (g) | C57: =D57*C46 -> 47807895 | D57: =B56-D58 -> 0.25842105 | E57: 0 | G57: 0 | H57: 0.1 | I57: =100%-H57 -> 0.9 | J57: =($C57+$E57+$G57)*H57 -> 4780789.5 | K57: =J57/$J$46 -> 0.040931139 | L57: =($C57+$E57+$G57)*I57 -> 43027105 | M57: =L57/$L$46 -> 0.61094956
A58: N (inorg, diss) (g) | B58: 4.91 | C58: =D58*C46 -> 908350000 | D58: =B58 -> 4.91 | E58: 0 | G58: 0 | H58: 0.025 | I58: =100%-H58 -> 0.975 | J58: =($C58+$E58+$G58)*H58 -> 22708750 | K58: =J58/$J$46 -> 0.19442291 | L58: =($C58+$E58+$G58)*I58 -> 885641250 | M58: =L58/$L$46 -> 12.575379
A59: N (org) (g) | B59: =B55-B56 -> 0.28157895 | C59: =C60+C61 -> 52092105 | D59: =C59/C46 -> 0.28157895 | E59: 0 | G59: 0 | H59: =(J59/(C59+E59+G59)) -> 0.0302 | I59: =100%-H59 -> 0.9698 | J59: =J60+J61 -> 1573181.6 | K59: =J59/$J$46 -> 0.013468929 | L59: =L60+L61 -> 50518924 | M59: =L59/$L$46 -> 0.71732723
A60: N (org, susp) (g) | C60: =D60*C46 -> 17711316 | D60: =0.34*B59 -> 0.095736842 | E60: 0 | G60: 0 | H60: 0.05 | I60: =100%-H60 -> 0.95 | J60: =($C60+$E60+$G60)*H60 -> 885565.79 | K60: =J60/$J$46 -> 0.0075818475 | L60: =($C60+$E60+$G60)*I60 -> 16825750 | M60: =L60/$L$46 -> 0.23891183
A61: N (org, diss) (g) | C61: =D61*C46 -> 34380789 | D61: =0.66*B59 -> 0.18584211 | E61: 0 | G61: 0 | H61: 0.02 | I61: =100%-H61 -> 0.98 | J61: =($C61+$E61+$G61)*H61 -> 687615.79 | K61: =J61/$J$46 -> 0.0058870816 | L61: =($C61+$E61+$G61)*I61 -> 33693174 | M61: =L61/$L$46 -> 0.4784154
A62: Ptotal (g) | B62: 0.4 | C62: =C63+C66 -> 74000000 | D62: =C62/C46 -> 0.4 | E62: 0 | G62: 0 | H62: =(J62/(C62+E62+G62)) -> 0.0048863158 | I62: =100%-H62 -> 0.99511368 | J62: =J63+J66 -> 361587.37 | K62: =J62/$J$46 -> 0.0030957613 | L62: =L63+L66 -> 73638413 | M62: =L62/$L$46 -> 1.045605
A63: P (inorg) (g) | B63: =B65/0.19 -> 0.037894737 | C63: =C64+C65 -> 7010526.3 | D63: =C63/C46 -> 0.037894737 | E63: 0 | G63: 0 | H63: =(J63/(C63+E63+G63)) -> 0.0038 | I63: =100%-H63 -> 0.9962 | J63: =J64+J65 -> 26640 | K63: =J63/$J$46 -> 0.00022808064 | L63: =L64+L65 -> 6983886.3 | M63: =L63/$L$46 -> 0.099165451
A64: P (inorg, susp) (g) | B64: =B63-B65 -> 0.030694737 | C64: =D64*C46 -> 5678526.3 | D64: =B64 -> 0.030694737 | E64: 0 | G64: 0 | H64: 0 | I64: =100%-H64 -> 1 | J64: =($C64+$E64+$G64)*H64 -> 0 | K64: =J64/$J$46 -> 0 | L64: =($C64+$E64+$G64)*I64 -> 5678526.3 | M64: =L64/$L$46 -> 0.080630411
A65: P (inorg, diss) (g) | B65: =0.018*B62 -> 0.0072 | C65: =D65*C46 -> 1332000 | D65: =B65 -> 0.0072 | E65: 0 | G65: 0 | H65: 0.02 | I65: =100%-H65 -> 0.98 | J65: =($C65+$E65+$G65)*H65 -> 26640 | K65: =J65/$J$46 -> 0.00022808064 | L65: =($C65+$E65+$G65)*I65 -> 1305360 | M65: =L65/$L$46 -> 0.01853504
A66: P (org) (g) | B66: =B62-B63 -> 0.36210526 | C66: =C67+C68 -> 66989474 | D66: =C66/C46 -> 0.36210526 | E66: 0 | G66: 0 | H66: =(J66/(C66+E66+G66)) -> 0.005 | I66: =100%-H66 -> 0.995 | J66: =J67+J68 -> 334947.37 | K66: =J66/$J$46 -> 0.0028676806 | L66: =L67+L68 -> 66654526 | M66: =L66/$L$46 -> 0.94643954
A67: P (org, susp) (g) | B67: =B66*0.75 -> 0.27157895 | C67: =D67*C46 -> 50242105 | D67: =B67 -> 0.27157895 | E67: 0 | G67: 0 | H67: 0 | I67: =100%-H67 -> 1 | J67: =($C67+$E67+$G67)*H67 -> 0 | K67: =J67/$J$46 -> 0 | L67: =($C67+$E67+$G67)*I67 -> 50242105 | M67: =L67/$L$46 -> 0.71339664
A68: P (org, diss) (g) | B68: =B66*0.25 -> 0.090526316 | C68: =D68*C46 -> 16747368 | D68: =B68 -> 0.090526316 | E68: 0 | G68: 0 | H68: 0.02 | I68: =100%-H68 -> 0.98 | J68: =($C68+$E68+$G68)*H68 -> 334947.37 | K68: =J68/$J$46 -> 0.0028676806 | L68: =($C68+$E68+$G68)*I68 -> 16412421 | M68: =L68/$L$46 -> 0.2330429
A69: K total (g) | B69: 5.38 | C69: =C70 -> 995300000 | D69: =C69/C46 -> 5.38 | E69: 0 | G69: 0 | H69: =(J69/(C69+E69+G69)) -> 0.0043 | I69: =100%-H69 -> 0.9957 | J69: =J70 -> 4279790 | K69: =J69/$J$46 -> 0.036641789 | L69: =L70 -> 991020210 | M69: =L69/$L$46 -> 14.071673
A70: K (inorg) (g) | C70: =C71+C72 -> 995300000 | D70: =C70/C46 -> 5.38 | E70: 0 | G70: 0 | H70: =(J70/(C70+E70+G70)) -> 0.0043 | I70: =100%-H70 -> 0.9957 | J70: =J71+J72 -> 4279790 | K70: =J70/$J$46 -> 0.036641789 | L70: =L71+L72 -> 991020210 | M70: =L70/$L$46 -> 14.071673
A71: K (inorg, susp) (g) | C71: =D71*C46 -> 1.39342e+08 | D71: =0.14*B69 -> 0.7532 | E71: 0 | G71: 0 | H71: 0 | I71: =100%-H71 -> 1 | J71: =($C71+$E71+$G71)*H71 -> 0 | K71: =J71/$J$46 -> 0 | L71: =($C71+$E71+$G71)*I71 -> 1.39342e+08 | M71: =L71/$L$46 -> 1.978542
A72: K (inorg, diss) (g) | C72: =D72*C46 -> 855958000 | D72: =0.86*B69 -> 4.6268 | E72: 0 | G72: 0 | H72: 0.005 | I72: =100%-H72 -> 0.995 | J72: =($C72+$E72+$G72)*H72 -> 4279790 | K72: =J72/$J$46 -> 0.036641789 | L72: =($C72+$E72+$G72)*I72 -> 851678210 | M72: =L72/$L$46 -> 12.093131

Sheet Evaporation+RO
C1: Input | E1: Additive/no additive | K1: Reverse osmosis + active carbon | M1: Mineral concentrate | O1: permeate | Q1: rinse water
C2: Mass | D2: Calculated concentration | E2: CIP: Cleaning in place: a rinse of the membranes, mass does not end up in end products, but in 'rinse water' | K2: Recovery rate (%) to mineral concentrate | L2: Recovery rate (%) to permeate | M2: mass | N2: concentration | O2: mass | P2: concentration | Q2: mass | R2: concentration
B3: Composition input | D3: g/kg | L3: g/kg | N3: g/kg | P3: g/kg | R3: g/kg
B4: Condensate after evaporation (no acidification) 80°C, pH7,8 | D4: =IF(D12>15, "RO will not be able to process this stream, because of too high dry matter content!","") | E4: =CONCATENATE(E5,"% NaOH solution for CIP") -> 30% NaOH solution for CIP | G4: =CONCATENATE(G5,"% H2SO4 solution for CIP") -> 37% H2SO4 solution for CIP | I4: =CONCATENATE(I5,"% H2SO4 solution for acidification membranes") -> 96% H2SO4 solution for acidification membranes
E5: 30 | F5: % | G5: 37 | H5: % | I5: 96 | J5: %
E6: =E5*10 -> 300 | F6: g NaOH/L | G6: =G5*10 -> 370 | H6: g H2SO4/L | I6: =I5*10 -> 960 | J6: g H2SO4/L
E7: 1.33 | F7: kg/l | G7: 1.2769 | H7: kg/l | I7: 1.84 | J7: kg/l
E8: =E$9*E$7 -> 0.7315 | F8: kg/ton input | G8: =G$9*G$7 -> 2.04304 | H8: kg/ton input | I8: =I$9*I$7 -> 13.34 | J8: kg/ton input
B9: Evaporation of low DM input | E9: 0.55 | F9: =CONCATENATE("L ",E4,"/ton condensate") -> L 30% NaOH solution for CIP/ton condensate | G9: 1.6 | H9: =CONCATENATE("L ",G4,"/ton condensate") -> L 37% H2SO4 solution for CIP/ton condensate | I9: 7.25 | J9: =CONCATENATE("L ",I4,"/ton condensate") -> L 96% H2SO4 solution for acidification membranes/ton condensate
A10: mass (kg/year) | C10: ='Evaporation of low DM input'!J10 -> 765.60021 | E10: =(E8/1000)*C10 -> 0.56003655 | G10: =(G8/1000)*C10 -> 1.5641518 | I10: =(I8/1000)*C10 -> 10.213107 | K10: =(M10/(C10+I10)) -> 0.45584978 | L10: =100%-K10 -> 0.54415022 | M10: =(M11+M12)/1000 -> 353.65433 | O10: =(O11+O12)/1000 -> 422.15899 | Q10: =(Q11+Q12)/1000 -> 2.1241884
A11: Water (g) | B11: ='Evaporation of low DM input'!K11 -> 999.63348 | C11: =(C10*1000)-C12 -> 765319.6 | D11: =B11 -> 999.63348 | E11: =(E10*1000)-E12 -> 392.02559 | G11: =(G10*1000)-G12 -> 985.41566 | I11: =(I10*1000)-I12 -> 408.52427 | K11: 0.45 | L11: =100%-K11 -> 0.55 | M11: =(C11+I11)*K11 -> 344577.66 | N11: =M11/$M$10 -> 974.33462 | O11: =(C11+I11)*L11 -> 421150.47 | P11: =O11/$O$10 -> 997.61104 | Q11: =(E11+G11) -> 1377.4413 | R11: =Q11/$Q$10 -> 648.45531
A12: Total DM (g) | B12: ='Evaporation of low DM input'!K12 -> 0.36651971 | C12: =C13+C16 -> 280.60756 | D12: =B12 -> 0.36651971 | E12: =E13+E16 -> 168.01097 | G12: =G13+G16 -> 578.73618 | I12: =I13+I16 -> 9804.5825 | K12: =(M12/(C12+I12)) -> 0.9 | L12: =100%-K12 -> 0.1 | M12: =M13+M16 -> 9076.6711 | N12: =M12/$M$10 -> 25.665375 | O12: =(C12+I12)*L12 -> 1008.519 | P12: =O12/$O$10 -> 2.3889554 | Q12: =Q13+Q16 -> 746.74715 | R12: =Q12/$Q$10 -> 351.54469
A13: DM (inorg) (g) | B13: ='Evaporation of low DM input'!K13 -> 0.26617263 | C13: =C14+C15 -> 203.78182 | D13: =B13 -> 0.26617263 | E13: =(E10*1000*E5%) -> 168.01097 | G13: =(G10*1000*G5%) -> 578.73618 | I13: =(I10*1000*I5%) -> 9804.5825 | K13: =(M13/(C13+I13)) -> 0.9 | L13: =100%-K13 -> 0.1 | M13: =M14+M15 -> 9007.5279 | N13: =M13/$M$10 -> 25.469865 | O13: =O14+O15 -> 1000.8364 | P13: =O13/$O$10 -> 2.3707571 | Q13: =Q14+Q15 -> 746.74715 | R13: =Q13/$Q$10 -> 351.54469
A14: DM (inorg, susp) (g) | B14: ='Evaporation of low DM input'!K14 -> 0 | C14: =D14*C10 -> 0 | D14: =B14 -> 0 | E14: 0 | G14: 0 | I14: 0 | K14: 0.95 | L14: =100%-K14 -> 0.05 | M14: =(C14+I14)*K14 -> 0 | N14: =M14/$M$10 -> 0 | O14: =(C14+I14)*L14 -> 0 | P14: =O14/$O$10 -> 0 | Q14: =(E14+G14) -> 0 | R14: =Q14/$Q$10 -> 0
A15: DM (inorg, diss) (g) | B15: ='Evaporation of low DM input'!K15 -> 0.26617263 | C15: =D15*C10 -> 203.78182 | D15: =B15 -> 0.26617263 | E15: =E13 -> 168.01097 | G15: =G13 -> 578.73618 | I15: =I13 -> 9804.5825 | K15: 0.9 | L15: =100%-K15 -> 0.1 | M15: =(C15+I15)*K15 -> 9007.5279 | N15: =M15/$M$10 -> 25.469865 | O15: =(C15+I15)*L15 -> 1000.8364 | P15: =O15/$O$10 -> 2.3707571 | Q15: =(E15+G15) -> 746.74715 | R15: =Q15/$Q$10 -> 351.54469
A16: DM (org) (g) | B16: ='Evaporation of low DM input'!K16 -> 0.10034708 | C16: =C17+C18 -> 76.825745 | D16: =B16 -> 0.10034708 | E16: =E17+E18 -> 0 | G16: =G17+G18 -> 0 | I16: =I17+I18 -> 0 | K16: =(M16/(C16+I16)) -> 0.9 | L16: =100%-K16 -> 0.1 | M16: =M17+M18 -> 69.143171 | N16: =M16/$M$10 -> 0.1955106 | O16: =O17+O18 -> 7.6825745 | P16: =O16/$O$10 -> 0.018198297 | Q16: =Q17+Q18 -> 0 | R16: =Q16/$Q$10 -> 0
A17: DM (org, susp) (g) | B17: ='Evaporation of low DM input'!K17 -> 0 | C17: =D17*C10 -> 0 | D17: =B17 -> 0 | E17: 0 | G17: 0 | I17: 0 | K17: 0.95 | L17: =100%-K17 -> 0.05 | M17: =(C17+I17)*K17 -> 0 | N17: =M17/$M$10 -> 0 | O17: =(C17+I17)*L17 -> 0 | P17: =O17/$O$10 -> 0 | Q17: =(E17+G17) -> 0 | R17: =Q17/$Q$10 -> 0
A18: DM (org, diss) (g) | B18: ='Evaporation of low DM input'!K18 -> 0.10034708 | C18: =D18*C10 -> 76.825745 | D18: =B18 -> 0.10034708 | E18: 0 | G18: 0 | I18: 0 | K18: 0.9 | L18: =100%-K18 -> 0.1 | M18: =(C18+I18)*K18 -> 69.143171 | N18: =M18/$M$10 -> 0.1955106 | O18: =(C18+I18)*L18 -> 7.6825745 | P18: =O18/$O$10 -> 0.018198297 | Q18: =(E18+G18) -> 0 | R18: =Q18/$Q$10 -> 0
A19: N total (g) | B19: ='Evaporation of low DM input'!K19 -> 3.6364568 | C19: =C20+C23 -> 2784.0721 | D19: =B19 -> 3.6364568 | E19: 0 | G19: 0 | I19: 0 | K19: =(M19/(C19+I19)) -> 0.9508726 | L19: =100%-K19 -> 0.049127399 | M19: =M20+M23 -> 2647.2979 | N19: =M19/$M$10 -> 7.4855521 | O19: =O20+O23 -> 136.77422 | P19: =O19/$O$10 -> 0.32398747 | Q19: =Q20+Q23 -> 0 | R19: =Q19/$Q$10 -> 0
A20: N (inorg) (g) | B20: ='Evaporation of low DM input'!K20 -> 3.5365937 | C20: =C21+C22 -> 2707.6168 | D20: =B20 -> 3.5365937 | E20: 0 | G20: 0 | I20: 0 | K20: =(M20/(C20+I20)) -> 0.95026144 | L20: =100%-K20 -> 0.049738562 | M20: =M21+M22 -> 2572.9439 | N20: =M20/$M$10 -> 7.2753072 | O20: =O21+O22 -> 134.67297 | P20: =O20/$O$10 -> 0.31901007 | Q20: =Q21+Q22 -> 0 | R20: =Q20/$Q$10 -> 0
A21: N (inorg, susp) (g) | B21: ='Evaporation of low DM input'!K21 -> 0.023114991 | C21: =D21*C10 -> 17.696842 | D21: =B21 -> 0.023114991 | E21: 0 | G21: 0 | I21: 0 | K21: 0.99 | L21: =100%-K21 -> 0.01 | M21: =(C21+I21)*K21 -> 17.519874 | N21: =M21/$M$10 -> 0.049539543 | O21: =(C21+I21)*L21 -> 0.17696842 | P21: =O21/$O$10 -> 0.00041919852 | Q21: =(E21+G21) -> 0 | R21: =Q21/$Q$10 -> 0
A22: N (inorg, diss) (g) | B22: ='Evaporation of low DM input'!K22 -> 3.5134787 | C22: =D22*C10 -> 2689.92 | D22: =B22 -> 3.5134787 | E22: 0 | G22: 0 | I22: 0 | K22: 0.95 | L22: =100%-K22 -> 0.05 | M22: =(C22+I22)*K22 -> 2555.424 | N22: =M22/$M$10 -> 7.2257677 | O22: =(C22+I22)*L22 -> 134.496 | P22: =O22/$O$10 -> 0.31859087 | Q22: =(E22+G22) -> 0 | R22: =Q22/$Q$10 -> 0
A23: N (org) (g) | B23: ='Evaporation of low DM input'!K23 -> 0.099863183 | C23: =C24+C25 -> 76.455274 | D23: =B23 -> 0.099863183 | E23: 0 | G23: 0 | I23: 0 | K23: =(M23/(C23+I23)) -> 0.97251656 | L23: =100%-K23 -> 0.027483444 | M23: =M24+M25 -> 74.354019 | N23: =M23/$M$10 -> 0.2102449 | O23: =O24+O25 -> 2.1012542 | P23: =O23/$O$10 -> 0.0049774002 | Q23: =Q24+Q25 -> 0 | R23: =Q23/$Q$10 -> 0
A24: N (org, susp) (g) | B24: ='Evaporation of low DM input'!K24 -> 0.056214375 | C24: =D24*C10 -> 43.037737 | D24: =B24 -> 0.056214375 | E24: 0 | G24: 0 | I24: 0 | K24: 0.99 | L24: =100%-K24 -> 0.01 | M24: =(C24+I24)*K24 -> 42.607359 | N24: =M24/$M$10 -> 0.12047742 | O24: =(C24+I24)*L24 -> 0.43037737 | P24: =O24/$O$10 -> 0.0010194675 | Q24: =(E24+G24) -> 0 | R24: =Q24/$Q$10 -> 0
A25: N (org, diss) (g) | B25: ='Evaporation of low DM input'!K25 -> 0.043648808 | C25: =D25*C10 -> 33.417537 | D25: =B25 -> 0.043648808 | E25: 0 | G25: 0 | I25: 0 | K25: 0.95 | L25: =100%-K25 -> 0.05 | M25: =(C25+I25)*K25 -> 31.74666 | N25: =M25/$M$10 -> 0.089767486 | O25: =(C25+I25)*L25 -> 1.6708768 | P25: =O25/$O$10 -> 0.0039579327 | Q25: =(E25+G25) -> 0 | R25: =Q25/$Q$10 -> 0
A26: Ptotal (g) | B26: ='Evaporation of low DM input'!K26 -> 0.0061639977 | C26: =C27+C30 -> 4.7191579 | D26: =B26 -> 0.0061639977 | E26: 0 | G26: 0 | I26: 0 | K26: =(M26/(C26+I26)) -> 0.96625 | L26: =100%-K26 -> 0.03375 | M26: =M27+M30 -> 4.5598863 | N26: =M26/$M$10 -> 0.012893625 | O26: =O27+O30 -> 0.15927158 | P26: =O26/$O$10 -> 0.00037727866 | Q26: =Q27+Q30 -> 0 | R26: =Q26/$Q$10 -> 0
A27: P (inorg) (g) | B27: ='Evaporation of low DM input'!K27 -> 0.0036598736 | C27: =C28+C29 -> 2.802 | D27: =B27 -> 0.0036598736 | E27: 0 | G27: 0 | I27: 0 | K27: =(M27/(C27+I27)) -> 0.95 | L27: =100%-K27 -> 0.05 | M27: =M28+M29 -> 2.6619 | N27: =M27/$M$10 -> 0.0075268413 | O27: =O28+O29 -> 0.1401 | P27: =O27/$O$10 -> 0.00033186549 | Q27: =Q28+Q29 -> 0 | R27: =Q27/$Q$10 -> 0
A28: P (inorg, susp) (g) | B28: ='Evaporation of low DM input'!K28 -> 0 | C28: =D28*C10 -> 0 | D28: =B28 -> 0 | E28: 0 | G28: 0 | I28: 0 | K28: 0.99 | L28: =100%-K28 -> 0.01 | M28: =(C28+I28)*K28 -> 0 | N28: =M28/$M$10 -> 0 | O28: =(C28+I28)*L28 -> 0 | P28: =O28/$O$10 -> 0 | Q28: =(E28+G28) -> 0 | R28: =Q28/$Q$10 -> 0
A29: P (inorg, diss) (g) | B29: ='Evaporation of low DM input'!K29 -> 0.0036598736 | C29: =D29*C10 -> 2.802 | D29: =B29 -> 0.0036598736 | E29: 0 | G29: 0 | I29: 0 | K29: 0.95 | L29: =100%-K29 -> 0.05 | M29: =(C29+I29)*K29 -> 2.6619 | N29: =M29/$M$10 -> 0.0075268413 | O29: =(C29+I29)*L29 -> 0.1401 | P29: =O29/$O$10 -> 0.00033186549 | Q29: =(E29+G29) -> 0 | R29: =Q29/$Q$10 -> 0
A30: P (org) (g) | B30: ='Evaporation of low DM input'!K30 -> 0.0025041241 | C30: =C31+C32 -> 1.9171579 | D30: =B30 -> 0.0025041241 | E30: 0 | G30: 0 | I30: 0 | K30: =(M30/(C30+I30)) -> 0.99 | L30: =100%-K30 -> 0.01 | M30: =M31+M32 -> 1.8979863 | N30: =M30/$M$10 -> 0.0053667838 | O30: =O31+O32 -> 0.019171579 | P30: =O30/$O$10 -> 4.5413173e-05 | Q30: =Q31+Q32 -> 0 | R30: =Q30/$Q$10 -> 0
A31: P (org, susp) (g) | B31: ='Evaporation of low DM input'!K31 -> 0 | C31: =D31*C10 -> 0 | D31: =B31 -> 0 | E31: 0 | G31: 0 | I31: 0 | K31: 0.99 | L31: =100%-K31 -> 0.01 | M31: =(C31+I31)*K31 -> 0 | N31: =M31/$M$10 -> 0 | O31: =(C31+I31)*L31 -> 0 | P31: =O31/$O$10 -> 0 | Q31: =(E31+G31) -> 0 | R31: =Q31/$Q$10 -> 0
A32: P (org, diss) (g) | B32: ='Evaporation of low DM input'!K32 -> 0.0025041241 | C32: =D32*C10 -> 1.9171579 | D32: =B32 -> 0.0025041241 | E32: 0 | G32: 0 | I32: 0 | K32: 0.99 | L32: =100%-K32 -> 0.01 | M32: =(C32+I32)*K32 -> 1.8979863 | N32: =M32/$M$10 -> 0.0053667838 | O32: =(C32+I32)*L32 -> 0.019171579 | P32: =O32/$O$10 -> 4.5413173e-05 | Q32: =(E32+G32) -> 0 | R32: =Q32/$Q$10 -> 0
A33: K total (g) | B33: ='Evaporation of low DM input'!K33 -> 0.028852004 | C33: =C34 -> 22.0891 | D33: =B33 -> 0.028852004 | E33: 0 | G33: 0 | I33: 0 | K33: =(M33/(C33+I33)) -> 0.95 | L33: =100%-K33 -> 0.05 | M33: =M34 -> 20.984645 | N33: =M33/$M$10 -> 0.059336599 | O33: =O34 -> 1.104455 | P33: =O33/$O$10 -> 0.0026162063 | Q33: =Q34 -> 0 | R33: =Q33/$Q$10 -> 0
A34: K (inorg) (g) | B34: ='Evaporation of low DM input'!K34 -> 0.028852004 | C34: =C35+C36 -> 22.0891 | D34: =B34 -> 0.028852004 | E34: 0 | G34: 0 | I34: 0 | K34: =(M34/(C34+I34)) -> 0.95 | L34: =100%-K34 -> 0.05 | M34: =M35+M36 -> 20.984645 | N34: =M34/$M$10 -> 0.059336599 | O34: =O35+O36 -> 1.104455 | P34: =O34/$O$10 -> 0.0026162063 | Q34: =Q35+Q36 -> 0 | R34: =Q34/$Q$10 -> 0
A35: K (inorg, susp) (g) | B35: ='Evaporation of low DM input'!K35 -> 0 | C35: =D35*C10 -> 0 | D35: =B35 -> 0 | E35: 0 | G35: 0 | I35: 0 | K35: 1 | L35: =100%-K35 -> 0 | M35: =(C35+I35)*K35 -> 0 | N35: =M35/$M$10 -> 0 | O35: =(C35+I35)*L35 -> 0 | P35: =O35/$O$10 -> 0 | Q35: =(E35+G35) -> 0 | R35: =Q35/$Q$10 -> 0
A36: K (inorg, diss) (g) | B36: ='Evaporation of low DM input'!K36 -> 0.028852004 | C36: =D36*C10 -> 22.0891 | D36: =B36 -> 0.028852004 | E36: 0 | G36: 0 | I36: 0 | K36: 0.95 | L36: =100%-K36 -> 0.05 | M36: =(C36+I36)*K36 -> 20.984645 | N36: =M36/$M$10 -> 0.059336599 | O36: =(C36+I36)*L36 -> 1.104455 | P36: =O36/$O$10 -> 0.0026162063 | Q36: =(E36+G36) -> 0 | R36: =Q36/$Q$10 -> 0
B39: Condensate after evaporation (+ acidification) 80°C, pH7,8-->pH 6,5 | D39: =IF(D47>15, "RO will not be able to process this stream, because of too high dry matter content!","") | E39: =CONCATENATE(E40,"% NaOH solution for CIP") -> 30% NaOH solution for CIP | G39: =CONCATENATE(G40,"% H2SO4 solution for CIP") -> 37% H2SO4 solution for CIP | I39: =CONCATENATE(I40,"% H2SO4 solution for acidification membranes") -> 96% H2SO4 solution for acidification membranes
E40: 30 | F40: % | G40: 37 | H40: % | I40: 96 | J40: %
E41: =E40*10 -> 300 | F41: g NaOH/L | G41: =G40*10 -> 370 | H41: g H2SO4/L | I41: =I40*10 -> 960 | J41: g H2SO4/L
E42: 1.33 | F42: kg/l | G42: 1.2769 | H42: kg/l | I42: 1.84 | J42: kg/l
E43: =E$9*E$7 -> 0.7315 | F43: kg/ton input | G43: =G$9*G$7 -> 2.04304 | H43: kg/ton input | I43: =I$9*I$7 -> 13.34 | J43: kg/ton input
B44: Evaporation of low DM input | E44: 0.55 | F44: =CONCATENATE("L ",E39,"/ton condensate") -> L 30% NaOH solution for CIP/ton condensate | G44: 1.6 | H44: =CONCATENATE("L ",G39,"/ton condensate") -> L 37% H2SO4 solution for CIP/ton condensate | I44: 7.25 | J44: =CONCATENATE("L ",I39,"/ton condensate") -> L 96% H2SO4 solution for acidification membranes/ton condensate
A45: mass (kg/year) | C45: ='Evaporation of low DM input'!J46 -> 1.5175128e+08 | E45: =(E43/1000)*C45 -> 111006.06 | G45: =(G43/1000)*C45 -> 310033.93 | I45: =(I43/1000)*C45 -> 2024362 | K45: =(M45/(C45+I45)) -> 0.45595868 | L45: =100%-K45 -> 0.54404132 | M45: =(M46+M47)/1000 -> 70115337 | O45: =(O46+O47)/1000 -> 83660301 | Q45: =(Q46+Q47)/1000 -> 421039.98
A46: Water (g) | B46: ='Evaporation of low DM input'!K47 -> 999.38825 | C46: =(C45*1000)-C47 -> 151658441600 | D46: =B46 -> 999.38825 | E46: =(E45*1000)-E47 -> 77704241 | G46: =(G45*1000)-G47 -> 1.9532137e+08 | I46: =(I45*1000)-I47 -> 80974481 | K46: 0.45 | L46: =100%-K46 -> 0.55 | M46: =(C46+I46)*K46 -> 6.8282737e+10 | N46: =M46/$M$10 -> 1.9307762e+08 | O46: =(C46+I46)*L46 -> 8.3456679e+10 | P46: =O46/$O$10 -> 1.9769016e+08 | Q46: =(E46+G46) -> 2.7302561e+08 | R46: =Q46/$Q$10 -> 1.2853173e+08
A47: Total DM (g) | B47: ='Evaporation of low DM input'!K48 -> 0.61175172 | C47: =C48+C51 -> 92834103 | D47: =B47 -> 0.61175172 | E47: =E48+E51 -> 33301817 | G47: =G48+G51 -> 1.1471255e+08 | I47: =I48+I51 -> 1.9433875e+09 | K47: =(M47/(C47+I47)) -> 0.9 | L47: =100%-K47 -> 0.1 | M47: =M48+M51 -> 1.8325995e+09 | N47: =M47/$M$10 -> 5181894.7 | O47: =(C47+I47)*L47 -> 2.0362216e+08 | P47: =O47/$O$10 -> 482335.26 | Q47: =Q48+Q51 -> 1.4801437e+08 | R47: =Q47/$Q$10 -> 69680434
A48: DM (inorg) (g) | B48: ='Evaporation of low DM input'!K49 -> 0.51147519 | C48: =C49+C50 -> 77617012 | D48: =B48 -> 0.51147519 | E48: =(E45*1000*E40%) -> 33301817 | G48: =(G45*1000*G40%) -> 1.1471255e+08 | I48: =(I45*1000*I40%) -> 1.9433875e+09 | K48: =(M48/(C48+I48)) -> 0.9 | L48: =100%-K48 -> 0.1 | M48: =M49+M50 -> 1.8189041e+09 | N48: =M48/$M$10 -> 5143169.3 | O48: =O49+O50 -> 2.0210045e+08 | P48: =O48/$O$10 -> 478730.67 | Q48: =Q49+Q50 -> 1.4801437e+08 | R48: =Q48/$Q$10 -> 69680434
A49: DM (inorg, susp) (g) | B49: ='Evaporation of low DM input'!K50 -> 0 | C49: =D49*C45 -> 0 | D49: =B49 -> 0 | E49: 0 | G49: 0 | I49: 0 | K49: 0.95 | L49: =100%-K49 -> 0.05 | M49: =(C49+I49)*K49 -> 0 | N49: =M49/$M$10 -> 0 | O49: =(C49+I49)*L49 -> 0 | P49: =O49/$O$10 -> 0 | Q49: =(E49+G49) -> 0 | R49: =Q49/$Q$10 -> 0
A50: DM (inorg, diss) (g) | B50: ='Evaporation of low DM input'!K51 -> 0.51147519 | C50: =D50*C45 -> 77617012 | D50: =B50 -> 0.51147519 | E50: =E48 -> 33301817 | G50: =G48 -> 1.1471255e+08 | I50: =I48 -> 1.9433875e+09 | K50: 0.9 | L50: =100%-K50 -> 0.1 | M50: =(C50+I50)*K50 -> 1.8189041e+09 | N50: =M50/$M$10 -> 5143169.3 | O50: =(C50+I50)*L50 -> 2.0210045e+08 | P50: =O50/$O$10 -> 478730.67 | Q50: =(E50+G50) -> 1.4801437e+08 | R50: =Q50/$Q$10 -> 69680434
A51: DM (org) (g) | B51: ='Evaporation of low DM input'!K52 -> 0.10027653 | C51: =C52+C53 -> 15217091 | D51: =B51 -> 0.10027653 | E51: =E52+E53 -> 0 | G51: =G52+G53 -> 0 | I51: =I52+I53 -> 0 | K51: =(M51/(C51+I51)) -> 0.9 | L51: =100%-K51 -> 0.1 | M51: =M52+M53 -> 13695382 | N51: =M51/$M$10 -> 38725.334 | O51: =O52+O53 -> 1521709.1 | P51: =O51/$O$10 -> 3604.5877 | Q51: =Q52+Q53 -> 0 | R51: =Q51/$Q$10 -> 0
A52: DM (org, susp) (g) | B52: ='Evaporation of low DM input'!K53 -> 0 | C52: =D52*C45 -> 0 | D52: =B52 -> 0 | E52: 0 | G52: 0 | I52: 0 | K52: 0.95 | L52: =100%-K52 -> 0.05 | M52: =(C52+I52)*K52 -> 0 | N52: =M52/$M$10 -> 0 | O52: =(C52+I52)*L52 -> 0 | P52: =O52/$O$10 -> 0 | Q52: =(E52+G52) -> 0 | R52: =Q52/$Q$10 -> 0
A53: DM (org, diss) (g) | B53: ='Evaporation of low DM input'!K54 -> 0.10027653 | C53: =D53*C45 -> 15217091 | D53: =B53 -> 0.10027653 | E53: 0 | G53: 0 | I53: 0 | K53: 0.9 | L53: =100%-K53 -> 0.1 | M53: =(C53+I53)*K53 -> 13695382 | N53: =M53/$M$10 -> 38725.334 | O53: =(C53+I53)*L53 -> 1521709.1 | P53: =O53/$O$10 -> 3604.5877 | Q53: =(E53+G53) -> 0 | R53: =Q53/$Q$10 -> 0
A54: N total (g) | B54: ='Evaporation of low DM input'!K55 -> 0.22144441 | C54: =C55+C58 -> 33604471 | D54: =B54 -> 0.22144441 | E54: 0 | G54: 0 | I54: 0 | K54: =(M54/(C54+I54)) -> 0.95674476 | L54: =100%-K54 -> 0.043255236 | M54: =M55+M58 -> 32150902 | N54: =M54/$M$10 -> 90910.528 | O54: =O55+O58 -> 1453569.3 | P54: =O54/$O$10 -> 3443.1799 | Q54: =Q55+Q58 -> 0 | R54: =Q54/$Q$10 -> 0
A55: N (inorg) (g) | B55: ='Evaporation of low DM input'!K56 -> 0.21107756 | C55: =C56+C57 -> 32031289 | D55: =B55 -> 0.21107756 | E55: 0 | G55: 0 | I55: 0 | K55: =(M55/(C55+I55)) -> 0.95597015 | L55: =100%-K55 -> 0.044029851 | M55: =M56+M57 -> 30620957 | N55: =M55/$M$10 -> 86584.425 | O55: =O56+O57 -> 1410332.9 | P55: =O55/$O$10 -> 3340.7625 | Q55: =Q56+Q57 -> 0 | R55: =Q55/$Q$10 -> 0
A56: N (inorg, susp) (g) | B56: ='Evaporation of low DM input'!K57 -> 0.031504114 | C56: =D56*C45 -> 4780789.5 | D56: =B56 -> 0.031504114 | E56: 0 | G56: 0 | I56: 0 | K56: 0.99 | L56: =100%-K56 -> 0.01 | M56: =(C56+I56)*K56 -> 4732981.6 | N56: =M56/$M$10 -> 13383.073 | O56: =(C56+I56)*L56 -> 47807.895 | P56: =O56/$O$10 -> 113.24618 | Q56: =(E56+G56) -> 0 | R56: =Q56/$Q$10 -> 0
A57: N (inorg, diss) (g) | B57: ='Evaporation of low DM input'!K58 -> 0.17957345 | C57: =D57*C45 -> 27250500 | D57: =B57 -> 0.17957345 | E57: 0 | G57: 0 | I57: 0 | K57: 0.95 | L57: =100%-K57 -> 0.05 | M57: =(C57+I57)*K57 -> 25887975 | N57: =M57/$M$10 -> 73201.352 | O57: =(C57+I57)*L57 -> 1362525 | P57: =O57/$O$10 -> 3227.5163 | Q57: =(E57+G57) -> 0 | R57: =Q57/$Q$10 -> 0
A58: N (org) (g) | B58: ='Evaporation of low DM input'!K59 -> 0.010366843 | C58: =C59+C60 -> 1573181.6 | D58: =B58 -> 0.010366843 | E58: 0 | G58: 0 | I58: 0 | K58: =(M58/(C58+I58)) -> 0.97251656 | L58: =100%-K58 -> 0.027483444 | M58: =M59+M60 -> 1529945.1 | N58: =M58/$M$10 -> 4326.1032 | O58: =O59+O60 -> 43236.447 | P58: =O58/$O$10 -> 102.41745 | Q58: =Q59+Q60 -> 0 | R58: =Q58/$Q$10 -> 0
A59: N (org, susp) (g) | B59: ='Evaporation of low DM input'!K60 -> 0.0058356398 | C59: =D59*C45 -> 885565.79 | D59: =B59 -> 0.0058356398 | E59: 0 | G59: 0 | I59: 0 | K59: 0.99 | L59: =100%-K59 -> 0.01 | M59: =(C59+I59)*K59 -> 876710.13 | N59: =M59/$M$10 -> 2479.003 | O59: =(C59+I59)*L59 -> 8855.6579 | P59: =O59/$O$10 -> 20.977068 | Q59: =(E59+G59) -> 0 | R59: =Q59/$Q$10 -> 0
A60: N (org, diss) (g) | B60: ='Evaporation of low DM input'!K61 -> 0.0045312027 | C60: =D60*C45 -> 687615.79 | D60: =B60 -> 0.0045312027 | E60: 0 | G60: 0 | I60: 0 | K60: 0.95 | L60: =100%-K60 -> 0.05 | M60: =(C60+I60)*K60 -> 653235 | N60: =M60/$M$10 -> 1847.1003 | O60: =(C60+I60)*L60 -> 34380.789 | P60: =O60/$O$10 -> 81.440383 | Q60: =(E60+G60) -> 0 | R60: =Q60/$Q$10 -> 0
A61: Ptotal (g) | B61: ='Evaporation of low DM input'!K62 -> 0.0023827633 | C61: =C62+C65 -> 361587.37 | D61: =B61 -> 0.0023827633 | E61: 0 | G61: 0 | I61: 0 | K61: =(M61/(C61+I61)) -> 0.98705299 | L61: =100%-K61 -> 0.012947006 | M61: =M62+M65 -> 356905.89 | N61: =M61/$M$10 -> 1009.1942 | O61: =O62+O65 -> 4681.4737 | P61: =O61/$O$10 -> 11.089362 | Q61: =Q62+Q65 -> 0 | R61: =Q61/$Q$10 -> 0
A62: P (inorg) (g) | B62: ='Evaporation of low DM input'!K63 -> 0.00017555042 | C62: =C63+C64 -> 26640 | D62: =B62 -> 0.00017555042 | E62: 0 | G62: 0 | I62: 0 | K62: =(M62/(C62+I62)) -> 0.95 | L62: =100%-K62 -> 0.05 | M62: =M63+M64 -> 25308 | N62: =M62/$M$10 -> 71.561404 | O62: =O63+O64 -> 1332 | P62: =O62/$O$10 -> 3.1552094 | Q62: =Q63+Q64 -> 0 | R62: =Q62/$Q$10 -> 0
A63: P (inorg, susp) (g) | B63: ='Evaporation of low DM input'!K64 -> 0 | C63: =D63*C45 -> 0 | D63: =B63 -> 0 | E63: 0 | G63: 0 | I63: 0 | K63: 0.99 | L63: =100%-K63 -> 0.01 | M63: =(C63+I63)*K63 -> 0 | N63: =M63/$M$10 -> 0 | O63: =(C63+I63)*L63 -> 0 | P63: =O63/$O$10 -> 0 | Q63: =(E63+G63) -> 0 | R63: =Q63/$Q$10 -> 0
A64: P (inorg, diss) (g) | B64: ='Evaporation of low DM input'!K65 -> 0.00017555042 | C64: =D64*C45 -> 26640 | D64: =B64 -> 0.00017555042 | E64: 0 | G64: 0 | I64: 0 | K64: 0.95 | L64: =100%-K64 -> 0.05 | M64: =(C64+I64)*K64 -> 25308 | N64: =M64/$M$10 -> 71.561404 | O64: =(C64+I64)*L64 -> 1332 | P64: =O64/$O$10 -> 3.1552094 | Q64: =(E64+G64) -> 0 | R64: =Q64/$Q$10 -> 0
A65: P (org) (g) | B65: ='Evaporation of low DM input'!K66 -> 0.0022072129 | C65: =C66+C67 -> 334947.37 | D65: =B65 -> 0.0022072129 | E65: 0 | G65: 0 | I65: 0 | K65: =(M65/(C65+I65)) -> 0.99 | L65: =100%-K65 -> 0.01 | M65: =M66+M67 -> 331597.89 | N65: =M65/$M$10 -> 937.63279 | O65: =O66+O67 -> 3349.4737 | P65: =O65/$O$10 -> 7.9341523 | Q65: =Q66+Q67 -> 0 | R65: =Q65/$Q$10 -> 0
A66: P (org, susp) (g) | B66: ='Evaporation of low DM input'!K67 -> 0 | C66: =D66*C45 -> 0 | D66: =B66 -> 0 | E66: 0 | G66: 0 | I66: 0 | K66: 0.99 | L66: =100%-K66 -> 0.01 | M66: =(C66+I66)*K66 -> 0 | N66: =M66/$M$10 -> 0 | O66: =(C66+I66)*L66 -> 0 | P66: =O66/$O$10 -> 0 | Q66: =(E66+G66) -> 0 | R66: =Q66/$Q$10 -> 0
A67: P (org, diss) (g) | B67: ='Evaporation of low DM input'!K68 -> 0.0022072129 | C67: =D67*C45 -> 334947.37 | D67: =B67 -> 0.0022072129 | E67: 0 | G67: 0 | I67: 0 | K67: 0.99 | L67: =100%-K67 -> 0.01 | M67: =(C67+I67)*K67 -> 331597.89 | N67: =M67/$M$10 -> 937.63279 | O67: =(C67+I67)*L67 -> 3349.4737 | P67: =O67/$O$10 -> 7.9341523 | Q67: =(E67+G67) -> 0 | R67: =Q67/$Q$10 -> 0
A68: K total (g) | B68: ='Evaporation of low DM input'!K69 -> 0.028202662 | C68: =C69 -> 4279790 | D68: =B68 -> 0.028202662 | E68: 0 | G68: 0 | I68: 0 | K68: =(M68/(C68+I68)) -> 0.95 | L68: =100%-K68 -> 0.05 | M68: =M69 -> 4065800.5 | N68: =M68/$M$10 -> 11496.538 | O68: =O69 -> 213989.5 | P68: =O68/$O$10 -> 506.89315 | Q68: =Q69 -> 0 | R68: =Q68/$Q$10 -> 0
A69: K (inorg) (g) | B69: ='Evaporation of low DM input'!K70 -> 0.028202662 | C69: =C70+C71 -> 4279790 | D69: =B69 -> 0.028202662 | E69: 0 | G69: 0 | I69: 0 | K69: =(M69/(C69+I69)) -> 0.95 | L69: =100%-K69 -> 0.05 | M69: =M70+M71 -> 4065800.5 | N69: =M69/$M$10 -> 11496.538 | O69: =O70+O71 -> 213989.5 | P69: =O69/$O$10 -> 506.89315 | Q69: =Q70+Q71 -> 0 | R69: =Q69/$Q$10 -> 0
A70: K (inorg, susp) (g) | B70: ='Evaporation of low DM input'!K71 -> 0 | C70: =D70*C45 -> 0 | D70: =B70 -> 0 | E70: 0 | G70: 0 | I70: 0 | K70: 1 | L70: =100%-K70 -> 0 | M70: =(C70+I70)*K70 -> 0 | N70: =M70/$M$10 -> 0 | O70: =(C70+I70)*L70 -> 0 | P70: =O70/$O$10 -> 0 | Q70: =(E70+G70) -> 0 | R70: =Q70/$Q$10 -> 0
A71: K (inorg, diss) (g) | B71: ='Evaporation of low DM input'!K72 -> 0.028202662 | C71: =D71*C45 -> 4279790 | D71: =B71 -> 0.028202662 | E71: 0 | G71: 0 | I71: 0 | K71: 0.95 | L71: =100%-K71 -> 0.05 | M71: =(C71+I71)*K71 -> 4065800.5 | N71: =M71/$M$10 -> 11496.538 | O71: =(C71+I71)*L71 -> 213989.5 | P71: =O71/$O$10 -> 506.89315 | Q71: =(E71+G71) -> 0 | R71: =Q71/$Q$10 -> 0
B74: Condensate after evaporation (no acidification) 80°C, pH7,8 | D74: =IF(D82>15, "RO will not be able to process this stream, because of too high dry matter content!","") | E74: =CONCATENATE(E75,"% NaOH solution for CIP") -> 30% NaOH solution for CIP | G74: =CONCATENATE(G75,"% H2SO4 solution for CIP") -> 37% H2SO4 solution for CIP | I74: =CONCATENATE(I75,"% H2SO4 solution for acidification membranes") -> 96% H2SO4 solution for acidification membranes
E75: 30 | F75: % | G75: 37 | H75: % | I75: 96 | J75: %
E76: =E75*10 -> 300 | F76: g NaOH/L | G76: =G75*10 -> 370 | H76: g H2SO4/L | I76: =I75*10 -> 960 | J76: g H2SO4/L
E77: 1.33 | F77: kg/l | G77: 1.2769 | H77: kg/l | I77: 1.84 | J77: kg/l
E78: =E$9*E$7 -> 0.7315 | F78: kg/ton input | G78: =G$9*G$7 -> 2.04304 | H78: kg/ton input | I78: =I$9*I$7 -> 13.34 | J78: kg/ton input
B79: Evaporation of high DM input | E79: 0.55 | F79: =CONCATENATE("L ",E74,"/ton condensate") -> L 30% NaOH solution for CIP/ton condensate | G79: 1.6 | H79: =CONCATENATE("L ",G74,"/ton condensate") -> L 37% H2SO4 solution for CIP/ton condensate | I79: 7.25 | J79: =CONCATENATE("L ",I74,"/ton condensate") -> L 96% H2SO4 solution for acidification membranes/ton condensate
A80: mass (kg/year) | C80: ='Evaporation of high DM input'!J10 -> 589.19947 | E80: =(E78/1000)*C80 -> 0.43099941 | G80: =(G78/1000)*C80 -> 1.2037581 | I80: =(I78/1000)*C80 -> 7.8599209 | K80: =(M80/(C80+I80)) -> 0.45627449 | L80: =100%-K80 -> 0.54372551 | M80: =(M81+M82)/1000 -> 272.42297 | O80: =(O81+O82)/1000 -> 324.63642 | Q80: =(Q81+Q82)/1000 -> 1.6347575
A81: Water (g) | B81: ='Evaporation of high DM input'!K11 -> 998.67708 | C81: =(C80*1000)-C82 -> 588420 | D81: =B81 -> 998.67708 | E81: =(E80*1000)-E82 -> 301.69959 | G81: =(G80*1000)-G82 -> 758.36759 | I81: =(I80*1000)-I82 -> 314.39683 | K81: 0.45 | L81: =100%-K81 -> 0.55 | M81: =(C81+I81)*K81 -> 264930.48 | N81: =M81/$M$10 -> 749.12268 | O81: =(C81+I81)*L81 -> 323803.92 | P81: =O81/$O$10 -> 767.01889 | Q81: =(E81+G81) -> 1060.0672 | R81: =Q81/$Q$10 -> 499.04574
A82: Total DM (g) | B82: ='Evaporation of high DM input'!K12 -> 1.3229229 | C82: =C83+C86 -> 779.46545 | D82: =B82 -> 1.3229229 | E82: =E83+E86 -> 129.29982 | G82: =G83+G86 -> 445.39049 | I82: =I83+I86 -> 7545.524 | K82: =(M82/(C82+I82)) -> 0.9 | L82: =100%-K82 -> 0.1 | M82: =M83+M86 -> 7492.4905 | N82: =M82/$M$10 -> 21.185915 | O82: =(C82+I82)*L82 -> 832.49895 | P82: =O82/$O$10 -> 1.9720034 | Q82: =Q83+Q86 -> 574.69031 | R82: =Q82/$Q$10 -> 270.54583
A83: DM (inorg) (g) | B83: ='Evaporation of high DM input'!K13 -> 0.96072831 | C83: =C84+C85 -> 566.06061 | D83: =B83 -> 0.96072831 | E83: =(E80*1000*E75%) -> 129.29982 | G83: =(G80*1000*G75%) -> 445.39049 | I83: =(I80*1000*I75%) -> 7545.524 | K83: =(M83/(C83+I83)) -> 0.9 | L83: =100%-K83 -> 0.1 | M83: =M84+M85 -> 7300.4262 | N83: =M83/$M$10 -> 20.64283 | O83: =O84+O85 -> 811.15846 | P83: =O83/$O$10 -> 1.9214526 | Q83: =Q84+Q85 -> 574.69031 | R83: =Q83/$Q$10 -> 270.54583
A84: DM (inorg, susp) (g) | B84: ='Evaporation of high DM input'!K14 -> 0 | C84: =D84*C80 -> 0 | D84: =B84 -> 0 | E84: 0 | G84: 0 | I84: 0 | K84: 0.95 | L84: =100%-K84 -> 0.05 | M84: =(C84+I84)*K84 -> 0 | N84: =M84/$M$10 -> 0 | O84: =(C84+I84)*L84 -> 0 | P84: =O84/$O$10 -> 0 | Q84: =(E84+G84) -> 0 | R84: =Q84/$Q$10 -> 0
A85: DM (inorg, diss) (g) | B85: ='Evaporation of high DM input'!K15 -> 0.96072831 | C85: =D85*C80 -> 566.06061 | D85: =B85 -> 0.96072831 | E85: =E83 -> 129.29982 | G85: =G83 -> 445.39049 | I85: =I83 -> 7545.524 | K85: 0.9 | L85: =100%-K85 -> 0.1 | M85: =(C85+I85)*K85 -> 7300.4262 | N85: =M85/$M$10 -> 20.64283 | O85: =(C85+I85)*L85 -> 811.15846 | P85: =O85/$O$10 -> 1.9214526 | Q85: =(E85+G85) -> 574.69031 | R85: =Q85/$Q$10 -> 270.54583
A86: DM (org) (g) | B86: ='Evaporation of high DM input'!K16 -> 0.36219457 | C86: =C87+C88 -> 213.40485 | D86: =B86 -> 0.36219457 | E86: =E87+E88 -> 0 | G86: =G87+G88 -> 0 | I86: =I87+I88 -> 0 | K86: =(M86/(C86+I86)) -> 0.9 | L86: =100%-K86 -> 0.1 | M86: =M87+M88 -> 192.06436 | N86: =M86/$M$10 -> 0.54308501 | O86: =O87+O88 -> 21.340485 | P86: =O86/$O$10 -> 0.050550824 | Q86: =Q87+Q88 -> 0 | R86: =Q86/$Q$10 -> 0
A87: DM (org, susp) (g) | B87: ='Evaporation of high DM input'!K17 -> 0 | C87: =D87*C80 -> 0 | D87: =B87 -> 0 | E87: 0 | G87: 0 | I87: 0 | K87: 0.95 | L87: =100%-K87 -> 0.05 | M87: =(C87+I87)*K87 -> 0 | N87: =M87/$M$10 -> 0 | O87: =(C87+I87)*L87 -> 0 | P87: =O87/$O$10 -> 0 | Q87: =(E87+G87) -> 0 | R87: =Q87/$Q$10 -> 0
A88: DM (org, diss) (g) | B88: ='Evaporation of high DM input'!K18 -> 0.36219457 | C88: =D88*C80 -> 213.40485 | D88: =B88 -> 0.36219457 | E88: 0 | G88: 0 | I88: 0 | K88: 0.9 | L88: =100%-K88 -> 0.1 | M88: =(C88+I88)*K88 -> 192.06436 | N88: =M88/$M$10 -> 0.54308501 | O88: =(C88+I88)*L88 -> 21.340485 | P88: =O88/$O$10 -> 0.050550824 | Q88: =(E88+G88) -> 0 | R88: =Q88/$Q$10 -> 0
A89: N total (g) | B89: ='Evaporation of high DM input'!K19 -> 4.7251776 | C89: =C90+C93 -> 2784.0721 | D89: =B89 -> 4.7251776 | E89: 0 | G89: 0 | I89: 0 | K89: =(M89/(C89+I89)) -> 0.9508726 | L89: =100%-K89 -> 0.049127399 | M89: =M90+M93 -> 2647.2979 | N89: =M89/$M$10 -> 7.4855521 | O89: =O90+O93 -> 136.77422 | P89: =O89/$O$10 -> 0.32398747 | Q89: =Q90+Q93 -> 0 | R89: =Q89/$Q$10 -> 0
A90: N (inorg) (g) | B90: ='Evaporation of high DM input'!K20 -> 4.5954163 | C90: =C91+C92 -> 2707.6168 | D90: =B90 -> 4.5954163 | E90: 0 | G90: 0 | I90: 0 | K90: =(M90/(C90+I90)) -> 0.95026144 | L90: =100%-K90 -> 0.049738562 | M90: =M91+M92 -> 2572.9439 | N90: =M90/$M$10 -> 7.2753072 | O90: =O91+O92 -> 134.67297 | P90: =O90/$O$10 -> 0.31901007 | Q90: =Q91+Q92 -> 0 | R90: =Q90/$Q$10 -> 0
A91: N (inorg, susp) (g) | B91: ='Evaporation of high DM input'!K21 -> 0.030035401 | C91: =D91*C80 -> 17.696842 | D91: =B91 -> 0.030035401 | E91: 0 | G91: 0 | I91: 0 | K91: 0.99 | L91: =100%-K91 -> 0.01 | M91: =(C91+I91)*K91 -> 17.519874 | N91: =M91/$M$10 -> 0.049539543 | O91: =(C91+I91)*L91 -> 0.17696842 | P91: =O91/$O$10 -> 0.00041919852 | Q91: =(E91+G91) -> 0 | R91: =Q91/$Q$10 -> 0
A92: N (inorg, diss) (g) | B92: ='Evaporation of high DM input'!K22 -> 4.5653809 | C92: =D92*C80 -> 2689.92 | D92: =B92 -> 4.5653809 | E92: 0 | G92: 0 | I92: 0 | K92: 0.95 | L92: =100%-K92 -> 0.05 | M92: =(C92+I92)*K92 -> 2555.424 | N92: =M92/$M$10 -> 7.2257677 | O92: =(C92+I92)*L92 -> 134.496 | P92: =O92/$O$10 -> 0.31859087 | Q92: =(E92+G92) -> 0 | R92: =Q92/$Q$10 -> 0
A93: N (org) (g) | B93: ='Evaporation of high DM input'!K23 -> 0.12976127 | C93: =C94+C95 -> 76.455274 | D93: =B93 -> 0.12976127 | E93: 0 | G93: 0 | I93: 0 | K93: =(M93/(C93+I93)) -> 0.97251656 | L93: =100%-K93 -> 0.027483444 | M93: =M94+M95 -> 74.354019 | N93: =M93/$M$10 -> 0.2102449 | O93: =O94+O95 -> 2.1012542 | P93: =O93/$O$10 -> 0.0049774002 | Q93: =Q94+Q95 -> 0 | R93: =Q93/$Q$10 -> 0
A94: N (org, susp) (g) | B94: ='Evaporation of high DM input'!K24 -> 0.073044426 | C94: =D94*C80 -> 43.037737 | D94: =B94 -> 0.073044426 | E94: 0 | G94: 0 | I94: 0 | K94: 0.99 | L94: =100%-K94 -> 0.01 | M94: =(C94+I94)*K94 -> 42.607359 | N94: =M94/$M$10 -> 0.12047742 | O94: =(C94+I94)*L94 -> 0.43037737 | P94: =O94/$O$10 -> 0.0010194675 | Q94: =(E94+G94) -> 0 | R94: =Q94/$Q$10 -> 0
A95: N (org, diss) (g) | B95: ='Evaporation of high DM input'!K25 -> 0.056716849 | C95: =D95*C80 -> 33.417537 | D95: =B95 -> 0.056716849 | E95: 0 | G95: 0 | I95: 0 | K95: 0.95 | L95: =100%-K95 -> 0.05 | M95: =(C95+I95)*K95 -> 31.74666 | N95: =M95/$M$10 -> 0.089767486 | O95: =(C95+I95)*L95 -> 1.6708768 | P95: =O95/$O$10 -> 0.0039579327 | Q95: =(E95+G95) -> 0 | R95: =Q95/$Q$10 -> 0
A96: Ptotal (g) | B96: ='Evaporation of high DM input'!K26 -> 0.0080094402 | C96: =C97+C100 -> 4.7191579 | D96: =B96 -> 0.0080094402 | E96: 0 | G96: 0 | I96: 0 | K96: =(M96/(C96+I96)) -> 0.96625 | L96: =100%-K96 -> 0.03375 | M96: =M97+M100 -> 4.5598863 | N96: =M96/$M$10 -> 0.012893625 | O96: =O97+O100 -> 0.15927158 | P96: =O96/$O$10 -> 0.00037727866 | Q96: =Q97+Q100 -> 0 | R96: =Q96/$Q$10 -> 0
A97: P (inorg) (g) | B97: ='Evaporation of high DM input'!K27 -> 0.0047556051 | C97: =C98+C99 -> 2.802 | D97: =B97 -> 0.0047556051 | E97: 0 | G97: 0 | I97: 0 | K97: =(M97/(C97+I97)) -> 0.95 | L97: =100%-K97 -> 0.05 | M97: =M98+M99 -> 2.6619 | N97: =M97/$M$10 -> 0.0075268413 | O97: =O98+O99 -> 0.1401 | P97: =O97/$O$10 -> 0.00033186549 | Q97: =Q98+Q99 -> 0 | R97: =Q97/$Q$10 -> 0
A98: P (inorg, susp) (g) | B98: ='Evaporation of high DM input'!K28 -> 0 | C98: =D98*C80 -> 0 | D98: =B98 -> 0 | E98: 0 | G98: 0 | I98: 0 | K98: 0.99 | L98: =100%-K98 -> 0.01 | M98: =(C98+I98)*K98 -> 0 | N98: =M98/$M$10 -> 0 | O98: =(C98+I98)*L98 -> 0 | P98: =O98/$O$10 -> 0 | Q98: =(E98+G98) -> 0 | R98: =Q98/$Q$10 -> 0
A99: P (inorg, diss) (g) | B99: ='Evaporation of high DM input'!K29 -> 0.0047556051 | C99: =D99*C80 -> 2.802 | D99: =B99 -> 0.0047556051 | E99: 0 | G99: 0 | I99: 0 | K99: 0.95 | L99: =100%-K99 -> 0.05 | M99: =(C99+I99)*K99 -> 2.6619 | N99: =M99/$M$10 -> 0.0075268413 | O99: =(C99+I99)*L99 -> 0.1401 | P99: =O99/$O$10 -> 0.00033186549 | Q99: =(E99+G99) -> 0 | R99: =Q99/$Q$10 -> 0
A100: P (org) (g) | B100: ='Evaporation of high DM input'!K30 -> 0.0032538351 | C100: =C101+C102 -> 1.9171579 | D100: =B100 -> 0.0032538351 | E100: 0 | G100: 0 | I100: 0 | K100: =(M100/(C100+I100)) -> 0.99 | L100: =100%-K100 -> 0.01 | M100: =M101+M102 -> 1.8979863 | N100: =M100/$M$10 -> 0.0053667838 | O100: =O101+O102 -> 0.019171579 | P100: =O100/$O$10 -> 4.5413173e-05 | Q100: =Q101+Q102 -> 0 | R100: =Q100/$Q$10 -> 0
A101: P (org, susp) (g) | B101: ='Evaporation of high DM input'!K31 -> 0 | C101: =D101*C80 -> 0 | D101: =B101 -> 0 | E101: 0 | G101: 0 | I101: 0 | K101: 0.99 | L101: =100%-K101 -> 0.01 | M101: =(C101+I101)*K101 -> 0 | N101: =M101/$M$10 -> 0 | O101: =(C101+I101)*L101 -> 0 | P101: =O101/$O$10 -> 0 | Q101: =(E101+G101) -> 0 | R101: =Q101/$Q$10 -> 0
A102: P (org, diss) (g) | B102: ='Evaporation of high DM input'!K32 -> 0.0032538351 | C102: =D102*C80 -> 1.9171579 | D102: =B102 -> 0.0032538351 | E102: 0 | G102: 0 | I102: 0 | K102: 0.99 | L102: =100%-K102 -> 0.01 | M102: =(C102+I102)*K102 -> 1.8979863 | N102: =M102/$M$10 -> 0.0053667838 | O102: =(C102+I102)*L102 -> 0.019171579 | P102: =O102/$O$10 -> 4.5413173e-05 | Q102: =(E102+G102) -> 0 | R102: =Q102/$Q$10 -> 0
A103: K total (g) | B103: ='Evaporation of high DM input'!K33 -> 0.03749002 | C103: =C104 -> 22.0891 | D103: =B103 -> 0.03749002 | E103: 0 | G103: 0 | I103: 0 | K103: =(M103/(C103+I103)) -> 0.95 | L103: =100%-K103 -> 0.05 | M103: =M104 -> 20.984645 | N103: =M103/$M$10 -> 0.059336599 | O103: =O104 -> 1.104455 | P103: =O103/$O$10 -> 0.0026162063 | Q103: =Q104 -> 0 | R103: =Q103/$Q$10 -> 0
A104: K (inorg) (g) | B104: ='Evaporation of high DM input'!K34 -> 0.03749002 | C104: =C105+C106 -> 22.0891 | D104: =B104 -> 0.03749002 | E104: 0 | G104: 0 | I104: 0 | K104: =(M104/(C104+I104)) -> 0.95 | L104: =100%-K104 -> 0.05 | M104: =M105+M106 -> 20.984645 | N104: =M104/$M$10 -> 0.059336599 | O104: =O105+O106 -> 1.104455 | P104: =O104/$O$10 -> 0.0026162063 | Q104: =Q105+Q106 -> 0 | R104: =Q104/$Q$10 -> 0
...

Sheet MF-RO-IX
B1: Fill in boxes | C1: Input | E1: Microfiltration | G1: Liquid fraction | I1: Solids | K1: Additive/no additive | Q1: Reverse osmosis | S1: Mineral concentrate | U1: permeate | W1: rinse water | Y1: Additive/no additive | AE1: Ion exchange | AG1: Spent regenerant solution | AI1: Purified water
B2: Composition input (e.g. LF of digestate) | C2: Mass | D2: Calculated concentration | E2: Recovery rate (%) to liquid fraction | F2: Recovery rate (%) to Solids | G2: mass | H2: concentration | I2: mass | J2: concentration | K2: CIP: Cleaning in place: a rinse of the membranes, mass does not end up in end products, but in 'rinse water' | Q2: Recovery rate (%) to mineral concentrate | R2: Recovery rate (%) to permeate | S2: mass | T2: concentration | U2: mass | V2: concentration | W2: mass | X2: concentration | Y2: Regeneration of ion exchange resins | AE2: Recovery rate (%) to spent regenerant solution | AF2: Recovery rate (%) to purified water | AG2: mass | AH2: concentration | AI2: mass | AJ2: concentration
D3: g/kg | F3: g/kg | H3: g/kg | J3: g/kg | R3: g/kg | T3: g/kg | V3: g/kg | X3: g/kg | AF3: g/kg | AH3: g/kg | AJ3: g/kg
H4: =IF(H12>15, "RO will not be able to process this stream, because of too high dry matter content!","") | K4: =CONCATENATE(K5,"% NaOH solution for CIP") -> 30% NaOH solution for CIP | M4: =CONCATENATE(M5,"% H2SO4 solution for CIP") -> 37% H2SO4 solution for CIP | O4: =CONCATENATE(O5,"% H2SO4 solution for acidification membranes") -> 96% H2SO4 solution for acidification membranes | Y4: rinse water | AA4: =CONCATENATE(AA5,"% H2SO4 solution for regeneration") -> 96% H2SO4 solution for regeneration | AC4: =CONCATENATE(AC5,"% NaOH solution for reneration") -> 50% NaOH solution for reneration
K5: 30 | L5: % | M5: 37 | N5: % | O5: 96 | P5: % | Y5: 100 | Z5: % | AA5: 96 | AB5: % | AC5: 50 | AD5: %
K6: =K5*10 -> 300 | L6: g NaOH/L | M6: =M5*10 -> 370 | N6: g H2SO4/L | O6: =O5*10 -> 960 | P6: g H2SO4/L | Y6: =Y5*10 -> 1000 | Z6: g /L | AA6: =AA5*10 -> 960 | AB6: g H2SO4/L | AC6: =AC5*10 -> 500 | AD6: g NaOH/L
K7: 1.33 | L7: kg/l | M7: 1.2769 | N7: kg/l | O7: 1.84 | P7: kg/l | Y7: 1 | Z7: kg/l | AA7: 1.84 | AB7: kg/l | AC7: 1.515 | AD7: kg/l
K8: =K$9*K$7 -> 0.7315 | L8: kg/ton input | M8: =M$9*M$7 -> 2.04304 | N8: kg/ton input | O8: =O$9*O$7 -> 13.34 | P8: kg/ton input | Y8: =Y$9*Y$7 -> 99.97 | Z8: kg/ton input | AA8: =AA$9*AA$7 -> 0.0184 | AB8: kg/ton input | AC8: =AC$9*AC$7 -> 0.0303 | AD8: kg/ton input
K9: 0.55 | L9: =CONCATENATE("L ",K4,"/ton LF") -> L 30% NaOH solution for CIP/ton LF | M9: 1.6 | N9: =CONCATENATE("L ",M4,"/ton LF") -> L 37% H2SO4 solution for CIP/ton LF | O9: 7.25 | P9: =CONCATENATE("L ",O4,"/ton LF") -> L 96% H2SO4 solution for acidification membranes/ton LF | Y9: =(10000/100)-AA9-AC9 -> 99.97 | Z9: =CONCATENATE("L ",Y4,"/ton LF") -> L rinse water/ton LF | AA9: 0.01 | AB9: =CONCATENATE("L ",AA4,"/ton LF") -> L 96% H2SO4 solution for regeneration/ton LF | AC9: 0.02 | AD9: =CONCATENATE("L ",AC4,"/ton LF") -> L 50% NaOH solution for reneration/ton LF
A10: mass (kg/year) | B10: 161000 | C10: =B10 -> 161000 | E10: =(I10/(C10)) -> 0.4005927 | F10: =100%-E10 -> 0.5994073 | G10: =(G11+G12)/1000 -> 96504.575 | I10: =(I11+I12)/1000 -> 64495.425 | K10: =(K$8/1000)*$G$10 -> 70.593097 | M10: =(M$8/1000)*$G$10 -> 197.16271 | O10: =(O$8/1000)*$G$10 -> 1287.371 | Q10: =(S10/(G10+O10)) -> 0.46018352 | R10: =100%-Q10 -> 0.53981648 | S10: =(S11+S12)/1000 -> 45002.242 | U10: =(U11+U12)/1000 -> 52789.705 | W10: =(W11+W12)/1000 -> 267.7558 | Y10: =(Y$8/1000)*$U10 -> 5277.3868 | AA10: =(AA$8/1000)*$U10 -> 0.97133056 | AC10: =(AC$8/1000)*$U10 -> 1.599528 | AE10: =(AG10/(U10)) -> 0.1079131 | AF10: =100%-AE10 -> 0.8920869 | AG10: =(AG11+AG12)/1000 -> 5696.7009 | AI10: =(AI11+AI12)/1000 -> 52372.961
A11: Water (g) | B11: =G19/1000 -> 411.42415 | C11: =(C10*1000)-C12 -> 156009000 | E11: 0.61 | F11: =100%-E11 -> 0.39 | G11: =($C11)*E11 -> 95165490 | H11: =G11/$G$10 -> 986.12413 | I11: =($C11)*F11 -> 60843510 | J11: =I11/$I$10 -> 943.37715 | K11: =(K10*1000)-K12 -> 49415.168 | M11: =(M10*1000)-M12 -> 124212.51 | O11: =(O10*1000)-O12 -> 51494.841 | Q11: 0.45 | R11: =100%-Q11 -> 0.55 | S11: =(G11+O11)*Q11 -> 42847643 | T11: =S11/$S$10 -> 952.12242 | U11: =(G11+O11)*R11 -> 52369342 | V11: =U11/$U$10 -> 992.03703 | W11: =(K11+M11) -> 173627.67 | X11: =W11/$W$10 -> 648.45531 | Y11: =(Y10*1000)-Y12 -> 5277386.8 | AA11: =(AA10*1000)-AA12 -> 38.853223 | AC11: =(AC10*1000)-AC12 -> 799.76402 | AE11: sum rinse water+acid+base | AF11: permeate RO | AG11: =Y11+AA11+AC11 -> 5278225.4 | AH11: =AG11/$AG$10 -> 926.54073 | AI11: =U11 -> 52369342 | AJ11: =AI11/$AI$10 -> 999.93089
A12: Total DM (g) | B12: 31 | C12: =C13+C16 -> 4991000 | D12: =C12/C10 -> 31 | E12: =(I12/(C12)) -> 0.7317 | F12: =100%-E12 -> 0.2683 | G12: =G13+G16 -> 1339085.3 | H12: =G12/$G$10 -> 13.875874 | I12: =I13+I16 -> 3651914.7 | J12: =I12/$I$10 -> 56.622849 | K12: =K13+K16 -> 21177.929 | M12: =M13+M16 -> 72950.202 | O12: =O13+O16 -> 1235876.2 | Q12: =(S12/(G12+O12)) -> 0.83674982 | R12: =100%-Q12 -> 0.16325018 | S12: =S13+S16 -> 2154598.6 | T12: =S12/$S$10 -> 47.877583 | U12: =U13+U16 -> 420362.94 | V12: =U12/$U$10 -> 7.962972 | W12: =W13+W16 -> 94128.131 | X12: =W12/$W$10 -> 351.54469 | Y12: =Y13+Y16 -> 0 | AA12: =AA13+AA16 -> 932.47734 | AC12: =AC13+AC16 -> 799.76402 | AE12: =(AG12/(U12)) -> 0.99550997 | AF12: =100%-AE12 -> 0.0044900272 | AG12: =AG13+AG16 -> 418475.5 | AH12: =AG12/$AG$10 -> 73.459272 | AI12: =AI13+AI16 -> 3619.6824 | AJ12: =AI12/$AI$10 -> 0.069113571
A13: DM (inorg) (g) | B13: =B12-B16 -> 12.4 | C13: =C14+C15 -> 1996400 | D13: =C13/C10 -> 12.4 | E13: =(I13/(C13)) -> 0.675 | F13: =100%-E13 -> 0.325 | G13: =G14+G15 -> 648830 | H13: =G13/$G$10 -> 6.7233082 | I13: =I14+I15 -> 1347570 | J13: =I13/$I$10 -> 20.89404 | K13: =(K10*1000*K5%) -> 21177.929 | M13: =(M10*1000*M5%) -> 72950.202 | O13: =(O10*1000*O5%) -> 1235876.2 | Q13: =(S13/(G13+O13)) -> 0.80794447 | R13: =100%-Q13 -> 0.19205553 | S13: =S14+S15 -> 1522738 | T13: =S13/$S$10 -> 33.836936 | U13: =U14+U15 -> 361968.24 | V13: =U13/$U$10 -> 6.8567961 | W13: =W14+W15 -> 94128.131 | X13: =W13/$W$10 -> 351.54469 | Y13: 0 | AA13: =(AA10*1000*AA5%) -> 932.47734 | AC13: =(AC10*1000*AC5%) -> 799.76402 | AE13: =(AG13/(U13)) -> 0.99478562 | AF13: =100%-AE13 -> 0.005214383 | AG13: =AG14+AG15 -> 360080.8 | AH13: =AG13/$AG$10 -> 63.208654 | AI13: =AI14+AI15 -> 3619.6824 | AJ13: =AI13/$AI$10 -> 0.069113571
A14: DM (inorg, susp) (g) | B14: =B21+B28+B31+0.156+0.095+0.72+1.6+0.11 -> 2.78048 | C14: =D14*C10 -> 998200 | D14: =1/2*B13 -> 6.2 | E14: 0.1 | F14: =100%-E14 -> 0.9 | G14: =($C14)*E14 -> 99820 | H14: =G14/$G$10 -> 1.0343551 | I14: =($C14)*F14 -> 898380 | J14: =I14/$I$10 -> 13.92936 | K14: 0 | M14: 0 | O14: 0 | Q14: 0.95 | R14: =100%-Q14 -> 0.05 | S14: =(G14+O14)*Q14 -> 94829 | T14: =S14/$S$10 -> 2.1072061 | U14: =(G14+O14)*R14 -> 4991 | V14: =U14/$U$10 -> 0.09454495 | W14: =(K14+M14) -> 0 | X14: =W14/$W$10 -> 0 | Y14: =Y13*5% -> 0 | AA14: =AA13*5% -> 46.623867 | AC14: =AC13*5% -> 39.988201 | AE14: 0.99 | AF14: =100%-AE14 -> 0.01 | AG14: =((U14)*AE14)+Y14+AA14+AC14 -> 5027.7021 | AH14: =AG14/$AG$10 -> 0.88256382 | AI14: =(U14)*AF14 -> 49.91 | AJ14: =AI14/$AI$10 -> 0.00095297265
A15: DM (inorg, diss) (g) | B15: =B13-B14 -> 9.61952 | C15: =D15*C10 -> 998200 | D15: =1/2*B13 -> 6.2 | E15: 0.55 | F15: =100%-E15 -> 0.45 | G15: =($C15)*E15 -> 549010 | H15: =G15/$G$10 -> 5.6889531 | I15: =($C15)*F15 -> 449190 | J15: =I15/$I$10 -> 6.9646801 | K15: =K13 -> 21177.929 | M15: =M13 -> 72950.202 | O15: =O13 -> 1235876.2 | Q15: 0.8 | R15: =100%-Q15 -> 0.2 | S15: =(G15+O15)*Q15 -> 1427909 | T15: =S15/$S$10 -> 31.729729 | U15: =(G15+O15)*R15 -> 356977.24 | V15: =U15/$U$10 -> 6.7622511 | W15: =(K15+M15) -> 94128.131 | X15: =W15/$W$10 -> 351.54469 | Y15: =Y13*95% -> 0 | AA15: =AA13*95% -> 885.85347 | AC15: =AC13*95% -> 759.77582 | AE15: 0.99 | AF15: =100%-AE15 -> 0.01 | AG15: =((U15)*AE15)+Y15+AA15+AC15 -> 355053.1 | AH15: =AG15/$AG$10 -> 62.326091 | AI15: =(U15)*AF15 -> 3569.7724 | AJ15: =AI15/$AI$10 -> 0.068160598
A16: DM (org) (g) | B16: 18.6 | C16: =C17+C18 -> 2994600 | D16: =C16/C10 -> 18.6 | E16: =(I16/(C16)) -> 0.7695 | F16: =100%-E16 -> 0.2305 | G16: =G17+G18 -> 690255.3 | H16: =G16/$G$10 -> 7.1525655 | I16: =I17+I18 -> 2304344.7 | J16: =I16/$I$10 -> 35.728809 | K16: =K17+K18 -> 0 | M16: =M17+M18 -> 0 | O16: =O17+O18 -> 0 | Q16: =(S16/(G16+O16)) -> 0.9154013 | R16: =100%-Q16 -> 0.084598698 | S16: =S17+S18 -> 631860.6 | T16: =S16/$S$10 -> 14.040647 | U16: =U17+U18 -> 58394.7 | V16: =U16/$U$10 -> 1.1061759 | W16: =W17+W18 -> 0 | X16: =W16/$W$10 -> 0 | Y16: =Y17+Y18 -> 0 | AA16: =AA17+AA18 -> 0 | AC16: =AC17+AC18 -> 0 | AE16: =(AG16/(U16)) -> 1 | AF16: =100%-AE16 -> 0 | AG16: =AG17+AG18 -> 58394.7 | AH16: =AG16/$AG$10 -> 10.250617 | AI16: =AI17+AI18 -> 0 | AJ16: =AI16/$AI$10 -> 0
A17: DM (org, susp) (g) | C17: =D17*C10 -> 2126166 | D17: =71%*B16 -> 13.206 | E17: 0.1 | F17: =100%-E17 -> 0.9 | G17: =($C17)*E17 -> 212616.6 | H17: =G17/$G$10 -> 2.2031764 | I17: =($C17)*F17 -> 1913549.4 | J17: =I17/$I$10 -> 29.669537 | K17: 0 | M17: 0 | O17: 0 | Q17: 0.95 | R17: =100%-Q17 -> 0.05 | S17: =(G17+O17)*Q17 -> 201985.77 | T17: =S17/$S$10 -> 4.4883491 | U17: =(G17+O17)*R17 -> 10630.83 | V17: =U17/$U$10 -> 0.20138074 | W17: =(K17+M17) -> 0 | X17: =W17/$W$10 -> 0 | Y17: 0 | AA17: 0 | AC17: 0 | AE17: 1 | AF17: =100%-AE17 -> 0 | AG17: =((U17)*AE17)+Y17+AA17+AC17 -> 10630.83 | AH17: =AG17/$AG$10 -> 1.866138 | AI17: =(U17)*AF17 -> 0 | AJ17: =AI17/$AI$10 -> 0
A18: DM (org, diss) (g) | C18: =D18*C10 -> 868434 | D18: =29%*B16 -> 5.394 | E18: 0.55 | F18: =100%-E18 -> 0.45 | G18: =($C18)*E18 -> 477638.7 | H18: =G18/$G$10 -> 4.9493892 | I18: =($C18)*F18 -> 390795.3 | J18: =I18/$I$10 -> 6.0592717 | K18: 0 | M18: 0 | O18: 0 | Q18: 0.9 | R18: =100%-Q18 -> 0.1 | S18: =(G18+O18)*Q18 -> 429874.83 | T18: =S18/$S$10 -> 9.5522981 | U18: =(G18+O18)*R18 -> 47763.87 | V18: =U18/$U$10 -> 0.90479517 | W18: =(K18+M18) -> 0 | X18: =W18/$W$10 -> 0 | Y18: 0 | AA18: 0 | AC18: 0 | AE18: 1 | AF18: =100%-AE18 -> 0 | AG18: =((U18)*AE18)+Y18+AA18+AC18 -> 47763.87 | AH18: =AG18/$AG$10 -> 8.3844792 | AI18: =(U18)*AF18 -> 0 | AJ18: =AI18/$AI$10 -> 0
A19: N total (g) | B19: 5.3 | C19: =C20+C23 -> 853300 | D19: =C19/C10 -> 5.3 | E19: =(I19/(C19)) -> 0.5178435 | F19: =100%-E19 -> 0.4821565 | G19: =G20+G23 -> 411424.15 | H19: =G19/$G$10 -> 4.2632605 | I19: =I20+I23 -> 441875.85 | J19: =I19/$I$10 -> 6.8512744 | K19: 0 | M19: 0 | O19: 0 | Q19: =(S19/(G19+O19)) -> 0.90547409 | R19: =100%-Q19 -> 0.094525909 | S19: =S20+S23 -> 372533.9 | T19: =S19/$S$10 -> 8.2781188 | U19: =U20+U23 -> 38890.241 | V19: =U19/$U$10 -> 0.73670125 | W19: =W20+W23 -> 0 | X19: =W19/$W$10 -> 0 | Y19: 0 | AA19: 0 | AC19: 0 | AE19: =(AG19/(U19)) -> 0.99944368 | AF19: =100%-AE19 -> 0.00055631821 | AG19: =AG20+AG23 -> 38868.606 | AH19: =AG19/$AG$10 -> 6.8230028 | AI19: =AI20+AI23 -> 21.635349 | AJ19: =AI19/$AI$10 -> 0.00041310151
A20: N (inorg) (g) | B20: =D22/0.95 -> 4.2105263 | C20: =C21+C22 -> 677894.74 | D20: =C20/C10 -> 4.2105263 | E20: =(I20/(C20)) -> 0.429 | F20: =100%-E20 -> 0.571 | G20: =G21+G22 -> 387077.89 | H20: =G20/$G$10 -> 4.0109797 | I20: =I21+I22 -> 290816.84 | J20: =I20/$I$10 -> 4.5091081 | K20: 0 | M20: 0 | O20: 0 | Q20: =(S20/(G20+O20)) -> 0.90015762 | R20: =100%-Q20 -> 0.099842382 | S20: =S21+S22 -> 348431.12 | T20: =S20/$S$10 -> 7.742528 | U20: =U21+U22 -> 38646.779 | V20: =U20/$U$10 -> 0.73208932 | W20: =W21+W22 -> 0 | X20: =W20/$W$10 -> 0 | Y20: 0 | AA20: 0 | AC20: 0 | AE20: =(AG20/(U20)) -> 0.99950009 | AF20: =100%-AE20 -> 0.0004999123 | AG20: =AG21+AG22 -> 38627.459 | AH20: =AG20/$AG$10 -> 6.7806718 | AI20: =AI21+AI22 -> 19.32 | AJ20: =AI20/$AI$10 -> 0.00036889264
A21: N (inorg, susp) (g) | C21: =D21*C10 -> 33894.737 | D21: =B20-D22 -> 0.21052632 | E21: 0.02 | F21: =100%-E21 -> 0.98 | G21: =($C21)*E21 -> 677.89474 | H21: =G21/$G$10 -> 0.0070244829 | I21: =($C21)*F21 -> 33216.842 | J21: =I21/$I$10 -> 0.51502633 | K21: 0 | M21: 0 | O21: 0 | Q21: 0.99 | R21: =100%-Q21 -> 0.01 | S21: =(G21+O21)*Q21 -> 671.11579 | T21: =S21/$S$10 -> 0.014912941 | U21: =(G21+O21)*R21 -> 6.7789474 | V21: =U21/$U$10 -> 0.00012841419 | W21: =(K21+M21) -> 0 | X21: =W21/$W$10 -> 0 | Y21: 0 | AA21: 0 | AC21: 0 | AE21: 1 | AF21: =100%-AE21 -> 0 | AG21: =((U21)*AE21)+Y21+AA21+AC21 -> 6.7789474 | AH21: =AG21/$AG$10 -> 0.0011899778 | AI21: =(U21)*AF21 -> 0 | AJ21: =AI21/$AI$10 -> 0
A22: N (inorg, diss) (g) | B22: 4 | C22: =D22*C10 -> 644000 | D22: =B22 -> 4 | E22: 0.6 | F22: =100%-E22 -> 0.4 | G22: =($C22)*E22 -> 386400 | H22: =G22/$G$10 -> 4.0039552 | I22: =($C22)*F22 -> 257600 | J22: =I22/$I$10 -> 3.9940818 | K22: 0 | M22: 0 | O22: 0 | Q22: 0.9 | R22: =100%-Q22 -> 0.1 | S22: =(G22+O22)*Q22 -> 347760 | T22: =S22/$S$10 -> 7.727615 | U22: =(G22+O22)*R22 -> 38640 | V22: =U22/$U$10 -> 0.73196091 | W22: =(K22+M22) -> 0 | X22: =W22/$W$10 -> 0 | Y22: 0 | AA22: 0 | AC22: 0 | AE22: 0.9995 | AF22: =100%-AE22 -> 0.0005 | AG22: =((U22)*AE22)+Y22+AA22+AC22 -> 38620.68 | AH22: =AG22/$AG$10 -> 6.7794818 | AI22: =(U22)*AF22 -> 19.32 | AJ22: =AI22/$AI$10 -> 0.00036889264
A23: N (org) (g) | B23: =B19-B20 -> 1.0894737 | C23: =C24+C25 -> 175405.26 | D23: =C23/C10 -> 1.0894737 | E23: =(I23/(C23)) -> 0.8612 | F23: =100%-E23 -> 0.1388 | G23: =G24+G25 -> 24346.251 | H23: =G23/$G$10 -> 0.25228079 | I23: =I24+I25 -> 151059.01 | J23: =I23/$I$10 -> 2.3421663 | K23: 0 | M23: 0 | O23: 0 | Q23: =(S23/(G23+O23)) -> 0.99 | R23: =100%-Q23 -> 0.01 | S23: =S24+S25 -> 24102.788 | T23: =S23/$S$10 -> 0.53559083 | U23: =U24+U25 -> 243.46251 | V23: =U23/$U$10 -> 0.0046119316 | W23: =W24+W25 -> 0 | X23: =W23/$W$10 -> 0 | Y23: 0 | AA23: 0 | AC23: 0 | AE23: =(AG23/(U23)) -> 0.99048991 | AF23: =100%-AE23 -> 0.0095100865 | AG23: =AG24+AG25 -> 241.14716 | AH23: =AG23/$AG$10 -> 0.042331019 | AI23: =AI24+AI25 -> 2.3153495 | AJ23: =AI23/$AI$10 -> 4.4208871e-05
A24: N (org, susp) (g) | C24: =D24*C10 -> 59637.789 | D24: =0.34*B23 -> 0.37042105 | E24: 0.02 | F24: =100%-E24 -> 0.98 | G24: =($C24)*E24 -> 1192.7558 | H24: =G24/$G$10 -> 0.012359578 | I24: =($C24)*F24 -> 58445.034 | J24: =I24/$I$10 -> 0.90618883 | K24: 0 | M24: 0 | O24: 0 | Q24: 0.99 | R24: =100%-Q24 -> 0.01 | S24: =(G24+O24)*Q24 -> 1180.8282 | T24: =S24/$S$10 -> 0.02623932 | U24: =(G24+O24)*R24 -> 11.927558 | V24: =U24/$U$10 -> 0.00022594477 | W24: =(K24+M24) -> 0 | X24: =W24/$W$10 -> 0 | Y24: 0 | AA24: 0 | AC24: 0 | AE24: 1 | AF24: =100%-AE24 -> 0 | AG24: =((U24)*AE24)+Y24+AA24+AC24 -> 11.927558 | AH24: =AG24/$AG$10 -> 0.0020937659 | AI24: =(U24)*AF24 -> 0 | AJ24: =AI24/$AI$10 -> 0
A25: N (org, diss) (g) | C25: =D25*C10 -> 115767.47 | D25: =0.66*B23 -> 0.71905263 | E25: 0.2 | F25: =100%-E25 -> 0.8 | G25: =($C25)*E25 -> 23153.495 | H25: =G25/$G$10 -> 0.23992121 | I25: =($C25)*F25 -> 92613.979 | J25: =I25/$I$10 -> 1.4359775 | K25: 0 | M25: 0 | O25: 0 | Q25: 0.99 | R25: =100%-Q25 -> 0.01 | S25: =(G25+O25)*Q25 -> 22921.96 | T25: =S25/$S$10 -> 0.50935151 | U25: =(G25+O25)*R25 -> 231.53495 | V25: =U25/$U$10 -> 0.0043859868 | W25: =(K25+M25) -> 0 | X25: =W25/$W$10 -> 0 | Y25: 0 | AA25: 0 | AC25: 0 | AE25: 0.99 | AF25: =100%-AE25 -> 0.01 | AG25: =((U25)*AE25)+Y25+AA25+AC25 -> 229.2196 | AH25: =AG25/$AG$10 -> 0.040237254 | AI25: =(U25)*AF25 -> 2.3153495 | AJ25: =AI25/$AI$10 -> 4.4208871e-05
A26: Ptotal (g) | B26: 0.3 | C26: =C27+C30 -> 48300 | D26: =C26/C10 -> 0.3 | E26: =(I26/(C26)) -> 0.82958 | F26: =100%-E26 -> 0.17042 | G26: =G27+G30 -> 8231.286 | H26: =G26/$G$10 -> 0.085294257 | I26: =I27+I30 -> 40068.714 | J26: =I26/$I$10 -> 0.62126444 | K26: 0 | M26: 0 | O26: 0 | Q26: =(S26/(G26+O26)) -> 0.98369088 | R26: =100%-Q26 -> 0.016309119 | S26: =S27+S30 -> 8097.041 | T26: =S26/$S$10 -> 0.17992528 | U26: =U27+U30 -> 134.24502 | V26: =U26/$U$10 -> 0.0025430152 | W26: =W27+W30 -> 0 | X26: =W26/$W$10 -> 0 | Y26: 0 | AA26: 0 | AC26: 0 | AE26: =(AG26/(U26)) -> 0.95297753 | AF26: =100%-AE26 -> 0.047022472 | AG26: =AG27+AG30 -> 127.93249 | AH26: =AG26/$AG$10 -> 0.022457294 | AI26: =AI27+AI30 -> 6.3125328 | AJ26: =AI26/$AI$10 -> 0.00012053038
A27: P (inorg) (g) | B27: =$B$26*0.08 -> 0.024 | C27: =C28+C29 -> 3864 | D27: =C27/C10 -> 0.024 | E27: =(I27/(C27)) -> 0.635 | F27: =100%-E27 -> 0.365 | G27: =G28+G29 -> 1410.36 | H27: =G27/$G$10 -> 0.014614437 | I27: =I28+I29 -> 2453.64 | J27: =I27/$I$10 -> 0.038043629 | K27: 0 | M27: 0 | O27: 0 | Q27: =(S27/(G27+O27)) -> 0.95317808 | R27: =100%-Q27 -> 0.046821918 | S27: =S28+S29 -> 1344.3242 | T27: =S27/$S$10 -> 0.029872384 | U27: =U28+U29 -> 66.03576 | V27: =U27/$U$10 -> 0.0012509212 | W27: =W28+W29 -> 0 | X27: =W27/$W$10 -> 0 | Y27: 0 | AA27: 0 | AC27: 0 | AE27: =(AG27/(U27)) -> 0.95084845 | AF27: =100%-AE27 -> 0.049151551 | AG27: =AG28+AG29 -> 62.79 | AH27: =AG27/$AG$10 -> 0.011022169 | AI27: =AI28+AI29 -> 3.24576 | AJ27: =AI27/$AI$10 -> 6.1973964e-05
A28: P (inorg, susp) (g) | B28: =B27*0.58 -> 0.01392 | C28: =D28*C10 -> 2241.12 | D28: =B28 -> 0.01392 | E28: 0.05 | F28: =100%-E28 -> 0.95 | G28: =($C28)*E28 -> 112.056 | H28: =G28/$G$10 -> 0.001161147 | I28: =($C28)*F28 -> 2129.064 | J28: =I28/$I$10 -> 0.033011086 | K28: 0 | M28: 0 | O28: 0 | Q28: 0.99 | R28: =100%-Q28 -> 0.01 | S28: =(G28+O28)*Q28 -> 110.93544 | T28: =S28/$S$10 -> 0.0024651092 | U28: =(G28+O28)*R28 -> 1.12056 | V28: =U28/$U$10 -> 2.1226866e-05 | W28: =(K28+M28) -> 0 | X28: =W28/$W$10 -> 0 | Y28: 0 | AA28: 0 | AC28: 0 | AE28: 1 | AF28: =100%-AE28 -> 0 | AG28: =((U28)*AE28)+Y28+AA28+AC28 -> 1.12056 | AH28: =AG28/$AG$10 -> 0.00019670332 | AI28: =(U28)*AF28 -> 0 | AJ28: =AI28/$AI$10 -> 0
A29: P (inorg, diss) (g) | B29: =B27*0.42 -> 0.01008 | C29: =D29*C10 -> 1622.88 | D29: =B29 -> 0.01008 | E29: 0.8 | F29: =100%-E29 -> 0.2 | G29: =($C29)*E29 -> 1298.304 | H29: =G29/$G$10 -> 0.01345329 | I29: =($C29)*F29 -> 324.576 | J29: =I29/$I$10 -> 0.005032543 | K29: 0 | M29: 0 | O29: 0 | Q29: 0.95 | R29: =100%-Q29 -> 0.05 | S29: =(G29+O29)*Q29 -> 1233.3888 | T29: =S29/$S$10 -> 0.027407275 | U29: =(G29+O29)*R29 -> 64.9152 | V29: =U29/$U$10 -> 0.0012296943 | W29: =(K29+M29) -> 0 | X29: =W29/$W$10 -> 0 | Y29: 0 | AA29: 0 | AC29: 0 | AE29: 0.95 | AF29: =100%-AE29 -> 0.05 | AG29: =((U29)*AE29)+Y29+AA29+AC29 -> 61.66944 | AH29: =AG29/$AG$10 -> 0.010825466 | AI29: =(U29)*AF29 -> 3.24576 | AJ29: =AI29/$AI$10 -> 6.1973964e-05
A30: P (org) (g) | B30: =$B$26*0.92 -> 0.276 | C30: =C31+C32 -> 44436 | D30: =C30/C10 -> 0.276 | E30: =(I30/(C30)) -> 0.8465 | F30: =100%-E30 -> 0.1535 | G30: =G31+G32 -> 6820.926 | H30: =G30/$G$10 -> 0.07067982 | I30: =I31+I32 -> 37615.074 | J30: =I30/$I$10 -> 0.58322081 | K30: 0 | M30: 0 | O30: 0 | Q30: =(S30/(G30+O30)) -> 0.99 | R30: =100%-Q30 -> 0.01 | S30: =S31+S32 -> 6752.7167 | T30: =S30/$S$10 -> 0.1500529 | U30: =U31+U32 -> 68.20926 | V30: =U30/$U$10 -> 0.001292094 | W30: =W31+W32 -> 0 | X30: =W30/$W$10 -> 0 | Y30: 0 | AA30: 0 | AC30: 0 | AE30: =(AG30/(U30)) -> 0.95503876 | AF30: =100%-AE30 -> 0.044961238 | AG30: =AG31+AG32 -> 65.142487 | AH30: =AG30/$AG$10 -> 0.011435125 | AI30: =AI31+AI32 -> 3.0667728 | AJ30: =AI30/$AI$10 -> 5.8556413e-05
A31: P (org, susp) (g) | B31: =B30*0.31 -> 0.08556 | C31: =D31*C10 -> 13775.16 | D31: =B31 -> 0.08556 | E31: 0.05 | F31: =100%-E31 -> 0.95 | G31: =($C31)*E31 -> 688.758 | H31: =G31/$G$10 -> 0.0071370502 | I31: =($C31)*F31 -> 13086.402 | J31: =I31/$I$10 -> 0.20290435 | K31: 0 | M31: 0 | O31: 0 | Q31: 0.99 | R31: =100%-Q31 -> 0.01 | S31: =(G31+O31)*Q31 -> 681.87042 | T31: =S31/$S$10 -> 0.015151921 | U31: =(G31+O31)*R31 -> 6.88758 | V31: =U31/$U$10 -> 0.00013047203 | W31: =(K31+M31) -> 0 | X31: =W31/$W$10 -> 0 | Y31: 0 | AA31: 0 | AC31: 0 | AE31: 0.9999 | AF31: =100%-AE31 -> 0.0001 | AG31: =((U31)*AE31)+Y31+AA31+AC31 -> 6.8868912 | AH31: =AG31/$AG$10 -> 0.0012089263 | AI31: =(U31)*AF31 -> 0.000688758 | AJ31: =AI31/$AI$10 -> 1.3151023e-08
A32: P (org, diss) (g) | B32: =B30*0.69 -> 0.19044 | C32: =D32*C10 -> 30660.84 | D32: =B32 -> 0.19044 | E32: 0.2 | F32: =100%-E32 -> 0.8 | G32: =($C32)*E32 -> 6132.168 | H32: =G32/$G$10 -> 0.06354277 | I32: =($C32)*F32 -> 24528.672 | J32: =I32/$I$10 -> 0.38031647 | K32: 0 | M32: 0 | O32: 0 | Q32: 0.99 | R32: =100%-Q32 -> 0.01 | S32: =(G32+O32)*Q32 -> 6070.8463 | T32: =S32/$S$10 -> 0.13490098 | U32: =(G32+O32)*R32 -> 61.32168 | V32: =U32/$U$10 -> 0.001161622 | W32: =(K32+M32) -> 0 | X32: =W32/$W$10 -> 0 | Y32: 0 | AA32: 0 | AC32: 0 | AE32: 0.95 | AF32: =100%-AE32 -> 0.05 | AG32: =((U32)*AE32)+Y32+AA32+AC32 -> 58.255596 | AH32: =AG32/$AG$10 -> 0.010226199 | AI32: =(U32)*AF32 -> 3.066084 | AJ32: =AI32/$AI$10 -> 5.8543262e-05
A33: K total (g) | B33: 4.1 | C33: =C34 -> 660100 | D33: =C33/C10 -> 4.1 | E33: =(I33/(C33)) -> 0.442 | F33: =100%-E33 -> 0.558 | G33: =G34 -> 368335.8 | H33: =G33/$G$10 -> 3.8167703 | I33: =I34 -> 291764.2 | J33: =I33/$I$10 -> 4.5237969 | K33: 0 | M33: 0 | O33: 0 | Q33: =(S33/(G33+O33)) -> 0.95376344 | R33: =100%-Q33 -> 0.046236559 | S33: =S34 -> 351305.22 | T33: =S33/$S$10 -> 7.8063938 | U33: =U34 -> 17030.58 | V33: =U33/$U$10 -> 0.32261177 | W33: =W34 -> 0 | X33: =W33/$W$10 -> 0 | Y33: 0 | AA33: 0 | AC33: 0 | AE33: =(AG33/(U33)) -> 0.9997 | AF33: =100%-AE33 -> 0.0003 | AG33: =AG34 -> 17025.471 | AH33: =AG33/$AG$10 -> 2.9886545 | AI33: =AI34 -> 5.109174 | AJ33: =AI33/$AI$10 -> 9.7553659e-05
A34: K (inorg) (g) | C34: =C35+C36 -> 660100 | D34: =C34/C10 -> 4.1 | E34: =(I34/(C34)) -> 0.442 | F34: =100%-E34 -> 0.558 | G34: =G35+G36 -> 368335.8 | H34: =G34/$G$10 -> 3.8167703 | I34: =I35+I36 -> 291764.2 | J34: =I34/$I$10 -> 4.5237969 | K34: 0 | M34: 0 | O34: 0 | Q34: =(S34/(G34+O34)) -> 0.95376344 | R34: =100%-Q34 -> 0.046236559 | S34: =S35+S36 -> 351305.22 | T34: =S34/$S$10 -> 7.8063938 | U34: =U35+U36 -> 17030.58 | V34: =U34/$U$10 -> 0.32261177 | W34: =W35+W36 -> 0 | X34: =W34/$W$10 -> 0 | Y34: 0 | AA34: 0 | AC34: 0 | AE34: =(AG34/(U34)) -> 0.9997 | AF34: =100%-AE34 -> 0.0003 | AG34: =AG35+AG36 -> 17025.471 | AH34: =AG34/$AG$10 -> 2.9886545 | AI34: =AI35+AI36 -> 5.109174 | AJ34: =AI34/$AI$10 -> 9.7553659e-05
A35: K (inorg, susp) (g) | C35: =D35*C10 -> 92414 | D35: =0.14*B33 -> 0.574 | E35: 0.3 | F35: =100%-E35 -> 0.7 | G35: =($C35)*E35 -> 27724.2 | H35: =G35/$G$10 -> 0.28728379 | I35: =($C35)*F35 -> 64689.8 | J35: =I35/$I$10 -> 1.0030138 | K35: 0 | M35: 0 | O35: 0 | Q35: 1 | R35: =100%-Q35 -> 0 | S35: =(G35+O35)*Q35 -> 27724.2 | T35: =S35/$S$10 -> 0.61606264 | U35: =(G35+O35)*R35 -> 0 | V35: =U35/$U$10 -> 0 | W35: =(K35+M35) -> 0 | X35: =W35/$W$10 -> 0 | Y35: 0 | AA35: 0 | AC35: 0 | AE35: 1 | AF35: =100%-AE35 -> 0 | AG35: =((U35)*AE35)+Y35+AA35+AC35 -> 0 | AH35: =AG35/$AG$10 -> 0 | AI35: =(U35)*AF35 -> 0 | AJ35: =AI35/$AI$10 -> 0
A36: K (inorg, diss) (g) | C36: =D36*C10 -> 567686 | D36: =0.86*B33 -> 3.526 | E36: 0.6 | F36: =100%-E36 -> 0.4 | G36: =($C36)*E36 -> 340611.6 | H36: =G36/$G$10 -> 3.5294865 | I36: =($C36)*F36 -> 227074.4 | J36: =I36/$I$10 -> 3.5207831 | K36: 0 | M36: 0 | O36: 0 | Q36: 0.95 | R36: =100%-Q36 -> 0.05 | S36: =(G36+O36)*Q36 -> 323581.02 | T36: =S36/$S$10 -> 7.1903311 | U36: =(G36+O36)*R36 -> 17030.58 | V36: =U36/$U$10 -> 0.32261177 | W36: =(K36+M36) -> 0 | X36: =W36/$W$10 -> 0 | Y36: 0 | AA36: 0 | AC36: 0 | AE36: 0.9997 | AF36: =100%-AE36 -> 0.0003 | AG36: =((U36)*AE36)+Y36+AA36+AC36 -> 17025.471 | AH36: =AG36/$AG$10 -> 2.9886545 | AI36: =(U36)*AF36 -> 5.109174 | AJ36: =AI36/$AI$10 -> 9.7553659e-05

Sheet Dryer
A1: Fluidized bed dryer | B1: Fill in boxes | C1: Input | E1: Drying | G1: Dried product | I1: water vapour
B2: Composition input (e.g. solid fraction of digestate) | C2: Mass | D2: Calculated concentration | E2: Recovery rate (%) to dried product | F2: Recovery rate (%) to water vapour | G2: mass | H2: concentration | I2: mass | J2: concentration
D3: g/kg | H3: g/kg | J3: g/kg
A4: mass (kg/year) | B4: 1000 | C4: =B4 -> 1000 | E4: =(G4/(C4)) -> 0.21439883 | F4: =100%-E4 -> 0.78560117 | G4: =(G5+G6)/1000 -> 214.39883 | I4: =(I5+I6)/1000 -> 785.60117
A5: Water (g) | C5: =(C4*1000)-C6 -> 769000 | E5: 0.05 | F5: =100%-E5 -> 0.95 | G5: =($C5)*E5 -> 38450 | H5: =G5/$G$4 -> 179.33866 | I5: =($C5)*F5 -> 730550 | J5: =I5/$I$4 -> 929.92479
A6: Total DM (g) | B6: 231 | C6: =C7+C10 -> 231000 | D6: =C6/C4 -> 231 | E6: =(G6/(C6)) -> 0.76168326 | F6: =100%-E6 -> 0.23831674 | G6: =G7+G10 -> 175948.83 | H6: =G6/$G$4 -> 820.66134 | I6: =I7+I10 -> 55051.167 | J6: =I6/$I$4 -> 70.07521
A7: DM (inorg) (g) | B7: =B6-B10 -> 71 | C7: =C8+C9 -> 71000 | D7: =C7/C4 -> 71 | E7: =(G7/(C7)) -> 0.55139202 | F7: =100%-E7 -> 0.44860798 | G7: =G8+G9 -> 39148.833 | H7: =G7/$G$4 -> 182.59816 | I7: =I8+I9 -> 31851.167 | J7: =I7/$I$4 -> 40.543686
A8: DM (inorg, susp) (g) | B8: =B15+B22+B25+0.156+0.095+0.72+1.6+0.11 -> 7.2976667 | C8: =D8*C4 -> 7297.6667 | D8: =B8 -> 7.2976667 | E8: 1 | F8: =100%-E8 -> 0 | G8: =($C8)*E8 -> 7297.6667 | H8: =G8/$G$4 -> 34.03781 | I8: =($C8)*F8 -> 0 | J8: =I8/$I$4 -> 0
A9: DM (inorg, diss) (g) | B9: =B7-B8 -> 63.702333 | C9: =D9*C4 -> 63702.333 | D9: =B9 -> 63.702333 | E9: 0.5 | F9: =100%-E9 -> 0.5 | G9: =($C9)*E9 -> 31851.167 | H9: =G9/$G$4 -> 148.56035 | I9: =($C9)*F9 -> 31851.167 | J9: =I9/$I$4 -> 40.543686
